Workbook

Sheet Финансов отчет по партньори
B2: Бюджетна модификация: | C2: Не | D2: =IF(C2="Да","('Попълнете одобрения актуализиран бюджет на редове 25-40)).","")
B5: Прогнозен одобрен бюджет на проекта по работни пакети (РП) и партньори (в EUR)
A6: ESTIMATED APPROVED INITIAL BUDGET | C6: Общo Консорциум | D6: Абревиатура ВБ | E6: Абревиатура П1 | F6: Абревиатура П2 | G6: Абревиатура П3 | H6: Абревиатура П4 | I6: Абревиатура П5 | J6: Абревиатура П6 | K6: Абревиатура П7 | L6: Абревиатура П8
D7: ВК | E7: П1 | F7: П2 | G7: П3 | H7: П4 | I7: ВК | J7: П5 | K7: П6 | L7: ВК
A8: РП1 | B8: [Въведете име на работен пакет 1] | C8: =SUM(D8:L8) -> 0
A9: РП2 | B9: [Въведете име на работен пакет 2] | C9: =SUM(D9:L9) -> 0
A10: РП3 | B10: [Въведете име на работен пакет 3] | C10: =SUM(D10:L10) -> 0
A11: РП4 | B11: [Въведете име на работен пакет 4] | C11: =SUM(D11:L11) -> 0
A12: РП5 | B12: [Въведете име на работен пакет 5 - ако е приложимо] | C12: =SUM(D12:L12) -> 0
A13: РП6 | B13: [Въведете име на работен пакет 6 - ако е приложимо] | C13: =SUM(D13:L13) -> 0
A14: РП7 | B14: [Въведете име на работен пакет 7 - ако е приложимо] | C14: =SUM(D14:L14) -> 0
A15: РП8 | B15: [Въведете име на работен пакет 8 - ако е приложимо] | C15: =SUM(D15:L15) -> 0
B16: ПРЕКИ РАЗХОДИ | C16: =SUM(D16:L16) -> 0 | D16: =D8+D9+D10+D11+D12+D13+D14+D15 -> 0 | E16: =E8+E9+E10+E11+E12+E13+E14+E15 -> 0 | F16: =F8+F9+F10+F11+F12+F13+F14+F15 -> 0 | G16: =G8+G9+G10+G11+G12+G13+G14+G15 -> 0 | H16: =H8+H9+H10+H11+H12+H13+H14+H15 -> 0 | I16: =I8+I9+I10+I11+I12+I13+I14+I15 -> 0 | J16: =J8+J9+J10+J11+J12+J13+J14+J15 -> 0 | K16: =K8+K9+K10+K11+K12+K13+K14+K15 -> 0 | L16: =L8+L9+L10+L11+L12+L13+L14+L15 -> 0
A17: G | B17: Непреки разходи | C17: =SUM(D17:L17) -> 0 | D17: =D18+D19 -> 0 | E17: =E18+E19 -> 0 | F17: =F18+F19 -> 0 | G17: =G18+G19 -> 0 | H17: =H18+H19 -> 0 | I17: =I18+I19 -> 0 | J17: =J18+J19 -> 0 | K17: =K18+K19 -> 0 | L17: =L18+L19 -> 0
A18: G1 | B18: Административни разходи (10%) | C18: =0.1*C16 -> 0 | D18: =0.1*D16 -> 0 | E18: =0.1*E16 -> 0 | F18: =0.1*F16 -> 0 | G18: =0.1*G16 -> 0 | H18: =0.1*H16 -> 0 | I18: =0.1*I16 -> 0 | J18: =0.1*J16 -> 0 | ... L18: =0.1*L16 -> 0
A19: G2 | B19: Разходи за изграждане на организационен капацитет и развитие (до 15%) | C19: =SUM(D19:L19) -> 0
B20: Съотношение G2/Преки разходи | C20: =C19/C16 -> #DIV/0! | D20: =D19/D16 -> #DIV/0! | E20: =E19/E16 -> #DIV/0! | F20: =F19/F16 -> #DIV/0! | G20: =G19/G16 -> #DIV/0! | H20: =H19/H16 -> #DIV/0! | I20: =I19/I16 -> #DIV/0! | J20: =J19/J16 -> #DIV/0! | ... L20: =L19/L16 -> #DIV/0!
B21: ОБЩО РАЗХОДИ | C21: =C16+C17 -> 0 | D21: =D16+D17 -> 0 | E21: =E16+E17 -> 0 | F21: =F16+F17 -> 0 | G21: =G16+G17 -> 0 | H21: =H16+H17 -> 0 | I21: =I16+I17 -> 0 | J21: =J16+J17 -> 0 | ... L21: =L16+L17 -> 0
A25: ОДОБРЕН АКТУАЛИЗИРАН БЮДЖЕТ (в случай, че има бюджетна модификация, одобрена от ПО) | C25: =C6 -> Общo Консорциум | D25: =D6 -> Абревиатура ВБ | E25: =E6 -> Абревиатура П1 | F25: =F6 -> Абревиатура П2 | G25: =G6 -> Абревиатура П3 | H25: =H6 -> Абревиатура П4 | I25: =I6 -> Абревиатура П5 | J25: =J6 -> Абревиатура П6 | ... L25: =L6 -> Абревиатура П8
D26: ВБ | E26: П1 | F26: П2 | G26: П3 | H26: П4 | I26: П5 | J26: П6 | K26: П7 | L26: П8
A27: =A8 -> РП1 | B27: =B8 -> [Въведете име на работен пакет 1] | C27: =SUM(D27:L27) -> 0 | D27: =D8 -> 0 | E27: =E8 -> 0 | F27: =F8 -> 0 | G27: =G8 -> 0 | H27: =H8 -> 0 | I27: =I8 -> 0 | J27: =J8 -> 0 | K27: =K8 -> 0 | L27: =L8 -> 0
A28: =A9 -> РП2 | B28: =B9 -> [Въведете име на работен пакет 2] | C28: =SUM(D28:L28) -> 0 | D28: =D9 -> 0 | E28: =E9 -> 0 | F28: =F9 -> 0 | G28: =G9 -> 0 | H28: =H9 -> 0 | I28: =I9 -> 0 | J28: =J9 -> 0 | K28: =K9 -> 0 | L28: =L9 -> 0
A29: =A10 -> РП3 | B29: =B10 -> [Въведете име на работен пакет 3] | C29: =SUM(D29:L29) -> 0 | D29: =D10 -> 0 | E29: =E10 -> 0 | F29: =F10 -> 0 | G29: =G10 -> 0 | H29: =H10 -> 0 | I29: =I10 -> 0 | J29: =J10 -> 0 | K29: =K10 -> 0 | L29: =L10 -> 0
A30: =A11 -> РП4 | B30: =B11 -> [Въведете име на работен пакет 4] | C30: =SUM(D30:L30) -> 0 | D30: =D11 -> 0 | E30: =E11 -> 0 | F30: =F11 -> 0 | G30: =G11 -> 0 | H30: =H11 -> 0 | I30: =I11 -> 0 | J30: =J11 -> 0 | K30: =K11 -> 0 | L30: =L11 -> 0
A31: =A12 -> РП5 | B31: =B12 -> [Въведете име на работен пакет 5 - ако е приложимо] | C31: =SUM(D31:L31) -> 0 | D31: =D12 -> 0 | E31: =E12 -> 0 | F31: =F12 -> 0 | G31: =G12 -> 0 | H31: =H12 -> 0 | I31: =I12 -> 0 | J31: =J12 -> 0 | K31: =K12 -> 0 | L31: =L12 -> 0
A32: =A13 -> РП6 | B32: =B13 -> [Въведете име на работен пакет 6 - ако е приложимо] | C32: =SUM(D32:L32) -> 0 | D32: =D13 -> 0 | E32: =E13 -> 0 | F32: =F13 -> 0 | G32: =G13 -> 0 | H32: =H13 -> 0 | I32: =I13 -> 0 | J32: =J13 -> 0 | K32: =K13 -> 0 | L32: =L13 -> 0
A33: =A14 -> РП7 | B33: =B14 -> [Въведете име на работен пакет 7 - ако е приложимо] | C33: =SUM(D33:L33) -> 0 | D33: =D14 -> 0 | E33: =E14 -> 0 | F33: =F14 -> 0 | G33: =G14 -> 0 | H33: =H14 -> 0 | I33: =I14 -> 0 | J33: =J14 -> 0 | K33: =K14 -> 0 | L33: =L14 -> 0
A34: =A15 -> РП8 | B34: =B15 -> [Въведете име на работен пакет 8 - ако е приложимо] | C34: =SUM(D34:L34) -> 0 | D34: =D15 -> 0 | E34: =E15 -> 0 | F34: =F15 -> 0 | G34: =G15 -> 0 | H34: =H15 -> 0 | I34: =I15 -> 0 | J34: =J15 -> 0 | K34: =K15 -> 0 | L34: =L15 -> 0
B35: =B16 -> ПРЕКИ РАЗХОДИ | C35: =SUM(D35:L35) -> 0 | D35: =D27+D28+D29+D30+D31+D32+D33+D34 -> 0 | E35: =E27+E28+E29+E30+E31+E32+E33+E34 -> 0 | F35: =F27+F28+F29+F30+F31+F32+F33+F34 -> 0 | G35: =G27+G28+G29+G30+G31+G32+G33+G34 -> 0 | H35: =H27+H28+H29+H30+H31+H32+H33+H34 -> 0 | I35: =I27+I28+I29+I30+I31+I32+I33+I34 -> 0 | J35: =J27+J28+J29+J30+J31+J32+J33+J34 -> 0 | K35: =K27+K28+K29+K30+K31+K32+K33+K34 -> 0 | L35: =L27+L28+L29+L30+L31+L32+L33+L34 -> 0
A36: G | B36: =B17 -> Непреки разходи | C36: =SUM(D36:L36) -> 0 | D36: =D37+D38 -> 0 | E36: =E37+E38 -> 0 | F36: =F37+F38 -> 0 | G36: =G37+G38 -> 0 | H36: =H37+H38 -> 0 | I36: =I37+I38 -> 0 | J36: =J37+J38 -> 0 | K36: =K37+K38 -> 0 | L36: =L37+L38 -> 0
A37: G1 | B37: =B18 -> Административни разходи (10%) | D37: =0.1*D35 -> 0 | E37: =0.1*E35 -> 0 | F37: =0.1*F35 -> 0 | G37: =0.1*G35 -> 0 | H37: =0.1*H35 -> 0 | I37: =0.1*I35 -> 0 | J37: =0.1*J35 -> 0 | K37: =0.1*K35 -> 0 | L37: =0.1*L35 -> 0
A38: G2 | B38: =B19 -> Разходи за изграждане на организационен капацитет и развитие (до 15%) | C38: =SUM(D38:L38) -> 0 | D38: =D19 -> 0 | E38: =E19 -> 0 | F38: =F19 -> 0 | G38: =G19 -> 0 | H38: =H19 -> 0 | I38: =I19 -> 0 | J38: =J19 -> 0 | K38: =K19 -> 0 | L38: =L19 -> 0
B39: =B20 -> Съотношение G2/Преки разходи | C39: =C38/C35 -> #DIV/0! | D39: =D38/D35 -> #DIV/0! | E39: =E38/E35 -> #DIV/0! | F39: =F38/F35 -> #DIV/0! | G39: =G38/G35 -> #DIV/0! | H39: =H38/H35 -> #DIV/0! | I39: =I38/I35 -> #DIV/0! | J39: =J38/J35 -> #DIV/0! | ... L39: =L38/L35 -> #DIV/0!
B40: =B21 -> ОБЩО РАЗХОДИ | C40: =C35+C36 -> 0 | D40: =D35+D36 -> 0 | E40: =E35+E36 -> 0 | F40: =F35+F36 -> 0 | G40: =G35+G36 -> 0 | H40: =H35+H36 -> 0 | I40: =I35+I36 -> 0 | J40: =J35+J36 -> 0 | ... L40: =L35+L36 -> 0
C44: (Напишете номера на отчетния период!)
B45: Отчет по РП и партньори (за отчетния период, в EUR) | D45: От | F45: (актуална дата!) | G45: от: | I45: до:
C47: =C6 -> Общo Консорциум | D47: =D6 -> Абревиатура ВБ | E47: =E6 -> Абревиатура П1 | F47: =F6 -> Абревиатура П2 | G47: =G6 -> Абревиатура П3 | H47: =H6 -> Абревиатура П4 | I47: =I6 -> Абревиатура П5 | J47: =J6 -> Абревиатура П6 | ... L47: =L6 -> Абревиатура П8
D48: =D26 -> ВБ | E48: =E26 -> П1 | F48: =F26 -> П2 | G48: =G26 -> П3 | H48: =H26 -> П4 | I48: =I26 -> П5 | J48: =J26 -> П6 | K48: =K26 -> П7 | L48: =L26 -> П8
A49: =A8 -> РП1 | B49: =B8 -> [Въведете име на работен пакет 1] | C49: =SUM(D49:L49) -> 0 | D49: =SUMIFS(Table217[Общо (EUR)],Table217[Бенефициер (абревиатура)],'Финансов отчет по партньори'!D$47,Table217[РП №],'Финансов отчет по партньори'!$A49,Table217[Отчетен период],'Финансов отчет по партньори'!$C$45) -> 0 | E49: =SUMIFS(Table217[Общо (EUR)],Table217[Бенефициер (абревиатура)],'Финансов отчет по партньори'!E$47,Table217[РП №],'Финансов отчет по партньори'!$A49,Table217[Отчетен период],'Финансов отчет по партньори'!$C$45) -> 0 | F49: =SUMIFS(Table217[Общо (EUR)],Table217[Бенефициер (абревиатура)],'Финансов отчет по партньори'!F$47,Table217[РП №],'Финансов отчет по партньори'!$A49,Table217[Отчетен период],'Финансов отчет по партньори'!$C$45) -> 0 | G49: =SUMIFS(Table217[Общо (EUR)],Table217[Бенефициер (абревиатура)],'Финансов отчет по партньори'!G$47,Table217[РП №],'Финансов отчет по партньори'!$A49,Table217[Отчетен период],'Финансов отчет по партньори'!$C$45) -> 0 | H49: =SUMIFS(Table217[Общо (EUR)],Table217[Бенефициер (абревиатура)],'Финансов отчет по партньори'!H$47,Table217[РП №],'Финансов отчет по партньори'!$A49,Table217[Отчетен период],'Финансов отчет по партньори'!$C$45) -> 0 | I49: =SUMIFS(Table217[Общо (EUR)],Table217[Бенефициер (абревиатура)],'Финансов отчет по партньори'!I$47,Table217[РП №],'Финансов отчет по партньори'!$A49,Table217[Отчетен период],'Финансов отчет по партньори'!$C$45) -> 0 | J49: =SUMIFS(Table217[Общо (EUR)],Table217[Бенефициер (абревиатура)],'Финансов отчет по партньори'!J$47,Table217[РП №],'Финансов отчет по партньори'!$A49,Table217[Отчетен период],'Финансов отчет по партньори'!$C$45) -> 0 | K49: =SUMIFS(Table217[Общо (EUR)],Table217[Бенефициер (абревиатура)],'Финансов отчет по партньори'!K$47,Table217[РП №],'Финансов отчет по партньори'!$A49,Table217[Отчетен период],'Финансов отчет по партньори'!$C$45) -> 0 | L49: =SUMIFS(Table217[Общо (EUR)],Table217[Бенефициер (абревиатура)],'Финансов отчет по партньори'!L$47,Table217[РП №],'Финансов отчет по партньори'!$A49,Table217[Отчетен период],'Финансов отчет по партньори'!$C$45) -> 0
A50: =A9 -> РП2 | B50: =B9 -> [Въведете име на работен пакет 2] | C50: =SUM(D50:L50) -> 0 | D50: =SUMIFS(Table217[Общо (EUR)],Table217[Бенефициер (абревиатура)],'Финансов отчет по партньори'!D$47,Table217[РП №],'Финансов отчет по партньори'!$A50,Table217[Отчетен период],'Финансов отчет по партньори'!$C$45) -> 0 | E50: =SUMIFS(Table217[Общо (EUR)],Table217[Бенефициер (абревиатура)],'Финансов отчет по партньори'!E$47,Table217[РП №],'Финансов отчет по партньори'!$A50,Table217[Отчетен период],'Финансов отчет по партньори'!$C$45) -> 0 | F50: =SUMIFS(Table217[Общо (EUR)],Table217[Бенефициер (абревиатура)],'Финансов отчет по партньори'!F$47,Table217[РП №],'Финансов отчет по партньори'!$A50,Table217[Отчетен период],'Финансов отчет по партньори'!$C$45) -> 0 | G50: =SUMIFS(Table217[Общо (EUR)],Table217[Бенефициер (абревиатура)],'Финансов отчет по партньори'!G$47,Table217[РП №],'Финансов отчет по партньори'!$A50,Table217[Отчетен период],'Финансов отчет по партньори'!$C$45) -> 0 | H50: =SUMIFS(Table217[Общо (EUR)],Table217[Бенефициер (абревиатура)],'Финансов отчет по партньори'!H$47,Table217[РП №],'Финансов отчет по партньори'!$A50,Table217[Отчетен период],'Финансов отчет по партньори'!$C$45) -> 0 | I50: =SUMIFS(Table217[Общо (EUR)],Table217[Бенефициер (абревиатура)],'Финансов отчет по партньори'!I$47,Table217[РП №],'Финансов отчет по партньори'!$A50,Table217[Отчетен период],'Финансов отчет по партньори'!$C$45) -> 0 | J50: =SUMIFS(Table217[Общо (EUR)],Table217[Бенефициер (абревиатура)],'Финансов отчет по партньори'!J$47,Table217[РП №],'Финансов отчет по партньори'!$A50,Table217[Отчетен период],'Финансов отчет по партньори'!$C$45) -> 0 | K50: =SUMIFS(Table217[Общо (EUR)],Table217[Бенефициер (абревиатура)],'Финансов отчет по партньори'!K$47,Table217[РП №],'Финансов отчет по партньори'!$A50,Table217[Отчетен период],'Финансов отчет по партньори'!$C$45) -> 0 | L50: =SUMIFS(Table217[Общо (EUR)],Table217[Бенефициер (абревиатура)],'Финансов отчет по партньори'!L$47,Table217[РП №],'Финансов отчет по партньори'!$A50,Table217[Отчетен период],'Финансов отчет по партньори'!$C$45) -> 0
A51: =A10 -> РП3 | B51: =B10 -> [Въведете име на работен пакет 3] | C51: =SUM(D51:L51) -> 0 | D51: =SUMIFS(Table217[Общо (EUR)],Table217[Бенефициер (абревиатура)],'Финансов отчет по партньори'!D$47,Table217[РП №],'Финансов отчет по партньори'!$A51,Table217[Отчетен период],'Финансов отчет по партньори'!$C$45) -> 0 | E51: =SUMIFS(Table217[Общо (EUR)],Table217[Бенефициер (абревиатура)],'Финансов отчет по партньори'!E$47,Table217[РП №],'Финансов отчет по партньори'!$A51,Table217[Отчетен период],'Финансов отчет по партньори'!$C$45) -> 0 | F51: =SUMIFS(Table217[Общо (EUR)],Table217[Бенефициер (абревиатура)],'Финансов отчет по партньори'!F$47,Table217[РП №],'Финансов отчет по партньори'!$A51,Table217[Отчетен период],'Финансов отчет по партньори'!$C$45) -> 0 | G51: =SUMIFS(Table217[Общо (EUR)],Table217[Бенефициер (абревиатура)],'Финансов отчет по партньори'!G$47,Table217[РП №],'Финансов отчет по партньори'!$A51,Table217[Отчетен период],'Финансов отчет по партньори'!$C$45) -> 0 | H51: =SUMIFS(Table217[Общо (EUR)],Table217[Бенефициер (абревиатура)],'Финансов отчет по партньори'!H$47,Table217[РП №],'Финансов отчет по партньори'!$A51,Table217[Отчетен период],'Финансов отчет по партньори'!$C$45) -> 0 | I51: =SUMIFS(Table217[Общо (EUR)],Table217[Бенефициер (абревиатура)],'Финансов отчет по партньори'!I$47,Table217[РП №],'Финансов отчет по партньори'!$A51,Table217[Отчетен период],'Финансов отчет по партньори'!$C$45) -> 0 | J51: =SUMIFS(Table217[Общо (EUR)],Table217[Бенефициер (абревиатура)],'Финансов отчет по партньори'!J$47,Table217[РП №],'Финансов отчет по партньори'!$A51,Table217[Отчетен период],'Финансов отчет по партньори'!$C$45) -> 0 | K51: =SUMIFS(Table217[Общо (EUR)],Table217[Бенефициер (абревиатура)],'Финансов отчет по партньори'!K$47,Table217[РП №],'Финансов отчет по партньори'!$A51,Table217[Отчетен период],'Финансов отчет по партньори'!$C$45) -> 0 | L51: =SUMIFS(Table217[Общо (EUR)],Table217[Бенефициер (абревиатура)],'Финансов отчет по партньори'!L$47,Table217[РП №],'Финансов отчет по партньори'!$A51,Table217[Отчетен период],'Финансов отчет по партньори'!$C$45) -> 0
A52: =A11 -> РП4 | B52: =B11 -> [Въведете име на работен пакет 4] | C52: =SUM(D52:L52) -> 0 | D52: =SUMIFS(Table217[Общо (EUR)],Table217[Бенефициер (абревиатура)],'Финансов отчет по партньори'!D$47,Table217[РП №],'Финансов отчет по партньори'!$A52,Table217[Отчетен период],'Финансов отчет по партньори'!$C$45) -> 0 | E52: =SUMIFS(Table217[Общо (EUR)],Table217[Бенефициер (абревиатура)],'Финансов отчет по партньори'!E$47,Table217[РП №],'Финансов отчет по партньори'!$A52,Table217[Отчетен период],'Финансов отчет по партньори'!$C$45) -> 0 | F52: =SUMIFS(Table217[Общо (EUR)],Table217[Бенефициер (абревиатура)],'Финансов отчет по партньори'!F$47,Table217[РП №],'Финансов отчет по партньори'!$A52,Table217[Отчетен период],'Финансов отчет по партньори'!$C$45) -> 0 | G52: =SUMIFS(Table217[Общо (EUR)],Table217[Бенефициер (абревиатура)],'Финансов отчет по партньори'!G$47,Table217[РП №],'Финансов отчет по партньори'!$A52,Table217[Отчетен период],'Финансов отчет по партньори'!$C$45) -> 0 | H52: =SUMIFS(Table217[Общо (EUR)],Table217[Бенефициер (абревиатура)],'Финансов отчет по партньори'!H$47,Table217[РП №],'Финансов отчет по партньори'!$A52,Table217[Отчетен период],'Финансов отчет по партньори'!$C$45) -> 0 | I52: =SUMIFS(Table217[Общо (EUR)],Table217[Бенефициер (абревиатура)],'Финансов отчет по партньори'!I$47,Table217[РП №],'Финансов отчет по партньори'!$A52,Table217[Отчетен период],'Финансов отчет по партньори'!$C$45) -> 0 | J52: =SUMIFS(Table217[Общо (EUR)],Table217[Бенефициер (абревиатура)],'Финансов отчет по партньори'!J$47,Table217[РП №],'Финансов отчет по партньори'!$A52,Table217[Отчетен период],'Финансов отчет по партньори'!$C$45) -> 0 | K52: =SUMIFS(Table217[Общо (EUR)],Table217[Бенефициер (абревиатура)],'Финансов отчет по партньори'!K$47,Table217[РП №],'Финансов отчет по партньори'!$A52,Table217[Отчетен период],'Финансов отчет по партньори'!$C$45) -> 0 | L52: =SUMIFS(Table217[Общо (EUR)],Table217[Бенефициер (абревиатура)],'Финансов отчет по партньори'!L$47,Table217[РП №],'Финансов отчет по партньори'!$A52,Table217[Отчетен период],'Финансов отчет по партньори'!$C$45) -> 0
A53: =A12 -> РП5 | B53: =B12 -> [Въведете име на работен пакет 5 - ако е приложимо] | C53: =SUM(D53:L53) -> 0 | D53: =SUMIFS(Table217[Общо (EUR)],Table217[Бенефициер (абревиатура)],'Финансов отчет по партньори'!D$47,Table217[РП №],'Финансов отчет по партньори'!$A53,Table217[Отчетен период],'Финансов отчет по партньори'!$C$45) -> 0 | E53: =SUMIFS(Table217[Общо (EUR)],Table217[Бенефициер (абревиатура)],'Финансов отчет по партньори'!E$47,Table217[РП №],'Финансов отчет по партньори'!$A53,Table217[Отчетен период],'Финансов отчет по партньори'!$C$45) -> 0 | F53: =SUMIFS(Table217[Общо (EUR)],Table217[Бенефициер (абревиатура)],'Финансов отчет по партньори'!F$47,Table217[РП №],'Финансов отчет по партньори'!$A53,Table217[Отчетен период],'Финансов отчет по партньори'!$C$45) -> 0 | G53: =SUMIFS(Table217[Общо (EUR)],Table217[Бенефициер (абревиатура)],'Финансов отчет по партньори'!G$47,Table217[РП №],'Финансов отчет по партньори'!$A53,Table217[Отчетен период],'Финансов отчет по партньори'!$C$45) -> 0 | H53: =SUMIFS(Table217[Общо (EUR)],Table217[Бенефициер (абревиатура)],'Финансов отчет по партньори'!H$47,Table217[РП №],'Финансов отчет по партньори'!$A53,Table217[Отчетен период],'Финансов отчет по партньори'!$C$45) -> 0 | I53: =SUMIFS(Table217[Общо (EUR)],Table217[Бенефициер (абревиатура)],'Финансов отчет по партньори'!I$47,Table217[РП №],'Финансов отчет по партньори'!$A53,Table217[Отчетен период],'Финансов отчет по партньори'!$C$45) -> 0 | J53: =SUMIFS(Table217[Общо (EUR)],Table217[Бенефициер (абревиатура)],'Финансов отчет по партньори'!J$47,Table217[РП №],'Финансов отчет по партньори'!$A53,Table217[Отчетен период],'Финансов отчет по партньори'!$C$45) -> 0 | K53: =SUMIFS(Table217[Общо (EUR)],Table217[Бенефициер (абревиатура)],'Финансов отчет по партньори'!K$47,Table217[РП №],'Финансов отчет по партньори'!$A53,Table217[Отчетен период],'Финансов отчет по партньори'!$C$45) -> 0 | L53: =SUMIFS(Table217[Общо (EUR)],Table217[Бенефициер (абревиатура)],'Финансов отчет по партньори'!L$47,Table217[РП №],'Финансов отчет по партньори'!$A53,Table217[Отчетен период],'Финансов отчет по партньори'!$C$45) -> 0
A54: =A13 -> РП6 | B54: =B13 -> [Въведете име на работен пакет 6 - ако е приложимо] | C54: =SUM(D54:L54) -> 0 | D54: =SUMIFS(Table217[Общо (EUR)],Table217[Бенефициер (абревиатура)],'Финансов отчет по партньори'!D$47,Table217[РП №],'Финансов отчет по партньори'!$A54,Table217[Отчетен период],'Финансов отчет по партньори'!$C$45) -> 0 | E54: =SUMIFS(Table217[Общо (EUR)],Table217[Бенефициер (абревиатура)],'Финансов отчет по партньори'!E$47,Table217[РП №],'Финансов отчет по партньори'!$A54,Table217[Отчетен период],'Финансов отчет по партньори'!$C$45) -> 0 | F54: =SUMIFS(Table217[Общо (EUR)],Table217[Бенефициер (абревиатура)],'Финансов отчет по партньори'!F$47,Table217[РП №],'Финансов отчет по партньори'!$A54,Table217[Отчетен период],'Финансов отчет по партньори'!$C$45) -> 0 | G54: =SUMIFS(Table217[Общо (EUR)],Table217[Бенефициер (абревиатура)],'Финансов отчет по партньори'!G$47,Table217[РП №],'Финансов отчет по партньори'!$A54,Table217[Отчетен период],'Финансов отчет по партньори'!$C$45) -> 0 | H54: =SUMIFS(Table217[Общо (EUR)],Table217[Бенефициер (абревиатура)],'Финансов отчет по партньори'!H$47,Table217[РП №],'Финансов отчет по партньори'!$A54,Table217[Отчетен период],'Финансов отчет по партньори'!$C$45) -> 0 | I54: =SUMIFS(Table217[Общо (EUR)],Table217[Бенефициер (абревиатура)],'Финансов отчет по партньори'!I$47,Table217[РП №],'Финансов отчет по партньори'!$A54,Table217[Отчетен период],'Финансов отчет по партньори'!$C$45) -> 0 | J54: =SUMIFS(Table217[Общо (EUR)],Table217[Бенефициер (абревиатура)],'Финансов отчет по партньори'!J$47,Table217[РП №],'Финансов отчет по партньори'!$A54,Table217[Отчетен период],'Финансов отчет по партньори'!$C$45) -> 0 | K54: =SUMIFS(Table217[Общо (EUR)],Table217[Бенефициер (абревиатура)],'Финансов отчет по партньори'!K$47,Table217[РП №],'Финансов отчет по партньори'!$A54,Table217[Отчетен период],'Финансов отчет по партньори'!$C$45) -> 0 | L54: =SUMIFS(Table217[Общо (EUR)],Table217[Бенефициер (абревиатура)],'Финансов отчет по партньори'!L$47,Table217[РП №],'Финансов отчет по партньори'!$A54,Table217[Отчетен период],'Финансов отчет по партньори'!$C$45) -> 0
A55: =A14 -> РП7 | B55: =B14 -> [Въведете име на работен пакет 7 - ако е приложимо] | C55: =SUM(D55:L55) -> 0 | D55: =SUMIFS(Table217[Общо (EUR)],Table217[Бенефициер (абревиатура)],'Финансов отчет по партньори'!D$47,Table217[РП №],'Финансов отчет по партньори'!$A55,Table217[Отчетен период],'Финансов отчет по партньори'!$C$45) -> 0 | E55: =SUMIFS(Table217[Общо (EUR)],Table217[Бенефициер (абревиатура)],'Финансов отчет по партньори'!E$47,Table217[РП №],'Финансов отчет по партньори'!$A55,Table217[Отчетен период],'Финансов отчет по партньори'!$C$45) -> 0 | F55: =SUMIFS(Table217[Общо (EUR)],Table217[Бенефициер (абревиатура)],'Финансов отчет по партньори'!F$47,Table217[РП №],'Финансов отчет по партньори'!$A55,Table217[Отчетен период],'Финансов отчет по партньори'!$C$45) -> 0 | G55: =SUMIFS(Table217[Общо (EUR)],Table217[Бенефициер (абревиатура)],'Финансов отчет по партньори'!G$47,Table217[РП №],'Финансов отчет по партньори'!$A55,Table217[Отчетен период],'Финансов отчет по партньори'!$C$45) -> 0 | H55: =SUMIFS(Table217[Общо (EUR)],Table217[Бенефициер (абревиатура)],'Финансов отчет по партньори'!H$47,Table217[РП №],'Финансов отчет по партньори'!$A55,Table217[Отчетен период],'Финансов отчет по партньори'!$C$45) -> 0 | I55: =SUMIFS(Table217[Общо (EUR)],Table217[Бенефициер (абревиатура)],'Финансов отчет по партньори'!I$47,Table217[РП №],'Финансов отчет по партньори'!$A55,Table217[Отчетен период],'Финансов отчет по партньори'!$C$45) -> 0 | J55: =SUMIFS(Table217[Общо (EUR)],Table217[Бенефициер (абревиатура)],'Финансов отчет по партньори'!J$47,Table217[РП №],'Финансов отчет по партньори'!$A55,Table217[Отчетен период],'Финансов отчет по партньори'!$C$45) -> 0 | K55: =SUMIFS(Table217[Общо (EUR)],Table217[Бенефициер (абревиатура)],'Финансов отчет по партньори'!K$47,Table217[РП №],'Финансов отчет по партньори'!$A55,Table217[Отчетен период],'Финансов отчет по партньори'!$C$45) -> 0 | L55: =SUMIFS(Table217[Общо (EUR)],Table217[Бенефициер (абревиатура)],'Финансов отчет по партньори'!L$47,Table217[РП №],'Финансов отчет по партньори'!$A55,Table217[Отчетен период],'Финансов отчет по партньори'!$C$45) -> 0
A56: =A15 -> РП8 | B56: =B15 -> [Въведете име на работен пакет 8 - ако е приложимо] | C56: =SUM(D56:L56) -> 0 | D56: =SUMIFS(Table217[Общо (EUR)],Table217[Бенефициер (абревиатура)],'Финансов отчет по партньори'!D$47,Table217[РП №],'Финансов отчет по партньори'!$A56,Table217[Отчетен период],'Финансов отчет по партньори'!$C$45) -> 0 | E56: =SUMIFS(Table217[Общо (EUR)],Table217[Бенефициер (абревиатура)],'Финансов отчет по партньори'!E$47,Table217[РП №],'Финансов отчет по партньори'!$A56,Table217[Отчетен период],'Финансов отчет по партньори'!$C$45) -> 0 | F56: =SUMIFS(Table217[Общо (EUR)],Table217[Бенефициер (абревиатура)],'Финансов отчет по партньори'!F$47,Table217[РП №],'Финансов отчет по партньори'!$A56,Table217[Отчетен период],'Финансов отчет по партньори'!$C$45) -> 0 | G56: =SUMIFS(Table217[Общо (EUR)],Table217[Бенефициер (абревиатура)],'Финансов отчет по партньори'!G$47,Table217[РП №],'Финансов отчет по партньори'!$A56,Table217[Отчетен период],'Финансов отчет по партньори'!$C$45) -> 0 | H56: =SUMIFS(Table217[Общо (EUR)],Table217[Бенефициер (абревиатура)],'Финансов отчет по партньори'!H$47,Table217[РП №],'Финансов отчет по партньори'!$A56,Table217[Отчетен период],'Финансов отчет по партньори'!$C$45) -> 0 | I56: =SUMIFS(Table217[Общо (EUR)],Table217[Бенефициер (абревиатура)],'Финансов отчет по партньори'!I$47,Table217[РП №],'Финансов отчет по партньори'!$A56,Table217[Отчетен период],'Финансов отчет по партньори'!$C$45) -> 0 | J56: =SUMIFS(Table217[Общо (EUR)],Table217[Бенефициер (абревиатура)],'Финансов отчет по партньори'!J$47,Table217[РП №],'Финансов отчет по партньори'!$A56,Table217[Отчетен период],'Финансов отчет по партньори'!$C$45) -> 0 | K56: =SUMIFS(Table217[Общо (EUR)],Table217[Бенефициер (абревиатура)],'Финансов отчет по партньори'!K$47,Table217[РП №],'Финансов отчет по партньори'!$A56,Table217[Отчетен период],'Финансов отчет по партньори'!$C$45) -> 0 | L56: =SUMIFS(Table217[Общо (EUR)],Table217[Бенефициер (абревиатура)],'Финансов отчет по партньори'!L$47,Table217[РП №],'Финансов отчет по партньори'!$A56,Table217[Отчетен период],'Финансов отчет по партньори'!$C$45) -> 0
B57: =B35 -> ПРЕКИ РАЗХОДИ | C57: =SUM(D57:L57) -> 0 | D57: =D49+D50+D51+D52+D53+D54+D55+D56 -> 0 | E57: =E49+E50+E51+E52+E53+E54+E55+E56 -> 0 | F57: =F49+F50+F51+F52+F53+F54+F55+F56 -> 0 | G57: =G49+G50+G51+G52+G53+G54+G55+G56 -> 0 | H57: =H49+H50+H51+H52+H53+H54+H55+H56 -> 0 | I57: =I49+I50+I51+I52+I53+I54+I55+I56 -> 0 | J57: =J49+J50+J51+J52+J53+J54+J55+J56 -> 0 | K57: =K49+K50+K51+K52+K53+K54+K55+K56 -> 0 | L57: =L49+L50+L51+L52+L53+L54+L55+L56 -> 0
A58: G | B58: =B36 -> Непреки разходи | C58: =SUM(D58:L58) -> 0 | D58: =D59+D60 -> 0 | E58: =E59+E60 -> 0 | F58: =F59+F60 -> 0 | G58: =G59+G60 -> 0 | H58: =H59+H60 -> 0 | I58: =I59+I60 -> 0 | J58: =J59+J60 -> 0 | K58: =K59+K60 -> 0 | L58: =L59+L60 -> 0
A59: G1 | B59: =B37 -> Административни разходи (10%) | C59: =SUM(D59:L59) -> 0 | D59: =0.1*D57 -> 0 | E59: =0.1*E57 -> 0 | F59: =0.1*F57 -> 0 | G59: =0.1*G57 -> 0 | H59: =0.1*H57 -> 0 | I59: =0.1*I57 -> 0 | J59: =0.1*J57 -> 0 | K59: =0.1*K57 -> 0 | L59: =0.1*L57 -> 0
A60: G2 | B60: =B38 -> Разходи за изграждане на организационен капацитет и развитие (до 15%) | C60: =SUM(D60:L60) -> 0 | D60: =SUMIFS(Table217[Общо (EUR)],Table217[Бенефициер (абревиатура)],'Финансов отчет по партньори'!D$47,Table217[Категория разход],'Финансов отчет по партньори'!$A60,Table217[Отчетен период],'Финансов отчет по партньори'!$C$45) -> 0 | E60: =SUMIFS(Table217[Общо (EUR)],Table217[Бенефициер (абревиатура)],'Финансов отчет по партньори'!E$47,Table217[Категория разход],'Финансов отчет по партньори'!$A60,Table217[Отчетен период],'Финансов отчет по партньори'!$C$45) -> 0 | F60: =SUMIFS(Table217[Общо (EUR)],Table217[Бенефициер (абревиатура)],'Финансов отчет по партньори'!F$47,Table217[Категория разход],'Финансов отчет по партньори'!$A60,Table217[Отчетен период],'Финансов отчет по партньори'!$C$45) -> 0 | G60: =SUMIFS(Table217[Общо (EUR)],Table217[Бенефициер (абревиатура)],'Финансов отчет по партньори'!G$47,Table217[Категория разход],'Финансов отчет по партньори'!$A60,Table217[Отчетен период],'Финансов отчет по партньори'!$C$45) -> 0 | H60: =SUMIFS(Table217[Общо (EUR)],Table217[Бенефициер (абревиатура)],'Финансов отчет по партньори'!H$47,Table217[Категория разход],'Финансов отчет по партньори'!$A60,Table217[Отчетен период],'Финансов отчет по партньори'!$C$45) -> 0 | I60: =SUMIFS(Table217[Общо (EUR)],Table217[Бенефициер (абревиатура)],'Финансов отчет по партньори'!I$47,Table217[Категория разход],'Финансов отчет по партньори'!$A60,Table217[Отчетен период],'Финансов отчет по партньори'!$C$45) -> 0 | J60: =SUMIFS(Table217[Общо (EUR)],Table217[Бенефициер (абревиатура)],'Финансов отчет по партньори'!J$47,Table217[Категория разход],'Финансов отчет по партньори'!$A60,Table217[Отчетен период],'Финансов отчет по партньори'!$C$45) -> 0 | K60: =SUMIFS(Table217[Общо (EUR)],Table217[Бенефициер (абревиатура)],'Финансов отчет по партньори'!K$47,Table217[Категория разход],'Финансов отчет по партньори'!$A60,Table217[Отчетен период],'Финансов отчет по партньори'!$C$45) -> 0 | L60: =SUMIFS(Table217[Общо (EUR)],Table217[Бенефициер (абревиатура)],'Финансов отчет по партньори'!L$47,Table217[Категория разход],'Финансов отчет по партньори'!$A60,Table217[Отчетен период],'Финансов отчет по партньори'!$C$45) -> 0
B61: =B39 -> Съотношение G2/Преки разходи | C61: =C60/C57 -> #DIV/0! | D61: =D60/D57 -> #DIV/0! | E61: =E60/E57 -> #DIV/0! | F61: =F60/F57 -> #DIV/0! | G61: =G60/G57 -> #DIV/0! | H61: =H60/H57 -> #DIV/0! | I61: =I60/I57 -> #DIV/0! | J61: =J60/J57 -> #DIV/0! | ... L61: =L60/L57 -> #DIV/0!
B62: =B40 -> ОБЩО РАЗХОДИ | C62: =C57+C58 -> 0 | D62: =D57+D58 -> 0 | E62: =E57+E58 -> 0 | F62: =F57+F58 -> 0 | G62: =G57+G58 -> 0 | H62: =H57+H58 -> 0 | I62: =I57+I58 -> 0 | J62: =J57+J58 -> 0 | ... L62: =L57+L58 -> 0
B66: Отчет по РП и партньори (кумулативен, в EUR)
C67: =C47 -> Общo Консорциум | D67: =D6 -> Абревиатура ВБ | E67: =E6 -> Абревиатура П1 | F67: =F6 -> Абревиатура П2 | G67: =G6 -> Абревиатура П3 | H67: =H6 -> Абревиатура П4 | I67: =I6 -> Абревиатура П5 | J67: =J6 -> Абревиатура П6 | K67: =K6 -> Абревиатура П7 | L67: =L6 -> Абревиатура П8
D68: =D48 -> ВБ | E68: =E48 -> П1 | F68: =F48 -> П2 | G68: =G48 -> П3 | H68: =H48 -> П4 | I68: =I48 -> П5 | J68: =J48 -> П6 | K68: =K48 -> П7 | L68: =L48 -> П8
A69: =A49 -> РП1 | B69: =B8 -> [Въведете име на работен пакет 1] | C69: =SUM(D69:L69) -> 0 | D69: =SUMIFS(Table217[Общо (EUR)],Table217[Бенефициер (абревиатура)],'Финансов отчет по партньори'!D$67,Table217[РП №],'Финансов отчет по партньори'!A69) -> 0 | E69: =SUMIFS(Table217[Общо (EUR)],Table217[Бенефициер (абревиатура)],'Финансов отчет по партньори'!E$67,Table217[РП №],'Финансов отчет по партньори'!A69) -> 0 | F69: =SUMIFS(Table217[Общо (EUR)],Table217[Бенефициер (абревиатура)],'Финансов отчет по партньори'!F$67,Table217[РП №],'Финансов отчет по партньори'!A69) -> 0 | G69: =SUMIFS(Table217[Общо (EUR)],Table217[Бенефициер (абревиатура)],'Финансов отчет по партньори'!G$67,Table217[РП №],A69) -> 0 | H69: =SUMIFS(Table217[Общо (EUR)],Table217[Бенефициер (абревиатура)],'Финансов отчет по партньори'!H$67,Table217[РП №],'Финансов отчет по партньори'!A69) -> 0 | I69: =SUMIFS(Table217[Общо (EUR)],Table217[Бенефициер (абревиатура)],'Финансов отчет по партньори'!I$67,Table217[РП №],'Финансов отчет по партньори'!A69) -> 0 | J69: =SUMIFS(Table217[Общо (EUR)],Table217[Бенефициер (абревиатура)],'Финансов отчет по партньори'!J$67,Table217[РП №],'Финансов отчет по партньори'!A69) -> 0 | K69: =SUMIFS(Table217[Общо (EUR)],Table217[Бенефициер (абревиатура)],'Финансов отчет по партньори'!K$67,Table217[РП №],'Финансов отчет по партньори'!A69) -> 0 | L69: =SUMIFS(Table217[Общо (EUR)],Table217[Бенефициер (абревиатура)],'Финансов отчет по партньори'!L$67,Table217[РП №],'Финансов отчет по партньори'!A69) -> 0
A70: =A50 -> РП2 | B70: =B9 -> [Въведете име на работен пакет 2] | C70: =SUM(D70:L70) -> 0 | D70: =SUMIFS(Table217[Общо (EUR)],Table217[Бенефициер (абревиатура)],'Финансов отчет по партньори'!D$67,Table217[РП №],'Финансов отчет по партньори'!A70) -> 0 | E70: =SUMIFS(Table217[Общо (EUR)],Table217[Бенефициер (абревиатура)],'Финансов отчет по партньори'!E$67,Table217[РП №],'Финансов отчет по партньори'!A70) -> 0 | F70: =SUMIFS(Table217[Общо (EUR)],Table217[Бенефициер (абревиатура)],'Финансов отчет по партньори'!F$67,Table217[РП №],'Финансов отчет по партньори'!A70) -> 0 | G70: =SUMIFS(Table217[Общо (EUR)],Table217[Бенефициер (абревиатура)],'Финансов отчет по партньори'!G$67,Table217[РП №],A70) -> 0 | H70: =SUMIFS(Table217[Общо (EUR)],Table217[Бенефициер (абревиатура)],'Финансов отчет по партньори'!H$67,Table217[РП №],'Финансов отчет по партньори'!A70) -> 0 | I70: =SUMIFS(Table217[Общо (EUR)],Table217[Бенефициер (абревиатура)],'Финансов отчет по партньори'!I$67,Table217[РП №],'Финансов отчет по партньори'!A70) -> 0 | J70: =SUMIFS(Table217[Общо (EUR)],Table217[Бенефициер (абревиатура)],'Финансов отчет по партньори'!J$67,Table217[РП №],'Финансов отчет по партньори'!A70) -> 0 | K70: =SUMIFS(Table217[Общо (EUR)],Table217[Бенефициер (абревиатура)],'Финансов отчет по партньори'!K$67,Table217[РП №],'Финансов отчет по партньори'!A70) -> 0 | L70: =SUMIFS(Table217[Общо (EUR)],Table217[Бенефициер (абревиатура)],'Финансов отчет по партньори'!L$67,Table217[РП №],'Финансов отчет по партньори'!A70) -> 0
A71: =A51 -> РП3 | B71: =B10 -> [Въведете име на работен пакет 3] | C71: =SUM(D71:L71) -> 0 | D71: =SUMIFS(Table217[Общо (EUR)],Table217[Бенефициер (абревиатура)],'Финансов отчет по партньори'!D$67,Table217[РП №],'Финансов отчет по партньори'!A71) -> 0 | E71: =SUMIFS(Table217[Общо (EUR)],Table217[Бенефициер (абревиатура)],'Финансов отчет по партньори'!E$67,Table217[РП №],'Финансов отчет по партньори'!A71) -> 0 | F71: =SUMIFS(Table217[Общо (EUR)],Table217[Бенефициер (абревиатура)],'Финансов отчет по партньори'!F$67,Table217[РП №],'Финансов отчет по партньори'!A71) -> 0 | G71: =SUMIFS(Table217[Общо (EUR)],Table217[Бенефициер (абревиатура)],'Финансов отчет по партньори'!G$67,Table217[РП №],A71) -> 0 | H71: =SUMIFS(Table217[Общо (EUR)],Table217[Бенефициер (абревиатура)],'Финансов отчет по партньори'!H$67,Table217[РП №],'Финансов отчет по партньори'!A71) -> 0 | I71: =SUMIFS(Table217[Общо (EUR)],Table217[Бенефициер (абревиатура)],'Финансов отчет по партньори'!I$67,Table217[РП №],'Финансов отчет по партньори'!A71) -> 0 | J71: =SUMIFS(Table217[Общо (EUR)],Table217[Бенефициер (абревиатура)],'Финансов отчет по партньори'!J$67,Table217[РП №],'Финансов отчет по партньори'!A71) -> 0 | K71: =SUMIFS(Table217[Общо (EUR)],Table217[Бенефициер (абревиатура)],'Финансов отчет по партньори'!K$67,Table217[РП №],'Финансов отчет по партньори'!A71) -> 0 | L71: =SUMIFS(Table217[Общо (EUR)],Table217[Бенефициер (абревиатура)],'Финансов отчет по партньори'!L$67,Table217[РП №],'Финансов отчет по партньори'!A71) -> 0
A72: =A52 -> РП4 | B72: =B11 -> [Въведете име на работен пакет 4] | C72: =SUM(D72:L72) -> 0 | D72: =SUMIFS(Table217[Общо (EUR)],Table217[Бенефициер (абревиатура)],'Финансов отчет по партньори'!D$67,Table217[РП №],'Финансов отчет по партньори'!A72) -> 0 | E72: =SUMIFS(Table217[Общо (EUR)],Table217[Бенефициер (абревиатура)],'Финансов отчет по партньори'!E$67,Table217[РП №],'Финансов отчет по партньори'!A72) -> 0 | F72: =SUMIFS(Table217[Общо (EUR)],Table217[Бенефициер (абревиатура)],'Финансов отчет по партньори'!F$67,Table217[РП №],'Финансов отчет по партньори'!A72) -> 0 | G72: =SUMIFS(Table217[Общо (EUR)],Table217[Бенефициер (абревиатура)],'Финансов отчет по партньори'!G$67,Table217[РП №],A72) -> 0 | H72: =SUMIFS(Table217[Общо (EUR)],Table217[Бенефициер (абревиатура)],'Финансов отчет по партньори'!H$67,Table217[РП №],'Финансов отчет по партньори'!A72) -> 0 | I72: =SUMIFS(Table217[Общо (EUR)],Table217[Бенефициер (абревиатура)],'Финансов отчет по партньори'!I$67,Table217[РП №],'Финансов отчет по партньори'!A72) -> 0 | J72: =SUMIFS(Table217[Общо (EUR)],Table217[Бенефициер (абревиатура)],'Финансов отчет по партньори'!J$67,Table217[РП №],'Финансов отчет по партньори'!A72) -> 0 | K72: =SUMIFS(Table217[Общо (EUR)],Table217[Бенефициер (абревиатура)],'Финансов отчет по партньори'!K$67,Table217[РП №],'Финансов отчет по партньори'!A72) -> 0 | L72: =SUMIFS(Table217[Общо (EUR)],Table217[Бенефициер (абревиатура)],'Финансов отчет по партньори'!L$67,Table217[РП №],'Финансов отчет по партньори'!A72) -> 0
A73: =A53 -> РП5 | B73: =B12 -> [Въведете име на работен пакет 5 - ако е приложимо] | C73: =SUM(D73:L73) -> 0 | D73: =SUMIFS(Table217[Общо (EUR)],Table217[Бенефициер (абревиатура)],'Финансов отчет по партньори'!D$67,Table217[РП №],'Финансов отчет по партньори'!A73) -> 0 | E73: =SUMIFS(Table217[Общо (EUR)],Table217[Бенефициер (абревиатура)],'Финансов отчет по партньори'!E$67,Table217[РП №],'Финансов отчет по партньори'!A73) -> 0 | F73: =SUMIFS(Table217[Общо (EUR)],Table217[Бенефициер (абревиатура)],'Финансов отчет по партньори'!F$67,Table217[РП №],'Финансов отчет по партньори'!A73) -> 0 | G73: =SUMIFS(Table217[Общо (EUR)],Table217[Бенефициер (абревиатура)],'Финансов отчет по партньори'!G$67,Table217[РП №],A73) -> 0 | H73: =SUMIFS(Table217[Общо (EUR)],Table217[Бенефициер (абревиатура)],'Финансов отчет по партньори'!H$67,Table217[РП №],'Финансов отчет по партньори'!A73) -> 0 | I73: =SUMIFS(Table217[Общо (EUR)],Table217[Бенефициер (абревиатура)],'Финансов отчет по партньори'!I$67,Table217[РП №],'Финансов отчет по партньори'!A73) -> 0 | J73: =SUMIFS(Table217[Общо (EUR)],Table217[Бенефициер (абревиатура)],'Финансов отчет по партньори'!J$67,Table217[РП №],'Финансов отчет по партньори'!A73) -> 0 | K73: =SUMIFS(Table217[Общо (EUR)],Table217[Бенефициер (абревиатура)],'Финансов отчет по партньори'!K$67,Table217[РП №],'Финансов отчет по партньори'!A73) -> 0 | L73: =SUMIFS(Table217[Общо (EUR)],Table217[Бенефициер (абревиатура)],'Финансов отчет по партньори'!L$67,Table217[РП №],'Финансов отчет по партньори'!A73) -> 0
A74: =A54 -> РП6 | B74: =B13 -> [Въведете име на работен пакет 6 - ако е приложимо] | C74: =SUM(D74:L74) -> 0 | D74: =SUMIFS(Table217[Общо (EUR)],Table217[Бенефициер (абревиатура)],'Финансов отчет по партньори'!D$67,Table217[РП №],'Финансов отчет по партньори'!A74) -> 0 | E74: =SUMIFS(Table217[Общо (EUR)],Table217[Бенефициер (абревиатура)],'Финансов отчет по партньори'!E$67,Table217[РП №],'Финансов отчет по партньори'!A74) -> 0 | F74: =SUMIFS(Table217[Общо (EUR)],Table217[Бенефициер (абревиатура)],'Финансов отчет по партньори'!F$67,Table217[РП №],'Финансов отчет по партньори'!A74) -> 0 | G74: =SUMIFS(Table217[Общо (EUR)],Table217[Бенефициер (абревиатура)],'Финансов отчет по партньори'!G$67,Table217[РП №],A74) -> 0 | H74: =SUMIFS(Table217[Общо (EUR)],Table217[Бенефициер (абревиатура)],'Финансов отчет по партньори'!H$67,Table217[РП №],'Финансов отчет по партньори'!A74) -> 0 | I74: =SUMIFS(Table217[Общо (EUR)],Table217[Бенефициер (абревиатура)],'Финансов отчет по партньори'!I$67,Table217[РП №],'Финансов отчет по партньори'!A74) -> 0 | J74: =SUMIFS(Table217[Общо (EUR)],Table217[Бенефициер (абревиатура)],'Финансов отчет по партньори'!J$67,Table217[РП №],'Финансов отчет по партньори'!A74) -> 0 | K74: =SUMIFS(Table217[Общо (EUR)],Table217[Бенефициер (абревиатура)],'Финансов отчет по партньори'!K$67,Table217[РП №],'Финансов отчет по партньори'!A74) -> 0 | L74: =SUMIFS(Table217[Общо (EUR)],Table217[Бенефициер (абревиатура)],'Финансов отчет по партньори'!L$67,Table217[РП №],'Финансов отчет по партньори'!A74) -> 0
A75: =A55 -> РП7 | B75: =B14 -> [Въведете име на работен пакет 7 - ако е приложимо] | C75: =SUM(D75:L75) -> 0 | D75: =SUMIFS(Table217[Общо (EUR)],Table217[Бенефициер (абревиатура)],'Финансов отчет по партньори'!D$67,Table217[РП №],'Финансов отчет по партньори'!A75) -> 0 | E75: =SUMIFS(Table217[Общо (EUR)],Table217[Бенефициер (абревиатура)],'Финансов отчет по партньори'!E$67,Table217[РП №],'Финансов отчет по партньори'!A75) -> 0 | F75: =SUMIFS(Table217[Общо (EUR)],Table217[Бенефициер (абревиатура)],'Финансов отчет по партньори'!F$67,Table217[РП №],'Финансов отчет по партньори'!A75) -> 0 | G75: =SUMIFS(Table217[Общо (EUR)],Table217[Бенефициер (абревиатура)],'Финансов отчет по партньори'!G$67,Table217[РП №],A75) -> 0 | H75: =SUMIFS(Table217[Общо (EUR)],Table217[Бенефициер (абревиатура)],'Финансов отчет по партньори'!H$67,Table217[РП №],'Финансов отчет по партньори'!A75) -> 0 | I75: =SUMIFS(Table217[Общо (EUR)],Table217[Бенефициер (абревиатура)],'Финансов отчет по партньори'!I$67,Table217[РП №],'Финансов отчет по партньори'!A75) -> 0 | J75: =SUMIFS(Table217[Общо (EUR)],Table217[Бенефициер (абревиатура)],'Финансов отчет по партньори'!J$67,Table217[РП №],'Финансов отчет по партньори'!A75) -> 0 | K75: =SUMIFS(Table217[Общо (EUR)],Table217[Бенефициер (абревиатура)],'Финансов отчет по партньори'!K$67,Table217[РП №],'Финансов отчет по партньори'!A75) -> 0 | L75: =SUMIFS(Table217[Общо (EUR)],Table217[Бенефициер (абревиатура)],'Финансов отчет по партньори'!L$67,Table217[РП №],'Финансов отчет по партньори'!A75) -> 0
A76: =A56 -> РП8 | B76: =B15 -> [Въведете име на работен пакет 8 - ако е приложимо] | C76: =SUM(D76:L76) -> 0 | D76: =SUMIFS(Table217[Общо (EUR)],Table217[Бенефициер (абревиатура)],'Финансов отчет по партньори'!D$67,Table217[РП №],'Финансов отчет по партньори'!A76) -> 0 | E76: =SUMIFS(Table217[Общо (EUR)],Table217[Бенефициер (абревиатура)],'Финансов отчет по партньори'!E$67,Table217[РП №],'Финансов отчет по партньори'!A76) -> 0 | F76: =SUMIFS(Table217[Общо (EUR)],Table217[Бенефициер (абревиатура)],'Финансов отчет по партньори'!F$67,Table217[РП №],'Финансов отчет по партньори'!A76) -> 0 | G76: =SUMIFS(Table217[Общо (EUR)],Table217[Бенефициер (абревиатура)],'Финансов отчет по партньори'!G$67,Table217[РП №],A76) -> 0 | H76: =SUMIFS(Table217[Общо (EUR)],Table217[Бенефициер (абревиатура)],'Финансов отчет по партньори'!H$67,Table217[РП №],'Финансов отчет по партньори'!A76) -> 0 | I76: =SUMIFS(Table217[Общо (EUR)],Table217[Бенефициер (абревиатура)],'Финансов отчет по партньори'!I$67,Table217[РП №],'Финансов отчет по партньори'!A76) -> 0 | J76: =SUMIFS(Table217[Общо (EUR)],Table217[Бенефициер (абревиатура)],'Финансов отчет по партньори'!J$67,Table217[РП №],'Финансов отчет по партньори'!A76) -> 0 | K76: =SUMIFS(Table217[Общо (EUR)],Table217[Бенефициер (абревиатура)],'Финансов отчет по партньори'!K$67,Table217[РП №],'Финансов отчет по партньори'!A76) -> 0 | L76: =SUMIFS(Table217[Общо (EUR)],Table217[Бенефициер (абревиатура)],'Финансов отчет по партньори'!L$67,Table217[РП №],'Финансов отчет по партньори'!A76) -> 0
B77: =B57 -> ПРЕКИ РАЗХОДИ | C77: =SUM(D77:L77) -> 0 | D77: =D69+D70+D71+D72+D73+D74+D75+D76 -> 0 | E77: =E69+E70+E71+E72+E73+E74+E75+E76 -> 0 | F77: =F69+F70+F71+F72+F73+F74+F75+F76 -> 0 | G77: =G69+G70+G71+G72+G73+G74+G75+G76 -> 0 | H77: =H69+H70+H71+H72+H73+H74+H75+H76 -> 0 | I77: =I69+I70+I71+I72+I73+I74+I75+I76 -> 0 | J77: =J69+J70+J71+J72+J73+J74+J75+J76 -> 0 | K77: =K69+K70+K71+K72+K73+K74+K75+K76 -> 0 | L77: =L69+L70+L71+L72+L73+L74+L75+L76 -> 0
A78: G | B78: =B58 -> Непреки разходи | C78: =SUM(D78:L78) -> 0 | D78: =D79+D80 -> 0 | E78: =E79+E80 -> 0 | F78: =F79+F80 -> 0 | G78: =G79+G80 -> 0 | H78: =H79+H80 -> 0 | I78: =I79+I80 -> 0 | J78: =J79+J80 -> 0 | K78: =K79+K80 -> 0 | L78: =L79+L80 -> 0
A79: G1 | B79: =B59 -> Административни разходи (10%) | C79: =SUM(D79:L79) -> 0 | D79: =0.1*D77 -> 0 | E79: =0.1*E77 -> 0 | F79: =0.1*F77 -> 0 | G79: =0.1*G77 -> 0 | H79: =0.1*H77 -> 0 | I79: =0.1*I77 -> 0 | J79: =0.1*J77 -> 0 | K79: =0.1*K77 -> 0 | L79: =0.1*L77 -> 0
A80: G2 | B80: =B60 -> Разходи за изграждане на организационен капацитет и развитие (до 15%) | C80: =SUM(D80:L80) -> 0 | D80: =SUMIFS(Table217[Общо (EUR)],Table217[Бенефициер (абревиатура)],'Финансов отчет по партньори'!D$67,Table217[Категория разход],'Финансов отчет по партньори'!A80) -> 0 | E80: =SUMIFS(Table217[Общо (EUR)],Table217[Бенефициер (абревиатура)],'Финансов отчет по партньори'!E$67,Table217[Категория разход],'Финансов отчет по партньори'!A80) -> 0 | F80: =SUMIFS(Table217[Общо (EUR)],Table217[Бенефициер (абревиатура)],'Финансов отчет по партньори'!F$67,Table217[Категория разход],'Финансов отчет по партньори'!A80) -> 0 | G80: =SUMIFS(Table217[Общо (EUR)],Table217[Бенефициер (абревиатура)],'Финансов отчет по партньори'!G$67,Table217[Категория разход],A80) -> 0 | H80: =SUMIFS(Table217[Общо (EUR)],Table217[Бенефициер (абревиатура)],'Финансов отчет по партньори'!H$67,Table217[Категория разход],'Финансов отчет по партньори'!A80) -> 0 | I80: =SUMIFS(Table217[Общо (EUR)],Table217[Бенефициер (абревиатура)],'Финансов отчет по партньори'!I$67,Table217[Категория разход],'Финансов отчет по партньори'!A80) -> 0 | J80: =SUMIFS(Table217[Общо (EUR)],Table217[Бенефициер (абревиатура)],'Финансов отчет по партньори'!J$67,Table217[Категория разход],'Финансов отчет по партньори'!A80) -> 0 | K80: =SUMIFS(Table217[Общо (EUR)],Table217[Бенефициер (абревиатура)],'Финансов отчет по партньори'!K$67,Table217[Категория разход],'Финансов отчет по партньори'!A80) -> 0 | L80: =SUMIFS(Table217[Общо (EUR)],Table217[Бенефициер (абревиатура)],'Финансов отчет по партньори'!L$67,Table217[Категория разход],'Финансов отчет по партньори'!A80) -> 0
B81: =B61 -> Съотношение G2/Преки разходи | C81: =C80/C77 -> #DIV/0! | D81: =D80/D77 -> #DIV/0! | E81: =E80/E77 -> #DIV/0! | F81: =F80/F77 -> #DIV/0! | G81: =G80/G77 -> #DIV/0! | H81: =H80/H77 -> #DIV/0! | I81: =I80/I77 -> #DIV/0! | J81: =J80/J77 -> #DIV/0! | ... L81: =L80/L77 -> #DIV/0!
B82: =B62 -> ОБЩО РАЗХОДИ | C82: =C77+C78 -> 0 | D82: =D77+D78 -> 0 | E82: =E77+E78 -> 0 | F82: =F77+F78 -> 0 | G82: =G77+G78 -> 0 | H82: =H77+H78 -> 0 | I82: =I77+I78 -> 0 | J82: =J77+J78 -> 0 | ... L82: =L77+L78 -> 0
B86: Дял към дата (%)
C87: =C67 -> Общo Консорциум | D87: =D67 -> Абревиатура ВБ | E87: =E67 -> Абревиатура П1 | F87: =F67 -> Абревиатура П2 | G87: =G67 -> Абревиатура П3 | H87: =H67 -> Абревиатура П4 | I87: =I67 -> Абревиатура П5 | J87: =J67 -> Абревиатура П6 | ... L87: =L67 -> Абревиатура П8
D88: =D68 -> ВБ | E88: =E68 -> П1 | F88: =F68 -> П2 | G88: =G68 -> П3 | H88: =H68 -> П4 | I88: =I68 -> П5 | J88: =J68 -> П6 | K88: =K68 -> П7 | L88: =L68 -> П8
A89: =A69 -> РП1 | B89: =B27 -> [Въведете име на работен пакет 1] | C89: =C69/C27 -> #DIV/0! | D89: =D69/D27 -> #DIV/0! | E89: =E69/E27 -> #DIV/0! | F89: =F69/F27 -> #DIV/0! | G89: =G69/G27 -> #DIV/0! | H89: =H69/H27 -> #DIV/0! | I89: =I69/I27 -> #DIV/0! | J89: =J69/J27 -> #DIV/0! | ... L89: =L69/L27 -> #DIV/0!
A90: =A70 -> РП2 | B90: =B28 -> [Въведете име на работен пакет 2] | C90: =C70/C28 -> #DIV/0! | D90: =D70/D28 -> #DIV/0! | E90: =E70/E28 -> #DIV/0! | F90: =F70/F28 -> #DIV/0! | G90: =G70/G28 -> #DIV/0! | H90: =H70/H28 -> #DIV/0! | I90: =I70/I28 -> #DIV/0! | J90: =J70/J28 -> #DIV/0! | ... L90: =L70/L28 -> #DIV/0!
A91: =A71 -> РП3 | B91: =B29 -> [Въведете име на работен пакет 3] | C91: =C71/C29 -> #DIV/0! | D91: =D71/D29 -> #DIV/0! | E91: =E71/E29 -> #DIV/0! | F91: =F71/F29 -> #DIV/0! | G91: =G71/G29 -> #DIV/0! | H91: =H71/H29 -> #DIV/0! | I91: =I71/I29 -> #DIV/0! | J91: =J71/J29 -> #DIV/0! | ... L91: =L71/L29 -> #DIV/0!
A92: =A72 -> РП4 | B92: =B30 -> [Въведете име на работен пакет 4] | C92: =C72/C30 -> #DIV/0! | D92: =D72/D30 -> #DIV/0! | E92: =E72/E30 -> #DIV/0! | F92: =F72/F30 -> #DIV/0! | G92: =G72/G30 -> #DIV/0! | H92: =H72/H30 -> #DIV/0! | I92: =I72/I30 -> #DIV/0! | J92: =J72/J30 -> #DIV/0! | ... L92: =L72/L30 -> #DIV/0!
A93: =A73 -> РП5 | B93: =B31 -> [Въведете име на работен пакет 5 - ако е приложимо] | C93: =C73/C31 -> #DIV/0! | D93: =D73/D31 -> #DIV/0! | E93: =E73/E31 -> #DIV/0! | F93: =F73/F31 -> #DIV/0! | G93: =G73/G31 -> #DIV/0! | H93: =H73/H31 -> #DIV/0! | I93: =I73/I31 -> #DIV/0! | J93: =J73/J31 -> #DIV/0! | ... L93: =L73/L31 -> #DIV/0!
A94: =A74 -> РП6 | B94: =B32 -> [Въведете име на работен пакет 6 - ако е приложимо] | C94: =C74/C32 -> #DIV/0! | D94: =D74/D32 -> #DIV/0! | E94: =E74/E32 -> #DIV/0! | F94: =F74/F32 -> #DIV/0! | G94: =G74/G32 -> #DIV/0! | H94: =H74/H32 -> #DIV/0! | I94: =I74/I32 -> #DIV/0! | J94: =J74/J32 -> #DIV/0! | ... L94: =L74/L32 -> #DIV/0!
A95: =A75 -> РП7 | B95: =B33 -> [Въведете име на работен пакет 7 - ако е приложимо] | C95: =C75/C33 -> #DIV/0! | D95: =D75/D33 -> #DIV/0! | E95: =E75/E33 -> #DIV/0! | F95: =F75/F33 -> #DIV/0! | G95: =G75/G33 -> #DIV/0! | H95: =H75/H33 -> #DIV/0! | I95: =I75/I33 -> #DIV/0! | J95: =J75/J33 -> #DIV/0! | ... L95: =L75/L33 -> #DIV/0!
A96: =A76 -> РП8 | B96: =B34 -> [Въведете име на работен пакет 8 - ако е приложимо] | C96: =C76/C34 -> #DIV/0! | D96: =D76/D34 -> #DIV/0! | E96: =E76/E34 -> #DIV/0! | F96: =F76/F34 -> #DIV/0! | G96: =G76/G34 -> #DIV/0! | H96: =H76/H34 -> #DIV/0! | I96: =I76/I34 -> #DIV/0! | J96: =J76/J34 -> #DIV/0! | ... L96: =L76/L34 -> #DIV/0!
B97: =B77 -> ПРЕКИ РАЗХОДИ | C97: =C77/C35 -> #DIV/0! | D97: =D77/D35 -> #DIV/0! | E97: =E77/E35 -> #DIV/0! | F97: =F77/F35 -> #DIV/0! | G97: =G77/G35 -> #DIV/0! | H97: =H77/H35 -> #DIV/0! | I97: =I77/I35 -> #DIV/0! | J97: =J77/J35 -> #DIV/0! | ... L97: =L77/L35 -> #DIV/0!
A98: =A78 -> G | B98: =B78 -> Непреки разходи | C98: =C78/C36 -> #DIV/0! | D98: =D78/D36 -> #DIV/0! | E98: =E78/E36 -> #DIV/0! | F98: =F78/F36 -> #DIV/0! | G98: =G78/G36 -> #DIV/0! | H98: =H78/H36 -> #DIV/0! | I98: =I78/I36 -> #DIV/0! | J98: =J78/J36 -> #DIV/0! | ... L98: =L78/L36 -> #DIV/0!
A99: =A79 -> G1 | B99: =B79 -> Административни разходи (10%) | C99: =C79/C37 -> #DIV/0! | D99: =D79/D37 -> #DIV/0! | E99: =E79/E37 -> #DIV/0! | F99: =F79/F37 -> #DIV/0! | G99: =G79/G37 -> #DIV/0! | H99: =H79/H37 -> #DIV/0! | I99: =I79/I37 -> #DIV/0! | J99: =J79/J37 -> #DIV/0! | ... L99: =L79/L37 -> #DIV/0!
A100: =A80 -> G2 | B100: =B80 -> Разходи за изграждане на организационен капацитет и развитие (до 15%) | C100: =C80/C38 -> #DIV/0! | D100: =D80/D38 -> #DIV/0! | E100: =E80/E38 -> #DIV/0! | F100: =F80/F38 -> #DIV/0! | G100: =G80/G38 -> #DIV/0! | H100: =H80/H38 -> #DIV/0! | I100: =I80/I38 -> #DIV/0! | J100: =J80/J38 -> #DIV/0! | ... L100: =L80/L38 -> #DIV/0!
B101: =B81 -> Съотношение G2/Преки разходи | C101: =C81/C39 -> #DIV/0! | D101: =D81/D39 -> #DIV/0! | E101: =E81/E39 -> #DIV/0! | F101: =F81/F39 -> #DIV/0! | G101: =G81/G39 -> #DIV/0! | H101: =H81/H39 -> #DIV/0! | I101: =I81/I39 -> #DIV/0! | J101: =J81/J39 -> #DIV/0! | ... L101: =L81/L39 -> #DIV/0! | M101: 1
B102: =B82 -> ОБЩО РАЗХОДИ | C102: =C82/C40 -> #DIV/0! | D102: =D82/D40 -> #DIV/0! | E102: =E82/E40 -> #DIV/0! | F102: =F82/F40 -> #DIV/0! | G102: =G82/G40 -> #DIV/0! | H102: =H82/H40 -> #DIV/0! | I102: =I82/I40 -> #DIV/0! | J102: =J82/J40 -> #DIV/0! | ... L102: =L82/L40 -> #DIV/0!
A106: Да
A107: Не

Sheet Финансов отчет по категории
B2: Отчетени суми по работни пакети и категории разходи (в EUR) | E2: Към дата | F2: ='Финансов отчет по партньори'!E45 -> 0 | H2: Период на отчитане: | I2: от: | J2: ='Финансов отчет по партньори'!H45 -> 0 | K2: до: | L2: ='Финансов отчет по партньори'!J45 -> 0
I4: Отчетни периоди:
D5: Одобрен бюджет към датата на отчета | E5: Актуализиран бюджет (ако няма промяна се копират стойностите от колона D) | F5: Общи разходи по проекта (с натрупване) | G5: Оставащи от бюджета | H5: Дял към дата (%) | I5: 1 | J5: 2 | K5: 3 | L5: 4 | M5: 5 | N5: 6 | O5: 7
I6: С2 2025 | J6: С1 2026 | K6: С2 2026 | L6: С1 2027 | M6: С2 2027 | N6: С1 2028 | O6: С2 2028
B7: ='Финансов отчет по партньори'!A8 -> РП1 | C7: ='Финансов отчет по партньори'!B8 -> [Въведете име на работен пакет 1] | D7: =SUM(D8:D13) -> 0 | E7: =SUM(E8:E13) -> 0 | F7: =SUM(F8:F13) -> 0 | G7: =E7-F7 -> 0 | H7: =F7/E7 -> #DIV/0! | I7: =SUM(I8:I13) -> 0 | J7: =SUM(J8:J13) -> 0 | L7: =SUM(L8:L13) -> 0 | M7: =SUM(M8:M13) -> 0 | O7: =SUM(O8:O13) -> 0
B8: A | C8: Разходи за персонал | F8: =SUM(I8:O8) -> 0 | G8: =E8-F8 -> 0 | H8: =F8/E8 -> #DIV/0! | I8: =SUMIFS(Table217[Общо (EUR)],Table217[Отчетен период],'Финансов отчет по категории'!I$5,Table217[РП №],'Финансов отчет по категории'!$B$7,Table217[Категория разход],'Финансов отчет по категории'!B8) -> 0 | J8: =SUMIFS(Table217[Общо (EUR)],Table217[Отчетен период],'Финансов отчет по категории'!J$5,Table217[РП №],'Финансов отчет по категории'!$B$7,Table217[Категория разход],'Финансов отчет по категории'!B8) -> 0 | K8: =SUMIFS(Table217[Общо (EUR)],Table217[Отчетен период],'Финансов отчет по категории'!K$5,Table217[РП №],'Финансов отчет по категории'!$B$7,Table217[Категория разход],'Финансов отчет по категории'!B8) -> 0 | L8: =SUMIFS(Table217[Общо (EUR)],Table217[Отчетен период],'Финансов отчет по категории'!L$5,Table217[РП №],'Финансов отчет по категории'!$B$7,Table217[Категория разход],'Финансов отчет по категории'!B8) -> 0 | M8: =SUMIFS(Table217[Общо (EUR)],Table217[Отчетен период],'Финансов отчет по категории'!M$5,Table217[РП №],'Финансов отчет по категории'!$B$7,Table217[Категория разход],'Финансов отчет по категории'!B8) -> 0 | N8: =SUMIFS(Table217[Общо (EUR)],Table217[Отчетен период],'Финансов отчет по категории'!N$5,Table217[РП №],'Финансов отчет по категории'!$B$7,Table217[Категория разход],'Финансов отчет по категории'!B8) -> 0 | O8: =SUMIFS(Table217[Общо (EUR)],Table217[Отчетен период],'Финансов отчет по категории'!O$5,Table217[РП №],'Финансов отчет по категории'!$B$7,Table217[Категория разход],'Финансов отчет по категории'!B8) -> 0
B9: B | C9: Разходи за пътуване, настаняване и престой | F9: =SUM(I9:O9) -> 0 | G9: =E9-F9 -> 0 | H9: =F9/E9 -> #DIV/0! | I9: =SUMIFS(Table217[Общо (EUR)],Table217[Отчетен период],'Финансов отчет по категории'!I$5,Table217[РП №],'Финансов отчет по категории'!$B$7,Table217[Категория разход],'Финансов отчет по категории'!B9) -> 0 | J9: =SUMIFS(Table217[Общо (EUR)],Table217[Отчетен период],'Финансов отчет по категории'!J$5,Table217[РП №],'Финансов отчет по категории'!$B$7,Table217[Категория разход],'Финансов отчет по категории'!B9) -> 0 | K9: =SUMIFS(Table217[Общо (EUR)],Table217[Отчетен период],'Финансов отчет по категории'!K$5,Table217[РП №],'Финансов отчет по категории'!$B$7,Table217[Категория разход],'Финансов отчет по категории'!B9) -> 0 | L9: =SUMIFS(Table217[Общо (EUR)],Table217[Отчетен период],'Финансов отчет по категории'!L$5,Table217[РП №],'Финансов отчет по категории'!$B$7,Table217[Категория разход],'Финансов отчет по категории'!B9) -> 0 | M9: =SUMIFS(Table217[Общо (EUR)],Table217[Отчетен период],'Финансов отчет по категории'!M$5,Table217[РП №],'Финансов отчет по категории'!$B$7,Table217[Категория разход],'Финансов отчет по категории'!B9) -> 0 | N9: =SUMIFS(Table217[Общо (EUR)],Table217[Отчетен период],'Финансов отчет по категории'!N$5,Table217[РП №],'Финансов отчет по категории'!$B$7,Table217[Категория разход],'Финансов отчет по категории'!B9) -> 0 | O9: =SUMIFS(Table217[Общо (EUR)],Table217[Отчетен период],'Финансов отчет по категории'!O$5,Table217[РП №],'Финансов отчет по категории'!$B$7,Table217[Категория разход],'Финансов отчет по категории'!B9) -> 0
B10: C | C10: Разходи за материали и консумативи | F10: =SUM(I10:O10) -> 0 | G10: =E10-F10 -> 0 | H10: =F10/E10 -> #DIV/0! | I10: =SUMIFS(Table217[Общо (EUR)],Table217[Отчетен период],'Финансов отчет по категории'!I$5,Table217[РП №],'Финансов отчет по категории'!$B$7,Table217[Категория разход],'Финансов отчет по категории'!B10) -> 0 | J10: =SUMIFS(Table217[Общо (EUR)],Table217[Отчетен период],'Финансов отчет по категории'!J$5,Table217[РП №],'Финансов отчет по категории'!$B$7,Table217[Категория разход],'Финансов отчет по категории'!B10) -> 0 | K10: =SUMIFS(Table217[Общо (EUR)],Table217[Отчетен период],'Финансов отчет по категории'!K$5,Table217[РП №],'Финансов отчет по категории'!$B$7,Table217[Категория разход],'Финансов отчет по категории'!B10) -> 0 | L10: =SUMIFS(Table217[Общо (EUR)],Table217[Отчетен период],'Финансов отчет по категории'!L$5,Table217[РП №],'Финансов отчет по категории'!$B$7,Table217[Категория разход],'Финансов отчет по категории'!B10) -> 0 | M10: =SUMIFS(Table217[Общо (EUR)],Table217[Отчетен период],'Финансов отчет по категории'!M$5,Table217[РП №],'Финансов отчет по категории'!$B$7,Table217[Категория разход],'Финансов отчет по категории'!B10) -> 0 | N10: =SUMIFS(Table217[Общо (EUR)],Table217[Отчетен период],'Финансов отчет по категории'!N$5,Table217[РП №],'Финансов отчет по категории'!$B$7,Table217[Категория разход],'Финансов отчет по категории'!B10) -> 0 | O10: =SUMIFS(Table217[Общо (EUR)],Table217[Отчетен период],'Финансов отчет по категории'!O$5,Table217[РП №],'Финансов отчет по категории'!$B$7,Table217[Категория разход],'Финансов отчет по категории'!B10) -> 0
B11: D | C11: Инвестиционни разходи | F11: =SUM(I11:O11) -> 0 | G11: =E11-F11 -> 0 | H11: =F11/E11 -> #DIV/0! | I11: =SUMIFS(Table217[Общо (EUR)],Table217[Отчетен период],'Финансов отчет по категории'!I$5,Table217[РП №],'Финансов отчет по категории'!$B$7,Table217[Категория разход],'Финансов отчет по категории'!B11) -> 0 | J11: =SUMIFS(Table217[Общо (EUR)],Table217[Отчетен период],'Финансов отчет по категории'!J$5,Table217[РП №],'Финансов отчет по категории'!$B$7,Table217[Категория разход],'Финансов отчет по категории'!B11) -> 0 | K11: =SUMIFS(Table217[Общо (EUR)],Table217[Отчетен период],'Финансов отчет по категории'!K$5,Table217[РП №],'Финансов отчет по категории'!$B$7,Table217[Категория разход],'Финансов отчет по категории'!B11) -> 0 | L11: =SUMIFS(Table217[Общо (EUR)],Table217[Отчетен период],'Финансов отчет по категории'!L$5,Table217[РП №],'Финансов отчет по категории'!$B$7,Table217[Категория разход],'Финансов отчет по категории'!B11) -> 0 | M11: =SUMIFS(Table217[Общо (EUR)],Table217[Отчетен период],'Финансов отчет по категории'!M$5,Table217[РП №],'Финансов отчет по категории'!$B$7,Table217[Категория разход],'Финансов отчет по категории'!B11) -> 0 | N11: =SUMIFS(Table217[Общо (EUR)],Table217[Отчетен период],'Финансов отчет по категории'!N$5,Table217[РП №],'Финансов отчет по категории'!$B$7,Table217[Категория разход],'Финансов отчет по категории'!B11) -> 0 | O11: =SUMIFS(Table217[Общо (EUR)],Table217[Отчетен период],'Финансов отчет по категории'!O$5,Table217[РП №],'Финансов отчет по категории'!$B$7,Table217[Категория разход],'Финансов отчет по категории'!B11) -> 0
B12: E | C12: Разходи за малки строително-ремонтни дейности | F12: =SUM(I12:O12) -> 0 | G12: =E12-F12 -> 0 | H12: =F12/E12 -> #DIV/0! | I12: =SUMIFS(Table217[Общо (EUR)],Table217[Отчетен период],'Финансов отчет по категории'!I$5,Table217[РП №],'Финансов отчет по категории'!$B$7,Table217[Категория разход],'Финансов отчет по категории'!B12) -> 0 | J12: =SUMIFS(Table217[Общо (EUR)],Table217[Отчетен период],'Финансов отчет по категории'!J$5,Table217[РП №],'Финансов отчет по категории'!$B$7,Table217[Категория разход],'Финансов отчет по категории'!B12) -> 0 | K12: =SUMIFS(Table217[Общо (EUR)],Table217[Отчетен период],'Финансов отчет по категории'!K$5,Table217[РП №],'Финансов отчет по категории'!$B$7,Table217[Категория разход],'Финансов отчет по категории'!B12) -> 0 | L12: =SUMIFS(Table217[Общо (EUR)],Table217[Отчетен период],'Финансов отчет по категории'!L$5,Table217[РП №],'Финансов отчет по категории'!$B$7,Table217[Категория разход],'Финансов отчет по категории'!B12) -> 0 | M12: =SUMIFS(Table217[Общо (EUR)],Table217[Отчетен период],'Финансов отчет по категории'!M$5,Table217[РП №],'Финансов отчет по категории'!$B$7,Table217[Категория разход],'Финансов отчет по категории'!B12) -> 0 | N12: =SUMIFS(Table217[Общо (EUR)],Table217[Отчетен период],'Финансов отчет по категории'!N$5,Table217[РП №],'Финансов отчет по категории'!$B$7,Table217[Категория разход],'Финансов отчет по категории'!B12) -> 0 | O12: =SUMIFS(Table217[Общо (EUR)],Table217[Отчетен период],'Финансов отчет по категории'!O$5,Table217[РП №],'Финансов отчет по категории'!$B$7,Table217[Категория разход],'Финансов отчет по категории'!B12) -> 0
B13: F | C13: Разходи за външни услуги и експертиза | F13: =SUM(I13:O13) -> 0 | G13: =E13-F13 -> 0 | H13: =F13/E13 -> #DIV/0! | I13: =SUMIFS(Table217[Общо (EUR)],Table217[Отчетен период],'Финансов отчет по категории'!I$5,Table217[РП №],'Финансов отчет по категории'!$B$7,Table217[Категория разход],'Финансов отчет по категории'!B13) -> 0 | J13: =SUMIFS(Table217[Общо (EUR)],Table217[Отчетен период],'Финансов отчет по категории'!J$5,Table217[РП №],'Финансов отчет по категории'!$B$7,Table217[Категория разход],'Финансов отчет по категории'!B13) -> 0 | K13: =SUMIFS(Table217[Общо (EUR)],Table217[Отчетен период],'Финансов отчет по категории'!K$5,Table217[РП №],'Финансов отчет по категории'!$B$7,Table217[Категория разход],'Финансов отчет по категории'!B13) -> 0 | L13: =SUMIFS(Table217[Общо (EUR)],Table217[Отчетен период],'Финансов отчет по категории'!L$5,Table217[РП №],'Финансов отчет по категории'!$B$7,Table217[Категория разход],'Финансов отчет по категории'!B13) -> 0 | M13: =SUMIFS(Table217[Общо (EUR)],Table217[Отчетен период],'Финансов отчет по категории'!M$5,Table217[РП №],'Финансов отчет по категории'!$B$7,Table217[Категория разход],'Финансов отчет по категории'!B13) -> 0 | N13: =SUMIFS(Table217[Общо (EUR)],Table217[Отчетен период],'Финансов отчет по категории'!N$5,Table217[РП №],'Финансов отчет по категории'!$B$7,Table217[Категория разход],'Финансов отчет по категории'!B13) -> 0 | O13: =SUMIFS(Table217[Общо (EUR)],Table217[Отчетен период],'Финансов отчет по категории'!O$5,Table217[РП №],'Финансов отчет по категории'!$B$7,Table217[Категория разход],'Финансов отчет по категории'!B13) -> 0
B14: ='Финансов отчет по партньори'!A9 -> РП2 | C14: ='Финансов отчет по партньори'!B9 -> [Въведете име на работен пакет 2] | D14: =SUM(D15:D20) -> 0 | E14: =SUM(E15:E20) -> 0 | F14: =SUM(F15:F20) -> 0 | G14: =E14-F14 -> 0 | H14: =F14/E14 -> #DIV/0! | I14: =SUM(I15:I20) -> 0 | J14: =SUM(J15:J20) -> 0 | K14: =SUM(K15:K20) -> 0 | L14: =SUM(L15:L20) -> 0 | M14: =SUM(M15:M20) -> 0 | N14: =SUM(N15:N20) -> 0 | O14: =SUM(O15:O20) -> 0
B15: A | C15: =C8 -> Разходи за персонал | F15: =SUM(I15:O15) -> 0 | G15: =E15-F15 -> 0 | H15: =F15/E15 -> #DIV/0! | I15: =SUMIFS(Table217[Общо (EUR)],Table217[Отчетен период],'Финансов отчет по категории'!I$5,Table217[РП №],'Финансов отчет по категории'!$B$14,Table217[Категория разход],'Финансов отчет по категории'!B15) -> 0 | J15: =SUMIFS(Table217[Общо (EUR)],Table217[Отчетен период],'Финансов отчет по категории'!J$5,Table217[РП №],'Финансов отчет по категории'!$B$14,Table217[Категория разход],'Финансов отчет по категории'!B15) -> 0 | K15: =SUMIFS(Table217[Общо (EUR)],Table217[Отчетен период],'Финансов отчет по категории'!K$5,Table217[РП №],'Финансов отчет по категории'!$B$14,Table217[Категория разход],'Финансов отчет по категории'!B15) -> 0 | L15: =SUMIFS(Table217[Общо (EUR)],Table217[Отчетен период],'Финансов отчет по категории'!L$5,Table217[РП №],'Финансов отчет по категории'!$B$14,Table217[Категория разход],'Финансов отчет по категории'!B15) -> 0 | M15: =SUMIFS(Table217[Общо (EUR)],Table217[Отчетен период],'Финансов отчет по категории'!M$5,Table217[РП №],'Финансов отчет по категории'!$B$14,Table217[Категория разход],'Финансов отчет по категории'!B15) -> 0 | N15: =SUMIFS(Table217[Общо (EUR)],Table217[Отчетен период],'Финансов отчет по категории'!N$5,Table217[РП №],'Финансов отчет по категории'!$B$14,Table217[Категория разход],'Финансов отчет по категории'!B15) -> 0 | O15: =SUMIFS(Table217[Общо (EUR)],Table217[Отчетен период],'Финансов отчет по категории'!O$5,Table217[РП №],'Финансов отчет по категории'!$B$14,Table217[Категория разход],'Финансов отчет по категории'!B15) -> 0
B16: B | C16: =C9 -> Разходи за пътуване, настаняване и престой | F16: =SUM(I16:O16) -> 0 | G16: =E16-F16 -> 0 | H16: =F16/E16 -> #DIV/0! | I16: =SUMIFS(Table217[Общо (EUR)],Table217[Отчетен период],'Финансов отчет по категории'!I$5,Table217[РП №],'Финансов отчет по категории'!$B$14,Table217[Категория разход],'Финансов отчет по категории'!B16) -> 0 | J16: =SUMIFS(Table217[Общо (EUR)],Table217[Отчетен период],'Финансов отчет по категории'!J$5,Table217[РП №],'Финансов отчет по категории'!$B$14,Table217[Категория разход],'Финансов отчет по категории'!B16) -> 0 | K16: =SUMIFS(Table217[Общо (EUR)],Table217[Отчетен период],'Финансов отчет по категории'!K$5,Table217[РП №],'Финансов отчет по категории'!$B$14,Table217[Категория разход],'Финансов отчет по категории'!B16) -> 0 | L16: =SUMIFS(Table217[Общо (EUR)],Table217[Отчетен период],'Финансов отчет по категории'!L$5,Table217[РП №],'Финансов отчет по категории'!$B$14,Table217[Категория разход],'Финансов отчет по категории'!B16) -> 0 | M16: =SUMIFS(Table217[Общо (EUR)],Table217[Отчетен период],'Финансов отчет по категории'!M$5,Table217[РП №],'Финансов отчет по категории'!$B$14,Table217[Категория разход],'Финансов отчет по категории'!B16) -> 0 | N16: =SUMIFS(Table217[Общо (EUR)],Table217[Отчетен период],'Финансов отчет по категории'!N$5,Table217[РП №],'Финансов отчет по категории'!$B$14,Table217[Категория разход],'Финансов отчет по категории'!B16) -> 0 | O16: =SUMIFS(Table217[Общо (EUR)],Table217[Отчетен период],'Финансов отчет по категории'!O$5,Table217[РП №],'Финансов отчет по категории'!$B$14,Table217[Категория разход],'Финансов отчет по категории'!B16) -> 0
B17: C | C17: =C10 -> Разходи за материали и консумативи | F17: =SUM(I17:O17) -> 0 | G17: =E17-F17 -> 0 | H17: =F17/E17 -> #DIV/0! | I17: =SUMIFS(Table217[Общо (EUR)],Table217[Отчетен период],'Финансов отчет по категории'!I$5,Table217[РП №],'Финансов отчет по категории'!$B$14,Table217[Категория разход],'Финансов отчет по категории'!B17) -> 0 | J17: =SUMIFS(Table217[Общо (EUR)],Table217[Отчетен период],'Финансов отчет по категории'!J$5,Table217[РП №],'Финансов отчет по категории'!$B$14,Table217[Категория разход],'Финансов отчет по категории'!B17) -> 0 | K17: =SUMIFS(Table217[Общо (EUR)],Table217[Отчетен период],'Финансов отчет по категории'!K$5,Table217[РП №],'Финансов отчет по категории'!$B$14,Table217[Категория разход],'Финансов отчет по категории'!B17) -> 0 | L17: =SUMIFS(Table217[Общо (EUR)],Table217[Отчетен период],'Финансов отчет по категории'!L$5,Table217[РП №],'Финансов отчет по категории'!$B$14,Table217[Категория разход],'Финансов отчет по категории'!B17) -> 0 | M17: =SUMIFS(Table217[Общо (EUR)],Table217[Отчетен период],'Финансов отчет по категории'!M$5,Table217[РП №],'Финансов отчет по категории'!$B$14,Table217[Категория разход],'Финансов отчет по категории'!B17) -> 0 | N17: =SUMIFS(Table217[Общо (EUR)],Table217[Отчетен период],'Финансов отчет по категории'!N$5,Table217[РП №],'Финансов отчет по категории'!$B$14,Table217[Категория разход],'Финансов отчет по категории'!B17) -> 0 | O17: =SUMIFS(Table217[Общо (EUR)],Table217[Отчетен период],'Финансов отчет по категории'!O$5,Table217[РП №],'Финансов отчет по категории'!$B$14,Table217[Категория разход],'Финансов отчет по категории'!B17) -> 0
B18: D | C18: =C11 -> Инвестиционни разходи | F18: =SUM(I18:O18) -> 0 | G18: =E18-F18 -> 0 | H18: =F18/E18 -> #DIV/0! | I18: =SUMIFS(Table217[Общо (EUR)],Table217[Отчетен период],'Финансов отчет по категории'!I$5,Table217[РП №],'Финансов отчет по категории'!$B$14,Table217[Категория разход],'Финансов отчет по категории'!B18) -> 0 | J18: =SUMIFS(Table217[Общо (EUR)],Table217[Отчетен период],'Финансов отчет по категории'!J$5,Table217[РП №],'Финансов отчет по категории'!$B$14,Table217[Категория разход],'Финансов отчет по категории'!B18) -> 0 | K18: =SUMIFS(Table217[Общо (EUR)],Table217[Отчетен период],'Финансов отчет по категории'!K$5,Table217[РП №],'Финансов отчет по категории'!$B$14,Table217[Категория разход],'Финансов отчет по категории'!B18) -> 0 | L18: =SUMIFS(Table217[Общо (EUR)],Table217[Отчетен период],'Финансов отчет по категории'!L$5,Table217[РП №],'Финансов отчет по категории'!$B$14,Table217[Категория разход],'Финансов отчет по категории'!B18) -> 0 | M18: =SUMIFS(Table217[Общо (EUR)],Table217[Отчетен период],'Финансов отчет по категории'!M$5,Table217[РП №],'Финансов отчет по категории'!$B$14,Table217[Категория разход],'Финансов отчет по категории'!B18) -> 0 | N18: =SUMIFS(Table217[Общо (EUR)],Table217[Отчетен период],'Финансов отчет по категории'!N$5,Table217[РП №],'Финансов отчет по категории'!$B$14,Table217[Категория разход],'Финансов отчет по категории'!B18) -> 0 | O18: =SUMIFS(Table217[Общо (EUR)],Table217[Отчетен период],'Финансов отчет по категории'!O$5,Table217[РП №],'Финансов отчет по категории'!$B$14,Table217[Категория разход],'Финансов отчет по категории'!B18) -> 0
B19: E | C19: =C12 -> Разходи за малки строително-ремонтни дейности | F19: =SUM(I19:O19) -> 0 | G19: =E19-F19 -> 0 | H19: =F19/E19 -> #DIV/0! | I19: =SUMIFS(Table217[Общо (EUR)],Table217[Отчетен период],'Финансов отчет по категории'!I$5,Table217[РП №],'Финансов отчет по категории'!$B$14,Table217[Категория разход],'Финансов отчет по категории'!B19) -> 0 | J19: =SUMIFS(Table217[Общо (EUR)],Table217[Отчетен период],'Финансов отчет по категории'!J$5,Table217[РП №],'Финансов отчет по категории'!$B$14,Table217[Категория разход],'Финансов отчет по категории'!B19) -> 0 | K19: =SUMIFS(Table217[Общо (EUR)],Table217[Отчетен период],'Финансов отчет по категории'!K$5,Table217[РП №],'Финансов отчет по категории'!$B$14,Table217[Категория разход],'Финансов отчет по категории'!B19) -> 0 | L19: =SUMIFS(Table217[Общо (EUR)],Table217[Отчетен период],'Финансов отчет по категории'!L$5,Table217[РП №],'Финансов отчет по категории'!$B$14,Table217[Категория разход],'Финансов отчет по категории'!B19) -> 0 | M19: =SUMIFS(Table217[Общо (EUR)],Table217[Отчетен период],'Финансов отчет по категории'!M$5,Table217[РП №],'Финансов отчет по категории'!$B$14,Table217[Категория разход],'Финансов отчет по категории'!B19) -> 0 | N19: =SUMIFS(Table217[Общо (EUR)],Table217[Отчетен период],'Финансов отчет по категории'!N$5,Table217[РП №],'Финансов отчет по категории'!$B$14,Table217[Категория разход],'Финансов отчет по категории'!B19) -> 0 | O19: =SUMIFS(Table217[Общо (EUR)],Table217[Отчетен период],'Финансов отчет по категории'!O$5,Table217[РП №],'Финансов отчет по категории'!$B$14,Table217[Категория разход],'Финансов отчет по категории'!B19) -> 0
B20: F | C20: =C13 -> Разходи за външни услуги и експертиза | F20: =SUM(I20:O20) -> 0 | G20: =E20-F20 -> 0 | H20: =F20/E20 -> #DIV/0! | I20: =SUMIFS(Table217[Общо (EUR)],Table217[Отчетен период],'Финансов отчет по категории'!I$5,Table217[РП №],'Финансов отчет по категории'!$B$14,Table217[Категория разход],'Финансов отчет по категории'!B20) -> 0 | J20: =SUMIFS(Table217[Общо (EUR)],Table217[Отчетен период],'Финансов отчет по категории'!J$5,Table217[РП №],'Финансов отчет по категории'!$B$14,Table217[Категория разход],'Финансов отчет по категории'!B20) -> 0 | K20: =SUMIFS(Table217[Общо (EUR)],Table217[Отчетен период],'Финансов отчет по категории'!K$5,Table217[РП №],'Финансов отчет по категории'!$B$14,Table217[Категория разход],'Финансов отчет по категории'!B20) -> 0 | L20: =SUMIFS(Table217[Общо (EUR)],Table217[Отчетен период],'Финансов отчет по категории'!L$5,Table217[РП №],'Финансов отчет по категории'!$B$14,Table217[Категория разход],'Финансов отчет по категории'!B20) -> 0 | M20: =SUMIFS(Table217[Общо (EUR)],Table217[Отчетен период],'Финансов отчет по категории'!M$5,Table217[РП №],'Финансов отчет по категории'!$B$14,Table217[Категория разход],'Финансов отчет по категории'!B20) -> 0 | N20: =SUMIFS(Table217[Общо (EUR)],Table217[Отчетен период],'Финансов отчет по категории'!N$5,Table217[РП №],'Финансов отчет по категории'!$B$14,Table217[Категория разход],'Финансов отчет по категории'!B20) -> 0 | O20: =SUMIFS(Table217[Общо (EUR)],Table217[Отчетен период],'Финансов отчет по категории'!O$5,Table217[РП №],'Финансов отчет по категории'!$B$14,Table217[Категория разход],'Финансов отчет по категории'!B20) -> 0
B21: ='Финансов отчет по партньори'!A10 -> РП3 | C21: ='Финансов отчет по партньори'!B10 -> [Въведете име на работен пакет 3] | D21: =SUM(D22:D27) -> 0 | E21: =SUM(E22:E27) -> 0 | F21: =SUM(F22:F27) -> 0 | G21: =E21-F21 -> 0 | H21: =F21/E21 -> #DIV/0! | I21: =SUM(I22:I27) -> 0 | J21: =SUM(J22:J27) -> 0 | K21: =SUM(K22:K27) -> 0 | L21: =SUM(L22:L27) -> 0 | M21: =SUM(M22:M27) -> 0 | N21: =SUM(N22:N27) -> 0 | O21: =SUM(O22:O27) -> 0
B22: A | C22: =C15 -> Разходи за персонал | F22: =SUM(I22:O22) -> 0 | G22: =E22-F22 -> 0 | H22: =F22/E22 -> #DIV/0! | I22: =SUMIFS(Table217[Общо (EUR)],Table217[Отчетен период],'Финансов отчет по категории'!I$5,Table217[РП №],'Финансов отчет по категории'!$B$21,Table217[Категория разход],'Финансов отчет по категории'!B22) -> 0 | J22: =SUMIFS(Table217[Общо (EUR)],Table217[Отчетен период],'Финансов отчет по категории'!J$5,Table217[РП №],'Финансов отчет по категории'!$B$21,Table217[Категория разход],'Финансов отчет по категории'!B22) -> 0 | K22: =SUMIFS(Table217[Общо (EUR)],Table217[Отчетен период],'Финансов отчет по категории'!K$5,Table217[РП №],'Финансов отчет по категории'!$B$21,Table217[Категория разход],'Финансов отчет по категории'!B22) -> 0 | L22: =SUMIFS(Table217[Общо (EUR)],Table217[Отчетен период],'Финансов отчет по категории'!L$5,Table217[РП №],'Финансов отчет по категории'!$B$21,Table217[Категория разход],'Финансов отчет по категории'!B22) -> 0 | M22: =SUMIFS(Table217[Общо (EUR)],Table217[Отчетен период],'Финансов отчет по категории'!M$5,Table217[РП №],'Финансов отчет по категории'!$B$21,Table217[Категория разход],'Финансов отчет по категории'!B22) -> 0 | N22: =SUMIFS(Table217[Общо (EUR)],Table217[Отчетен период],'Финансов отчет по категории'!N$5,Table217[РП №],'Финансов отчет по категории'!$B$21,Table217[Категория разход],'Финансов отчет по категории'!B22) -> 0 | O22: =SUMIFS(Table217[Общо (EUR)],Table217[Отчетен период],'Финансов отчет по категории'!O$5,Table217[РП №],'Финансов отчет по категории'!$B$21,Table217[Категория разход],'Финансов отчет по категории'!B22) -> 0
B23: B | C23: =C16 -> Разходи за пътуване, настаняване и престой | F23: =SUM(I23:O23) -> 0 | G23: =E23-F23 -> 0 | H23: =F23/E23 -> #DIV/0! | I23: =SUMIFS(Table217[Общо (EUR)],Table217[Отчетен период],'Финансов отчет по категории'!I$5,Table217[РП №],'Финансов отчет по категории'!$B$21,Table217[Категория разход],'Финансов отчет по категории'!B23) -> 0 | J23: =SUMIFS(Table217[Общо (EUR)],Table217[Отчетен период],'Финансов отчет по категории'!J$5,Table217[РП №],'Финансов отчет по категории'!$B$21,Table217[Категория разход],'Финансов отчет по категории'!B23) -> 0 | K23: =SUMIFS(Table217[Общо (EUR)],Table217[Отчетен период],'Финансов отчет по категории'!K$5,Table217[РП №],'Финансов отчет по категории'!$B$21,Table217[Категория разход],'Финансов отчет по категории'!B23) -> 0 | L23: =SUMIFS(Table217[Общо (EUR)],Table217[Отчетен период],'Финансов отчет по категории'!L$5,Table217[РП №],'Финансов отчет по категории'!$B$21,Table217[Категория разход],'Финансов отчет по категории'!B23) -> 0 | M23: =SUMIFS(Table217[Общо (EUR)],Table217[Отчетен период],'Финансов отчет по категории'!M$5,Table217[РП №],'Финансов отчет по категории'!$B$21,Table217[Категория разход],'Финансов отчет по категории'!B23) -> 0 | N23: =SUMIFS(Table217[Общо (EUR)],Table217[Отчетен период],'Финансов отчет по категории'!N$5,Table217[РП №],'Финансов отчет по категории'!$B$21,Table217[Категория разход],'Финансов отчет по категории'!B23) -> 0 | O23: =SUMIFS(Table217[Общо (EUR)],Table217[Отчетен период],'Финансов отчет по категории'!O$5,Table217[РП №],'Финансов отчет по категории'!$B$21,Table217[Категория разход],'Финансов отчет по категории'!B23) -> 0
B24: C | C24: =C17 -> Разходи за материали и консумативи | F24: =SUM(I24:O24) -> 0 | G24: =E24-F24 -> 0 | H24: =F24/E24 -> #DIV/0! | I24: =SUMIFS(Table217[Общо (EUR)],Table217[Отчетен период],'Финансов отчет по категории'!I$5,Table217[РП №],'Финансов отчет по категории'!$B$21,Table217[Категория разход],'Финансов отчет по категории'!B24) -> 0 | J24: =SUMIFS(Table217[Общо (EUR)],Table217[Отчетен период],'Финансов отчет по категории'!J$5,Table217[РП №],'Финансов отчет по категории'!$B$21,Table217[Категория разход],'Финансов отчет по категории'!B24) -> 0 | K24: =SUMIFS(Table217[Общо (EUR)],Table217[Отчетен период],'Финансов отчет по категории'!K$5,Table217[РП №],'Финансов отчет по категории'!$B$21,Table217[Категория разход],'Финансов отчет по категории'!B24) -> 0 | L24: =SUMIFS(Table217[Общо (EUR)],Table217[Отчетен период],'Финансов отчет по категории'!L$5,Table217[РП №],'Финансов отчет по категории'!$B$21,Table217[Категория разход],'Финансов отчет по категории'!B24) -> 0 | M24: =SUMIFS(Table217[Общо (EUR)],Table217[Отчетен период],'Финансов отчет по категории'!M$5,Table217[РП №],'Финансов отчет по категории'!$B$21,Table217[Категория разход],'Финансов отчет по категории'!B24) -> 0 | N24: =SUMIFS(Table217[Общо (EUR)],Table217[Отчетен период],'Финансов отчет по категории'!N$5,Table217[РП №],'Финансов отчет по категории'!$B$21,Table217[Категория разход],'Финансов отчет по категории'!B24) -> 0 | O24: =SUMIFS(Table217[Общо (EUR)],Table217[Отчетен период],'Финансов отчет по категории'!O$5,Table217[РП №],'Финансов отчет по категории'!$B$21,Table217[Категория разход],'Финансов отчет по категории'!B24) -> 0
B25: D | C25: =C18 -> Инвестиционни разходи | F25: =SUM(I25:O25) -> 0 | G25: =E25-F25 -> 0 | H25: =F25/E25 -> #DIV/0! | I25: =SUMIFS(Table217[Общо (EUR)],Table217[Отчетен период],'Финансов отчет по категории'!I$5,Table217[РП №],'Финансов отчет по категории'!$B$21,Table217[Категория разход],'Финансов отчет по категории'!B25) -> 0 | J25: =SUMIFS(Table217[Общо (EUR)],Table217[Отчетен период],'Финансов отчет по категории'!J$5,Table217[РП №],'Финансов отчет по категории'!$B$21,Table217[Категория разход],'Финансов отчет по категории'!B25) -> 0 | K25: =SUMIFS(Table217[Общо (EUR)],Table217[Отчетен период],'Финансов отчет по категории'!K$5,Table217[РП №],'Финансов отчет по категории'!$B$21,Table217[Категория разход],'Финансов отчет по категории'!B25) -> 0 | L25: =SUMIFS(Table217[Общо (EUR)],Table217[Отчетен период],'Финансов отчет по категории'!L$5,Table217[РП №],'Финансов отчет по категории'!$B$21,Table217[Категория разход],'Финансов отчет по категории'!B25) -> 0 | M25: =SUMIFS(Table217[Общо (EUR)],Table217[Отчетен период],'Финансов отчет по категории'!M$5,Table217[РП №],'Финансов отчет по категории'!$B$21,Table217[Категория разход],'Финансов отчет по категории'!B25) -> 0 | N25: =SUMIFS(Table217[Общо (EUR)],Table217[Отчетен период],'Финансов отчет по категории'!N$5,Table217[РП №],'Финансов отчет по категории'!$B$21,Table217[Категория разход],'Финансов отчет по категории'!B25) -> 0 | O25: =SUMIFS(Table217[Общо (EUR)],Table217[Отчетен период],'Финансов отчет по категории'!O$5,Table217[РП №],'Финансов отчет по категории'!$B$21,Table217[Категория разход],'Финансов отчет по категории'!B25) -> 0
B26: E | C26: =C19 -> Разходи за малки строително-ремонтни дейности | F26: =SUM(I26:O26) -> 0 | G26: =E26-F26 -> 0 | H26: =F26/E26 -> #DIV/0! | I26: =SUMIFS(Table217[Общо (EUR)],Table217[Отчетен период],'Финансов отчет по категории'!I$5,Table217[РП №],'Финансов отчет по категории'!$B$21,Table217[Категория разход],'Финансов отчет по категории'!B26) -> 0 | J26: =SUMIFS(Table217[Общо (EUR)],Table217[Отчетен период],'Финансов отчет по категории'!J$5,Table217[РП №],'Финансов отчет по категории'!$B$21,Table217[Категория разход],'Финансов отчет по категории'!B26) -> 0 | K26: =SUMIFS(Table217[Общо (EUR)],Table217[Отчетен период],'Финансов отчет по категории'!K$5,Table217[РП №],'Финансов отчет по категории'!$B$21,Table217[Категория разход],'Финансов отчет по категории'!B26) -> 0 | L26: =SUMIFS(Table217[Общо (EUR)],Table217[Отчетен период],'Финансов отчет по категории'!L$5,Table217[РП №],'Финансов отчет по категории'!$B$21,Table217[Категория разход],'Финансов отчет по категории'!B26) -> 0 | M26: =SUMIFS(Table217[Общо (EUR)],Table217[Отчетен период],'Финансов отчет по категории'!M$5,Table217[РП №],'Финансов отчет по категории'!$B$21,Table217[Категория разход],'Финансов отчет по категории'!B26) -> 0 | N26: =SUMIFS(Table217[Общо (EUR)],Table217[Отчетен период],'Финансов отчет по категории'!N$5,Table217[РП №],'Финансов отчет по категории'!$B$21,Table217[Категория разход],'Финансов отчет по категории'!B26) -> 0 | O26: =SUMIFS(Table217[Общо (EUR)],Table217[Отчетен период],'Финансов отчет по категории'!O$5,Table217[РП №],'Финансов отчет по категории'!$B$21,Table217[Категория разход],'Финансов отчет по категории'!B26) -> 0
B27: F | C27: =C20 -> Разходи за външни услуги и експертиза | F27: =SUM(I27:O27) -> 0 | G27: =E27-F27 -> 0 | H27: =F27/E27 -> #DIV/0! | I27: =SUMIFS(Table217[Общо (EUR)],Table217[Отчетен период],'Финансов отчет по категории'!I$5,Table217[РП №],'Финансов отчет по категории'!$B$21,Table217[Категория разход],'Финансов отчет по категории'!B27) -> 0 | J27: =SUMIFS(Table217[Общо (EUR)],Table217[Отчетен период],'Финансов отчет по категории'!J$5,Table217[РП №],'Финансов отчет по категории'!$B$21,Table217[Категория разход],'Финансов отчет по категории'!B27) -> 0 | K27: =SUMIFS(Table217[Общо (EUR)],Table217[Отчетен период],'Финансов отчет по категории'!K$5,Table217[РП №],'Финансов отчет по категории'!$B$21,Table217[Категория разход],'Финансов отчет по категории'!B27) -> 0 | L27: =SUMIFS(Table217[Общо (EUR)],Table217[Отчетен период],'Финансов отчет по категории'!L$5,Table217[РП №],'Финансов отчет по категории'!$B$21,Table217[Категория разход],'Финансов отчет по категории'!B27) -> 0 | M27: =SUMIFS(Table217[Общо (EUR)],Table217[Отчетен период],'Финансов отчет по категории'!M$5,Table217[РП №],'Финансов отчет по категории'!$B$21,Table217[Категория разход],'Финансов отчет по категории'!B27) -> 0 | N27: =SUMIFS(Table217[Общо (EUR)],Table217[Отчетен период],'Финансов отчет по категории'!N$5,Table217[РП №],'Финансов отчет по категории'!$B$21,Table217[Категория разход],'Финансов отчет по категории'!B27) -> 0 | O27: =SUMIFS(Table217[Общо (EUR)],Table217[Отчетен период],'Финансов отчет по категории'!O$5,Table217[РП №],'Финансов отчет по категории'!$B$21,Table217[Категория разход],'Финансов отчет по категории'!B27) -> 0
B28: ='Финансов отчет по партньори'!A11 -> РП4 | C28: ='Финансов отчет по партньори'!B11 -> [Въведете име на работен пакет 4] | D28: =SUM(D29:D34) -> 0 | E28: =SUM(E29:E34) -> 0 | F28: =SUM(F29:F34) -> 0 | G28: =E28-F28 -> 0 | H28: =F28/E28 -> #DIV/0! | I28: =SUM(I29:I34) -> 0 | J28: =SUM(J29:J34) -> 0 | K28: =SUM(K29:K34) -> 0 | L28: =SUM(L29:L34) -> 0 | M28: =SUM(M29:M34) -> 0 | N28: =SUM(N29:N34) -> 0 | O28: =SUM(O29:O34) -> 0
B29: A | C29: =C22 -> Разходи за персонал | F29: =SUM(I29:O29) -> 0 | G29: =E29-F29 -> 0 | H29: =F29/E29 -> #DIV/0! | I29: =SUMIFS(Table217[Общо (EUR)],Table217[Отчетен период],'Финансов отчет по категории'!I$5,Table217[РП №],'Финансов отчет по категории'!$B$28,Table217[Категория разход],'Финансов отчет по категории'!B29) -> 0 | J29: =SUMIFS(Table217[Общо (EUR)],Table217[Отчетен период],'Финансов отчет по категории'!J$5,Table217[РП №],'Финансов отчет по категории'!$B$28,Table217[Категория разход],'Финансов отчет по категории'!B29) -> 0 | K29: =SUMIFS(Table217[Общо (EUR)],Table217[Отчетен период],'Финансов отчет по категории'!K$5,Table217[РП №],'Финансов отчет по категории'!$B$28,Table217[Категория разход],'Финансов отчет по категории'!B29) -> 0 | L29: =SUMIFS(Table217[Общо (EUR)],Table217[Отчетен период],'Финансов отчет по категории'!L$5,Table217[РП №],'Финансов отчет по категории'!$B$28,Table217[Категория разход],'Финансов отчет по категории'!B29) -> 0 | M29: =SUMIFS(Table217[Общо (EUR)],Table217[Отчетен период],'Финансов отчет по категории'!M$5,Table217[РП №],'Финансов отчет по категории'!$B$28,Table217[Категория разход],'Финансов отчет по категории'!B29) -> 0 | N29: =SUMIFS(Table217[Общо (EUR)],Table217[Отчетен период],'Финансов отчет по категории'!N$5,Table217[РП №],'Финансов отчет по категории'!$B$28,Table217[Категория разход],'Финансов отчет по категории'!B29) -> 0 | O29: =SUMIFS(Table217[Общо (EUR)],Table217[Отчетен период],'Финансов отчет по категории'!O$5,Table217[РП №],'Финансов отчет по категории'!$B$28,Table217[Категория разход],'Финансов отчет по категории'!B29) -> 0
B30: B | C30: =C23 -> Разходи за пътуване, настаняване и престой | F30: =SUM(I30:O30) -> 0 | G30: =E30-F30 -> 0 | H30: =F30/E30 -> #DIV/0! | I30: =SUMIFS(Table217[Общо (EUR)],Table217[Отчетен период],'Финансов отчет по категории'!I$5,Table217[РП №],'Финансов отчет по категории'!$B$28,Table217[Категория разход],'Финансов отчет по категории'!B30) -> 0 | J30: =SUMIFS(Table217[Общо (EUR)],Table217[Отчетен период],'Финансов отчет по категории'!J$5,Table217[РП №],'Финансов отчет по категории'!$B$28,Table217[Категория разход],'Финансов отчет по категории'!B30) -> 0 | K30: =SUMIFS(Table217[Общо (EUR)],Table217[Отчетен период],'Финансов отчет по категории'!K$5,Table217[РП №],'Финансов отчет по категории'!$B$28,Table217[Категория разход],'Финансов отчет по категории'!B30) -> 0 | L30: =SUMIFS(Table217[Общо (EUR)],Table217[Отчетен период],'Финансов отчет по категории'!L$5,Table217[РП №],'Финансов отчет по категории'!$B$28,Table217[Категория разход],'Финансов отчет по категории'!B30) -> 0 | M30: =SUMIFS(Table217[Общо (EUR)],Table217[Отчетен период],'Финансов отчет по категории'!M$5,Table217[РП №],'Финансов отчет по категории'!$B$28,Table217[Категория разход],'Финансов отчет по категории'!B30) -> 0 | N30: =SUMIFS(Table217[Общо (EUR)],Table217[Отчетен период],'Финансов отчет по категории'!N$5,Table217[РП №],'Финансов отчет по категории'!$B$28,Table217[Категория разход],'Финансов отчет по категории'!B30) -> 0 | O30: =SUMIFS(Table217[Общо (EUR)],Table217[Отчетен период],'Финансов отчет по категории'!O$5,Table217[РП №],'Финансов отчет по категории'!$B$28,Table217[Категория разход],'Финансов отчет по категории'!B30) -> 0
B31: C | C31: =C24 -> Разходи за материали и консумативи | F31: =SUM(I31:O31) -> 0 | G31: =E31-F31 -> 0 | H31: =F31/E31 -> #DIV/0! | I31: =SUMIFS(Table217[Общо (EUR)],Table217[Отчетен период],'Финансов отчет по категории'!I$5,Table217[РП №],'Финансов отчет по категории'!$B$28,Table217[Категория разход],'Финансов отчет по категории'!B31) -> 0 | J31: =SUMIFS(Table217[Общо (EUR)],Table217[Отчетен период],'Финансов отчет по категории'!J$5,Table217[РП №],'Финансов отчет по категории'!$B$28,Table217[Категория разход],'Финансов отчет по категории'!B31) -> 0 | K31: =SUMIFS(Table217[Общо (EUR)],Table217[Отчетен период],'Финансов отчет по категории'!K$5,Table217[РП №],'Финансов отчет по категории'!$B$28,Table217[Категория разход],'Финансов отчет по категории'!B31) -> 0 | L31: =SUMIFS(Table217[Общо (EUR)],Table217[Отчетен период],'Финансов отчет по категории'!L$5,Table217[РП №],'Финансов отчет по категории'!$B$28,Table217[Категория разход],'Финансов отчет по категории'!B31) -> 0 | M31: =SUMIFS(Table217[Общо (EUR)],Table217[Отчетен период],'Финансов отчет по категории'!M$5,Table217[РП №],'Финансов отчет по категории'!$B$28,Table217[Категория разход],'Финансов отчет по категории'!B31) -> 0 | N31: =SUMIFS(Table217[Общо (EUR)],Table217[Отчетен период],'Финансов отчет по категории'!N$5,Table217[РП №],'Финансов отчет по категории'!$B$28,Table217[Категория разход],'Финансов отчет по категории'!B31) -> 0 | O31: =SUMIFS(Table217[Общо (EUR)],Table217[Отчетен период],'Финансов отчет по категории'!O$5,Table217[РП №],'Финансов отчет по категории'!$B$28,Table217[Категория разход],'Финансов отчет по категории'!B31) -> 0
B32: D | C32: =C25 -> Инвестиционни разходи | F32: =SUM(I32:O32) -> 0 | G32: =E32-F32 -> 0 | H32: =F32/E32 -> #DIV/0! | I32: =SUMIFS(Table217[Общо (EUR)],Table217[Отчетен период],'Финансов отчет по категории'!I$5,Table217[РП №],'Финансов отчет по категории'!$B$28,Table217[Категория разход],'Финансов отчет по категории'!B32) -> 0 | J32: =SUMIFS(Table217[Общо (EUR)],Table217[Отчетен период],'Финансов отчет по категории'!J$5,Table217[РП №],'Финансов отчет по категории'!$B$28,Table217[Категория разход],'Финансов отчет по категории'!B32) -> 0 | K32: =SUMIFS(Table217[Общо (EUR)],Table217[Отчетен период],'Финансов отчет по категории'!K$5,Table217[РП №],'Финансов отчет по категории'!$B$28,Table217[Категория разход],'Финансов отчет по категории'!B32) -> 0 | L32: =SUMIFS(Table217[Общо (EUR)],Table217[Отчетен период],'Финансов отчет по категории'!L$5,Table217[РП №],'Финансов отчет по категории'!$B$28,Table217[Категория разход],'Финансов отчет по категории'!B32) -> 0 | M32: =SUMIFS(Table217[Общо (EUR)],Table217[Отчетен период],'Финансов отчет по категории'!M$5,Table217[РП №],'Финансов отчет по категории'!$B$28,Table217[Категория разход],'Финансов отчет по категории'!B32) -> 0 | N32: =SUMIFS(Table217[Общо (EUR)],Table217[Отчетен период],'Финансов отчет по категории'!N$5,Table217[РП №],'Финансов отчет по категории'!$B$28,Table217[Категория разход],'Финансов отчет по категории'!B32) -> 0 | O32: =SUMIFS(Table217[Общо (EUR)],Table217[Отчетен период],'Финансов отчет по категории'!O$5,Table217[РП №],'Финансов отчет по категории'!$B$28,Table217[Категория разход],'Финансов отчет по категории'!B32) -> 0
B33: E | C33: =C26 -> Разходи за малки строително-ремонтни дейности | F33: =SUM(I33:O33) -> 0 | G33: =E33-F33 -> 0 | H33: =F33/E33 -> #DIV/0! | I33: =SUMIFS(Table217[Общо (EUR)],Table217[Отчетен период],'Финансов отчет по категории'!I$5,Table217[РП №],'Финансов отчет по категории'!$B$28,Table217[Категория разход],'Финансов отчет по категории'!B33) -> 0 | J33: =SUMIFS(Table217[Общо (EUR)],Table217[Отчетен период],'Финансов отчет по категории'!J$5,Table217[РП №],'Финансов отчет по категории'!$B$28,Table217[Категория разход],'Финансов отчет по категории'!B33) -> 0 | K33: =SUMIFS(Table217[Общо (EUR)],Table217[Отчетен период],'Финансов отчет по категории'!K$5,Table217[РП №],'Финансов отчет по категории'!$B$28,Table217[Категория разход],'Финансов отчет по категории'!B33) -> 0 | L33: =SUMIFS(Table217[Общо (EUR)],Table217[Отчетен период],'Финансов отчет по категории'!L$5,Table217[РП №],'Финансов отчет по категории'!$B$28,Table217[Категория разход],'Финансов отчет по категории'!B33) -> 0 | M33: =SUMIFS(Table217[Общо (EUR)],Table217[Отчетен период],'Финансов отчет по категории'!M$5,Table217[РП №],'Финансов отчет по категории'!$B$28,Table217[Категория разход],'Финансов отчет по категории'!B33) -> 0 | N33: =SUMIFS(Table217[Общо (EUR)],Table217[Отчетен период],'Финансов отчет по категории'!N$5,Table217[РП №],'Финансов отчет по категории'!$B$28,Table217[Категория разход],'Финансов отчет по категории'!B33) -> 0 | O33: =SUMIFS(Table217[Общо (EUR)],Table217[Отчетен период],'Финансов отчет по категории'!O$5,Table217[РП №],'Финансов отчет по категории'!$B$28,Table217[Категория разход],'Финансов отчет по категории'!B33) -> 0
B34: F | C34: =C27 -> Разходи за външни услуги и експертиза | F34: =SUM(I34:O34) -> 0 | G34: =E34-F34 -> 0 | H34: =F34/E34 -> #DIV/0! | I34: =SUMIFS(Table217[Общо (EUR)],Table217[Отчетен период],'Финансов отчет по категории'!I$5,Table217[РП №],'Финансов отчет по категории'!$B$28,Table217[Категория разход],'Финансов отчет по категории'!B34) -> 0 | J34: =SUMIFS(Table217[Общо (EUR)],Table217[Отчетен период],'Финансов отчет по категории'!J$5,Table217[РП №],'Финансов отчет по категории'!$B$28,Table217[Категория разход],'Финансов отчет по категории'!B34) -> 0 | K34: =SUMIFS(Table217[Общо (EUR)],Table217[Отчетен период],'Финансов отчет по категории'!K$5,Table217[РП №],'Финансов отчет по категории'!$B$28,Table217[Категория разход],'Финансов отчет по категории'!B34) -> 0 | L34: =SUMIFS(Table217[Общо (EUR)],Table217[Отчетен период],'Финансов отчет по категории'!L$5,Table217[РП №],'Финансов отчет по категории'!$B$28,Table217[Категория разход],'Финансов отчет по категории'!B34) -> 0 | M34: =SUMIFS(Table217[Общо (EUR)],Table217[Отчетен период],'Финансов отчет по категории'!M$5,Table217[РП №],'Финансов отчет по категории'!$B$28,Table217[Категория разход],'Финансов отчет по категории'!B34) -> 0 | N34: =SUMIFS(Table217[Общо (EUR)],Table217[Отчетен период],'Финансов отчет по категории'!N$5,Table217[РП №],'Финансов отчет по категории'!$B$28,Table217[Категория разход],'Финансов отчет по категории'!B34) -> 0 | O34: =SUMIFS(Table217[Общо (EUR)],Table217[Отчетен период],'Финансов отчет по категории'!O$5,Table217[РП №],'Финансов отчет по категории'!$B$28,Table217[Категория разход],'Финансов отчет по категории'!B34) -> 0
B35: ='Финансов отчет по партньори'!A12 -> РП5 | C35: ='Финансов отчет по партньори'!B12 -> [Въведете име на работен пакет 5 - ако е приложимо] | D35: =SUM(D36:D41) -> 0 | E35: =SUM(E36:E41) -> 0 | F35: =SUM(F36:F41) -> 0 | G35: =E35-F35 -> 0 | H35: =F35/E35 -> #DIV/0! | I35: =SUM(I36:I41) -> 0 | J35: =SUM(J36:J41) -> 0 | K35: =SUM(K36:K41) -> 0 | L35: =SUM(L36:L41) -> 0 | M35: =SUM(M36:M41) -> 0 | N35: =SUM(N36:N41) -> 0 | O35: =SUM(O36:O41) -> 0
B36: A | C36: =C29 -> Разходи за персонал | F36: =SUM(I36:O36) -> 0 | G36: =E36-F36 -> 0 | H36: =F36/E36 -> #DIV/0! | I36: =SUMIFS(Table217[Общо (EUR)],Table217[Отчетен период],'Финансов отчет по категории'!I$5,Table217[РП №],'Финансов отчет по категории'!$B$35,Table217[Категория разход],'Финансов отчет по категории'!B36) -> 0 | J36: =SUMIFS(Table217[Общо (EUR)],Table217[Отчетен период],'Финансов отчет по категории'!J$5,Table217[РП №],'Финансов отчет по категории'!$B$35,Table217[Категория разход],'Финансов отчет по категории'!B36) -> 0 | K36: =SUMIFS(Table217[Общо (EUR)],Table217[Отчетен период],'Финансов отчет по категории'!K$5,Table217[РП №],'Финансов отчет по категории'!$B$35,Table217[Категория разход],'Финансов отчет по категории'!B36) -> 0 | L36: =SUMIFS(Table217[Общо (EUR)],Table217[Отчетен период],'Финансов отчет по категории'!L$5,Table217[РП №],'Финансов отчет по категории'!$B$35,Table217[Категория разход],'Финансов отчет по категории'!B36) -> 0 | M36: =SUMIFS(Table217[Общо (EUR)],Table217[Отчетен период],'Финансов отчет по категории'!M$5,Table217[РП №],'Финансов отчет по категории'!$B$35,Table217[Категория разход],'Финансов отчет по категории'!B36) -> 0 | N36: =SUMIFS(Table217[Общо (EUR)],Table217[Отчетен период],'Финансов отчет по категории'!N$5,Table217[РП №],'Финансов отчет по категории'!$B$35,Table217[Категория разход],'Финансов отчет по категории'!B36) -> 0 | O36: =SUMIFS(Table217[Общо (EUR)],Table217[Отчетен период],'Финансов отчет по категории'!O$5,Table217[РП №],'Финансов отчет по категории'!$B$35,Table217[Категория разход],'Финансов отчет по категории'!B36) -> 0
B37: B | C37: =C30 -> Разходи за пътуване, настаняване и престой | F37: =SUM(I37:O37) -> 0 | G37: =E37-F37 -> 0 | H37: =F37/E37 -> #DIV/0! | I37: =SUMIFS(Table217[Общо (EUR)],Table217[Отчетен период],'Финансов отчет по категории'!I$5,Table217[РП №],'Финансов отчет по категории'!$B$35,Table217[Категория разход],'Финансов отчет по категории'!B37) -> 0 | J37: =SUMIFS(Table217[Общо (EUR)],Table217[Отчетен период],'Финансов отчет по категории'!J$5,Table217[РП №],'Финансов отчет по категории'!$B$35,Table217[Категория разход],'Финансов отчет по категории'!B37) -> 0 | K37: =SUMIFS(Table217[Общо (EUR)],Table217[Отчетен период],'Финансов отчет по категории'!K$5,Table217[РП №],'Финансов отчет по категории'!$B$35,Table217[Категория разход],'Финансов отчет по категории'!B37) -> 0 | L37: =SUMIFS(Table217[Общо (EUR)],Table217[Отчетен период],'Финансов отчет по категории'!L$5,Table217[РП №],'Финансов отчет по категории'!$B$35,Table217[Категория разход],'Финансов отчет по категории'!B37) -> 0 | M37: =SUMIFS(Table217[Общо (EUR)],Table217[Отчетен период],'Финансов отчет по категории'!M$5,Table217[РП №],'Финансов отчет по категории'!$B$35,Table217[Категория разход],'Финансов отчет по категории'!B37) -> 0 | N37: =SUMIFS(Table217[Общо (EUR)],Table217[Отчетен период],'Финансов отчет по категории'!N$5,Table217[РП №],'Финансов отчет по категории'!$B$35,Table217[Категория разход],'Финансов отчет по категории'!B37) -> 0 | O37: =SUMIFS(Table217[Общо (EUR)],Table217[Отчетен период],'Финансов отчет по категории'!O$5,Table217[РП №],'Финансов отчет по категории'!$B$35,Table217[Категория разход],'Финансов отчет по категории'!B37) -> 0
B38: C | C38: =C31 -> Разходи за материали и консумативи | F38: =SUM(I38:O38) -> 0 | G38: =E38-F38 -> 0 | H38: =F38/E38 -> #DIV/0! | I38: =SUMIFS(Table217[Общо (EUR)],Table217[Отчетен период],'Финансов отчет по категории'!I$5,Table217[РП №],'Финансов отчет по категории'!$B$35,Table217[Категория разход],'Финансов отчет по категории'!B38) -> 0 | J38: =SUMIFS(Table217[Общо (EUR)],Table217[Отчетен период],'Финансов отчет по категории'!J$5,Table217[РП №],'Финансов отчет по категории'!$B$35,Table217[Категория разход],'Финансов отчет по категории'!B38) -> 0 | K38: =SUMIFS(Table217[Общо (EUR)],Table217[Отчетен период],'Финансов отчет по категории'!K$5,Table217[РП №],'Финансов отчет по категории'!$B$35,Table217[Категория разход],'Финансов отчет по категории'!B38) -> 0 | L38: =SUMIFS(Table217[Общо (EUR)],Table217[Отчетен период],'Финансов отчет по категории'!L$5,Table217[РП №],'Финансов отчет по категории'!$B$35,Table217[Категория разход],'Финансов отчет по категории'!B38) -> 0 | M38: =SUMIFS(Table217[Общо (EUR)],Table217[Отчетен период],'Финансов отчет по категории'!M$5,Table217[РП №],'Финансов отчет по категории'!$B$35,Table217[Категория разход],'Финансов отчет по категории'!B38) -> 0 | N38: =SUMIFS(Table217[Общо (EUR)],Table217[Отчетен период],'Финансов отчет по категории'!N$5,Table217[РП №],'Финансов отчет по категории'!$B$35,Table217[Категория разход],'Финансов отчет по категории'!B38) -> 0 | O38: =SUMIFS(Table217[Общо (EUR)],Table217[Отчетен период],'Финансов отчет по категории'!O$5,Table217[РП №],'Финансов отчет по категории'!$B$35,Table217[Категория разход],'Финансов отчет по категории'!B38) -> 0
B39: D | C39: =C32 -> Инвестиционни разходи | F39: =SUM(I39:O39) -> 0 | G39: =E39-F39 -> 0 | H39: =F39/E39 -> #DIV/0! | I39: =SUMIFS(Table217[Общо (EUR)],Table217[Отчетен период],'Финансов отчет по категории'!I$5,Table217[РП №],'Финансов отчет по категории'!$B$35,Table217[Категория разход],'Финансов отчет по категории'!B39) -> 0 | J39: =SUMIFS(Table217[Общо (EUR)],Table217[Отчетен период],'Финансов отчет по категории'!J$5,Table217[РП №],'Финансов отчет по категории'!$B$35,Table217[Категория разход],'Финансов отчет по категории'!B39) -> 0 | K39: =SUMIFS(Table217[Общо (EUR)],Table217[Отчетен период],'Финансов отчет по категории'!K$5,Table217[РП №],'Финансов отчет по категории'!$B$35,Table217[Категория разход],'Финансов отчет по категории'!B39) -> 0 | L39: =SUMIFS(Table217[Общо (EUR)],Table217[Отчетен период],'Финансов отчет по категории'!L$5,Table217[РП №],'Финансов отчет по категории'!$B$35,Table217[Категория разход],'Финансов отчет по категории'!B39) -> 0 | M39: =SUMIFS(Table217[Общо (EUR)],Table217[Отчетен период],'Финансов отчет по категории'!M$5,Table217[РП №],'Финансов отчет по категории'!$B$35,Table217[Категория разход],'Финансов отчет по категории'!B39) -> 0 | N39: =SUMIFS(Table217[Общо (EUR)],Table217[Отчетен период],'Финансов отчет по категории'!N$5,Table217[РП №],'Финансов отчет по категории'!$B$35,Table217[Категория разход],'Финансов отчет по категории'!B39) -> 0 | O39: =SUMIFS(Table217[Общо (EUR)],Table217[Отчетен период],'Финансов отчет по категории'!O$5,Table217[РП №],'Финансов отчет по категории'!$B$35,Table217[Категория разход],'Финансов отчет по категории'!B39) -> 0
B40: E | C40: =C33 -> Разходи за малки строително-ремонтни дейности | F40: =SUM(I40:O40) -> 0 | G40: =E40-F40 -> 0 | H40: =F40/E40 -> #DIV/0! | I40: =SUMIFS(Table217[Общо (EUR)],Table217[Отчетен период],'Финансов отчет по категории'!I$5,Table217[РП №],'Финансов отчет по категории'!$B$35,Table217[Категория разход],'Финансов отчет по категории'!B40) -> 0 | J40: =SUMIFS(Table217[Общо (EUR)],Table217[Отчетен период],'Финансов отчет по категории'!J$5,Table217[РП №],'Финансов отчет по категории'!$B$35,Table217[Категория разход],'Финансов отчет по категории'!B40) -> 0 | K40: =SUMIFS(Table217[Общо (EUR)],Table217[Отчетен период],'Финансов отчет по категории'!K$5,Table217[РП №],'Финансов отчет по категории'!$B$35,Table217[Категория разход],'Финансов отчет по категории'!B40) -> 0 | L40: =SUMIFS(Table217[Общо (EUR)],Table217[Отчетен период],'Финансов отчет по категории'!L$5,Table217[РП №],'Финансов отчет по категории'!$B$35,Table217[Категория разход],'Финансов отчет по категории'!B40) -> 0 | M40: =SUMIFS(Table217[Общо (EUR)],Table217[Отчетен период],'Финансов отчет по категории'!M$5,Table217[РП №],'Финансов отчет по категории'!$B$35,Table217[Категория разход],'Финансов отчет по категории'!B40) -> 0 | N40: =SUMIFS(Table217[Общо (EUR)],Table217[Отчетен период],'Финансов отчет по категории'!N$5,Table217[РП №],'Финансов отчет по категории'!$B$35,Table217[Категория разход],'Финансов отчет по категории'!B40) -> 0 | O40: =SUMIFS(Table217[Общо (EUR)],Table217[Отчетен период],'Финансов отчет по категории'!O$5,Table217[РП №],'Финансов отчет по категории'!$B$35,Table217[Категория разход],'Финансов отчет по категории'!B40) -> 0
B41: F | C41: =C34 -> Разходи за външни услуги и експертиза | F41: =SUM(I41:O41) -> 0 | G41: =E41-F41 -> 0 | H41: =F41/E41 -> #DIV/0! | I41: =SUMIFS(Table217[Общо (EUR)],Table217[Отчетен период],'Финансов отчет по категории'!I$5,Table217[РП №],'Финансов отчет по категории'!$B$35,Table217[Категория разход],'Финансов отчет по категории'!B41) -> 0 | J41: =SUMIFS(Table217[Общо (EUR)],Table217[Отчетен период],'Финансов отчет по категории'!J$5,Table217[РП №],'Финансов отчет по категории'!$B$35,Table217[Категория разход],'Финансов отчет по категории'!B41) -> 0 | K41: =SUMIFS(Table217[Общо (EUR)],Table217[Отчетен период],'Финансов отчет по категории'!K$5,Table217[РП №],'Финансов отчет по категории'!$B$35,Table217[Категория разход],'Финансов отчет по категории'!B41) -> 0 | L41: =SUMIFS(Table217[Общо (EUR)],Table217[Отчетен период],'Финансов отчет по категории'!L$5,Table217[РП №],'Финансов отчет по категории'!$B$35,Table217[Категория разход],'Финансов отчет по категории'!B41) -> 0 | M41: =SUMIFS(Table217[Общо (EUR)],Table217[Отчетен период],'Финансов отчет по категории'!M$5,Table217[РП №],'Финансов отчет по категории'!$B$35,Table217[Категория разход],'Финансов отчет по категории'!B41) -> 0 | N41: =SUMIFS(Table217[Общо (EUR)],Table217[Отчетен период],'Финансов отчет по категории'!N$5,Table217[РП №],'Финансов отчет по категории'!$B$35,Table217[Категория разход],'Финансов отчет по категории'!B41) -> 0 | O41: =SUMIFS(Table217[Общо (EUR)],Table217[Отчетен период],'Финансов отчет по категории'!O$5,Table217[РП №],'Финансов отчет по категории'!$B$35,Table217[Категория разход],'Финансов отчет по категории'!B41) -> 0
B42: ='Финансов отчет по партньори'!A13 -> РП6 | C42: ='Финансов отчет по партньори'!B13 -> [Въведете име на работен пакет 6 - ако е приложимо] | D42: =SUM(D43:D48) -> 0 | E42: =SUM(E43:E48) -> 0 | F42: =SUM(F43:F48) -> 0 | G42: =E42-F42 -> 0 | H42: =F42/E42 -> #DIV/0! | I42: =SUM(I43:I48) -> 0 | J42: =SUM(J43:J48) -> 0 | K42: =SUM(K43:K48) -> 0 | L42: =SUM(L43:L48) -> 0 | M42: =SUM(M43:M48) -> 0 | N42: =SUM(N43:N48) -> 0 | O42: =SUM(O43:O48) -> 0
B43: A | C43: =C36 -> Разходи за персонал | F43: =SUM(I43:O43) -> 0 | G43: =E43-F43 -> 0 | H43: =F43/E43 -> #DIV/0! | I43: =SUMIFS(Table217[Общо (EUR)],Table217[Отчетен период],'Финансов отчет по категории'!I$5,Table217[РП №],'Финансов отчет по категории'!$B$42,Table217[Категория разход],'Финансов отчет по категории'!B43) -> 0 | J43: =SUMIFS(Table217[Общо (EUR)],Table217[Отчетен период],'Финансов отчет по категории'!J$5,Table217[РП №],'Финансов отчет по категории'!$B$42,Table217[Категория разход],'Финансов отчет по категории'!B43) -> 0 | K43: =SUMIFS(Table217[Общо (EUR)],Table217[Отчетен период],'Финансов отчет по категории'!K$5,Table217[РП №],'Финансов отчет по категории'!$B$42,Table217[Категория разход],'Финансов отчет по категории'!B43) -> 0 | L43: =SUMIFS(Table217[Общо (EUR)],Table217[Отчетен период],'Финансов отчет по категории'!L$5,Table217[РП №],'Финансов отчет по категории'!$B$42,Table217[Категория разход],'Финансов отчет по категории'!B43) -> 0 | M43: =SUMIFS(Table217[Общо (EUR)],Table217[Отчетен период],'Финансов отчет по категории'!M$5,Table217[РП №],'Финансов отчет по категории'!$B$42,Table217[Категория разход],'Финансов отчет по категории'!B43) -> 0 | N43: =SUMIFS(Table217[Общо (EUR)],Table217[Отчетен период],'Финансов отчет по категории'!N$5,Table217[РП №],'Финансов отчет по категории'!$B$42,Table217[Категория разход],'Финансов отчет по категории'!B43) -> 0 | O43: =SUMIFS(Table217[Общо (EUR)],Table217[Отчетен период],'Финансов отчет по категории'!O$5,Table217[РП №],'Финансов отчет по категории'!$B$42,Table217[Категория разход],'Финансов отчет по категории'!B43) -> 0
B44: B | C44: =C37 -> Разходи за пътуване, настаняване и престой | F44: =SUM(I44:O44) -> 0 | G44: =E44-F44 -> 0 | H44: =F44/E44 -> #DIV/0! | I44: =SUMIFS(Table217[Общо (EUR)],Table217[Отчетен период],'Финансов отчет по категории'!I$5,Table217[РП №],'Финансов отчет по категории'!$B$42,Table217[Категория разход],'Финансов отчет по категории'!B44) -> 0 | J44: =SUMIFS(Table217[Общо (EUR)],Table217[Отчетен период],'Финансов отчет по категории'!J$5,Table217[РП №],'Финансов отчет по категории'!$B$42,Table217[Категория разход],'Финансов отчет по категории'!B44) -> 0 | K44: =SUMIFS(Table217[Общо (EUR)],Table217[Отчетен период],'Финансов отчет по категории'!K$5,Table217[РП №],'Финансов отчет по категории'!$B$42,Table217[Категория разход],'Финансов отчет по категории'!B44) -> 0 | L44: =SUMIFS(Table217[Общо (EUR)],Table217[Отчетен период],'Финансов отчет по категории'!L$5,Table217[РП №],'Финансов отчет по категории'!$B$42,Table217[Категория разход],'Финансов отчет по категории'!B44) -> 0 | M44: =SUMIFS(Table217[Общо (EUR)],Table217[Отчетен период],'Финансов отчет по категории'!M$5,Table217[РП №],'Финансов отчет по категории'!$B$42,Table217[Категория разход],'Финансов отчет по категории'!B44) -> 0 | N44: =SUMIFS(Table217[Общо (EUR)],Table217[Отчетен период],'Финансов отчет по категории'!N$5,Table217[РП №],'Финансов отчет по категории'!$B$42,Table217[Категория разход],'Финансов отчет по категории'!B44) -> 0 | O44: =SUMIFS(Table217[Общо (EUR)],Table217[Отчетен период],'Финансов отчет по категории'!O$5,Table217[РП №],'Финансов отчет по категории'!$B$42,Table217[Категория разход],'Финансов отчет по категории'!B44) -> 0
B45: C | C45: =C38 -> Разходи за материали и консумативи | F45: =SUM(I45:O45) -> 0 | G45: =E45-F45 -> 0 | H45: =F45/E45 -> #DIV/0! | I45: =SUMIFS(Table217[Общо (EUR)],Table217[Отчетен период],'Финансов отчет по категории'!I$5,Table217[РП №],'Финансов отчет по категории'!$B$42,Table217[Категория разход],'Финансов отчет по категории'!B45) -> 0 | J45: =SUMIFS(Table217[Общо (EUR)],Table217[Отчетен период],'Финансов отчет по категории'!J$5,Table217[РП №],'Финансов отчет по категории'!$B$42,Table217[Категория разход],'Финансов отчет по категории'!B45) -> 0 | K45: =SUMIFS(Table217[Общо (EUR)],Table217[Отчетен период],'Финансов отчет по категории'!K$5,Table217[РП №],'Финансов отчет по категории'!$B$42,Table217[Категория разход],'Финансов отчет по категории'!B45) -> 0 | L45: =SUMIFS(Table217[Общо (EUR)],Table217[Отчетен период],'Финансов отчет по категории'!L$5,Table217[РП №],'Финансов отчет по категории'!$B$42,Table217[Категория разход],'Финансов отчет по категории'!B45) -> 0 | M45: =SUMIFS(Table217[Общо (EUR)],Table217[Отчетен период],'Финансов отчет по категории'!M$5,Table217[РП №],'Финансов отчет по категории'!$B$42,Table217[Категория разход],'Финансов отчет по категории'!B45) -> 0 | N45: =SUMIFS(Table217[Общо (EUR)],Table217[Отчетен период],'Финансов отчет по категории'!N$5,Table217[РП №],'Финансов отчет по категории'!$B$42,Table217[Категория разход],'Финансов отчет по категории'!B45) -> 0 | O45: =SUMIFS(Table217[Общо (EUR)],Table217[Отчетен период],'Финансов отчет по категории'!O$5,Table217[РП №],'Финансов отчет по категории'!$B$42,Table217[Категория разход],'Финансов отчет по категории'!B45) -> 0
B46: D | C46: =C39 -> Инвестиционни разходи | F46: =SUM(I46:O46) -> 0 | G46: =E46-F46 -> 0 | H46: =F46/E46 -> #DIV/0! | I46: =SUMIFS(Table217[Общо (EUR)],Table217[Отчетен период],'Финансов отчет по категории'!I$5,Table217[РП №],'Финансов отчет по категории'!$B$42,Table217[Категория разход],'Финансов отчет по категории'!B46) -> 0 | J46: =SUMIFS(Table217[Общо (EUR)],Table217[Отчетен период],'Финансов отчет по категории'!J$5,Table217[РП №],'Финансов отчет по категории'!$B$42,Table217[Категория разход],'Финансов отчет по категории'!B46) -> 0 | K46: =SUMIFS(Table217[Общо (EUR)],Table217[Отчетен период],'Финансов отчет по категории'!K$5,Table217[РП №],'Финансов отчет по категории'!$B$42,Table217[Категория разход],'Финансов отчет по категории'!B46) -> 0 | L46: =SUMIFS(Table217[Общо (EUR)],Table217[Отчетен период],'Финансов отчет по категории'!L$5,Table217[РП №],'Финансов отчет по категории'!$B$42,Table217[Категория разход],'Финансов отчет по категории'!B46) -> 0 | M46: =SUMIFS(Table217[Общо (EUR)],Table217[Отчетен период],'Финансов отчет по категории'!M$5,Table217[РП №],'Финансов отчет по категории'!$B$42,Table217[Категория разход],'Финансов отчет по категории'!B46) -> 0 | N46: =SUMIFS(Table217[Общо (EUR)],Table217[Отчетен период],'Финансов отчет по категории'!N$5,Table217[РП №],'Финансов отчет по категории'!$B$42,Table217[Категория разход],'Финансов отчет по категории'!B46) -> 0 | O46: =SUMIFS(Table217[Общо (EUR)],Table217[Отчетен период],'Финансов отчет по категории'!O$5,Table217[РП №],'Финансов отчет по категории'!$B$42,Table217[Категория разход],'Финансов отчет по категории'!B46) -> 0
B47: E | C47: =C40 -> Разходи за малки строително-ремонтни дейности | F47: =SUM(I47:O47) -> 0 | G47: =E47-F47 -> 0 | H47: =F47/E47 -> #DIV/0! | I47: =SUMIFS(Table217[Общо (EUR)],Table217[Отчетен период],'Финансов отчет по категории'!I$5,Table217[РП №],'Финансов отчет по категории'!$B$42,Table217[Категория разход],'Финансов отчет по категории'!B47) -> 0 | J47: =SUMIFS(Table217[Общо (EUR)],Table217[Отчетен период],'Финансов отчет по категории'!J$5,Table217[РП №],'Финансов отчет по категории'!$B$42,Table217[Категория разход],'Финансов отчет по категории'!B47) -> 0 | K47: =SUMIFS(Table217[Общо (EUR)],Table217[Отчетен период],'Финансов отчет по категории'!K$5,Table217[РП №],'Финансов отчет по категории'!$B$42,Table217[Категория разход],'Финансов отчет по категории'!B47) -> 0 | L47: =SUMIFS(Table217[Общо (EUR)],Table217[Отчетен период],'Финансов отчет по категории'!L$5,Table217[РП №],'Финансов отчет по категории'!$B$42,Table217[Категория разход],'Финансов отчет по категории'!B47) -> 0 | M47: =SUMIFS(Table217[Общо (EUR)],Table217[Отчетен период],'Финансов отчет по категории'!M$5,Table217[РП №],'Финансов отчет по категории'!$B$42,Table217[Категория разход],'Финансов отчет по категории'!B47) -> 0 | N47: =SUMIFS(Table217[Общо (EUR)],Table217[Отчетен период],'Финансов отчет по категории'!N$5,Table217[РП №],'Финансов отчет по категории'!$B$42,Table217[Категория разход],'Финансов отчет по категории'!B47) -> 0 | O47: =SUMIFS(Table217[Общо (EUR)],Table217[Отчетен период],'Финансов отчет по категории'!O$5,Table217[РП №],'Финансов отчет по категории'!$B$42,Table217[Категория разход],'Финансов отчет по категории'!B47) -> 0
B48: F | C48: =C41 -> Разходи за външни услуги и експертиза | F48: =SUM(I48:O48) -> 0 | G48: =E48-F48 -> 0 | H48: =F48/E48 -> #DIV/0! | I48: =SUMIFS(Table217[Общо (EUR)],Table217[Отчетен период],'Финансов отчет по категории'!I$5,Table217[РП №],'Финансов отчет по категории'!$B$42,Table217[Категория разход],'Финансов отчет по категории'!B48) -> 0 | J48: =SUMIFS(Table217[Общо (EUR)],Table217[Отчетен период],'Финансов отчет по категории'!J$5,Table217[РП №],'Финансов отчет по категории'!$B$42,Table217[Категория разход],'Финансов отчет по категории'!B48) -> 0 | K48: =SUMIFS(Table217[Общо (EUR)],Table217[Отчетен период],'Финансов отчет по категории'!K$5,Table217[РП №],'Финансов отчет по категории'!$B$42,Table217[Категория разход],'Финансов отчет по категории'!B48) -> 0 | L48: =SUMIFS(Table217[Общо (EUR)],Table217[Отчетен период],'Финансов отчет по категории'!L$5,Table217[РП №],'Финансов отчет по категории'!$B$42,Table217[Категория разход],'Финансов отчет по категории'!B48) -> 0 | M48: =SUMIFS(Table217[Общо (EUR)],Table217[Отчетен период],'Финансов отчет по категории'!M$5,Table217[РП №],'Финансов отчет по категории'!$B$42,Table217[Категория разход],'Финансов отчет по категории'!B48) -> 0 | N48: =SUMIFS(Table217[Общо (EUR)],Table217[Отчетен период],'Финансов отчет по категории'!N$5,Table217[РП №],'Финансов отчет по категории'!$B$42,Table217[Категория разход],'Финансов отчет по категории'!B48) -> 0 | O48: =SUMIFS(Table217[Общо (EUR)],Table217[Отчетен период],'Финансов отчет по категории'!O$5,Table217[РП №],'Финансов отчет по категории'!$B$42,Table217[Категория разход],'Финансов отчет по категории'!B48) -> 0
B49: ='Финансов отчет по партньори'!A14 -> РП7 | C49: ='Финансов отчет по партньори'!B14 -> [Въведете име на работен пакет 7 - ако е приложимо] | D49: =SUM(D50:D55) -> 0 | E49: =SUM(E50:E55) -> 0 | F49: =SUM(F50:F55) -> 0 | G49: =E49-F49 -> 0 | H49: =F49/E49 -> #DIV/0! | I49: =SUM(I50:I55) -> 0 | J49: =SUM(J50:J55) -> 0 | K49: =SUM(K50:K55) -> 0 | L49: =SUM(L50:L55) -> 0 | M49: =SUM(M50:M55) -> 0 | N49: =SUM(N50:N55) -> 0 | O49: =SUM(O50:O55) -> 0
B50: A | C50: =C43 -> Разходи за персонал | F50: =SUM(I50:O50) -> 0 | G50: =E50-F50 -> 0 | H50: =F50/E50 -> #DIV/0! | I50: =SUMIFS(Table217[Общо (EUR)],Table217[Отчетен период],'Финансов отчет по категории'!I$5,Table217[РП №],'Финансов отчет по категории'!$B$49,Table217[Категория разход],'Финансов отчет по категории'!B50) -> 0 | J50: =SUMIFS(Table217[Общо (EUR)],Table217[Отчетен период],'Финансов отчет по категории'!J$5,Table217[РП №],'Финансов отчет по категории'!$B$49,Table217[Категория разход],'Финансов отчет по категории'!B50) -> 0 | K50: =SUMIFS(Table217[Общо (EUR)],Table217[Отчетен период],'Финансов отчет по категории'!K$5,Table217[РП №],'Финансов отчет по категории'!$B$49,Table217[Категория разход],'Финансов отчет по категории'!B50) -> 0 | L50: =SUMIFS(Table217[Общо (EUR)],Table217[Отчетен период],'Финансов отчет по категории'!L$5,Table217[РП №],'Финансов отчет по категории'!$B$49,Table217[Категория разход],'Финансов отчет по категории'!B50) -> 0 | M50: =SUMIFS(Table217[Общо (EUR)],Table217[Отчетен период],'Финансов отчет по категории'!M$5,Table217[РП №],'Финансов отчет по категории'!$B$49,Table217[Категория разход],'Финансов отчет по категории'!B50) -> 0 | N50: =SUMIFS(Table217[Общо (EUR)],Table217[Отчетен период],'Финансов отчет по категории'!N$5,Table217[РП №],'Финансов отчет по категории'!$B$49,Table217[Категория разход],'Финансов отчет по категории'!B50) -> 0 | O50: =SUMIFS(Table217[Общо (EUR)],Table217[Отчетен период],'Финансов отчет по категории'!O$5,Table217[РП №],'Финансов отчет по категории'!$B$49,Table217[Категория разход],'Финансов отчет по категории'!B50) -> 0
B51: B | C51: =C44 -> Разходи за пътуване, настаняване и престой | F51: =SUM(I51:O51) -> 0 | G51: =E51-F51 -> 0 | H51: =F51/E51 -> #DIV/0! | I51: =SUMIFS(Table217[Общо (EUR)],Table217[Отчетен период],'Финансов отчет по категории'!I$5,Table217[РП №],'Финансов отчет по категории'!$B$49,Table217[Категория разход],'Финансов отчет по категории'!B51) -> 0 | J51: =SUMIFS(Table217[Общо (EUR)],Table217[Отчетен период],'Финансов отчет по категории'!J$5,Table217[РП №],'Финансов отчет по категории'!$B$49,Table217[Категория разход],'Финансов отчет по категории'!B51) -> 0 | K51: =SUMIFS(Table217[Общо (EUR)],Table217[Отчетен период],'Финансов отчет по категории'!K$5,Table217[РП №],'Финансов отчет по категории'!$B$49,Table217[Категория разход],'Финансов отчет по категории'!B51) -> 0 | L51: =SUMIFS(Table217[Общо (EUR)],Table217[Отчетен период],'Финансов отчет по категории'!L$5,Table217[РП №],'Финансов отчет по категории'!$B$49,Table217[Категория разход],'Финансов отчет по категории'!B51) -> 0 | M51: =SUMIFS(Table217[Общо (EUR)],Table217[Отчетен период],'Финансов отчет по категории'!M$5,Table217[РП №],'Финансов отчет по категории'!$B$49,Table217[Категория разход],'Финансов отчет по категории'!B51) -> 0 | N51: =SUMIFS(Table217[Общо (EUR)],Table217[Отчетен период],'Финансов отчет по категории'!N$5,Table217[РП №],'Финансов отчет по категории'!$B$49,Table217[Категория разход],'Финансов отчет по категории'!B51) -> 0 | O51: =SUMIFS(Table217[Общо (EUR)],Table217[Отчетен период],'Финансов отчет по категории'!O$5,Table217[РП №],'Финансов отчет по категории'!$B$49,Table217[Категория разход],'Финансов отчет по категории'!B51) -> 0
B52: C | C52: =C45 -> Разходи за материали и консумативи | F52: =SUM(I52:O52) -> 0 | G52: =E52-F52 -> 0 | H52: =F52/E52 -> #DIV/0! | I52: =SUMIFS(Table217[Общо (EUR)],Table217[Отчетен период],'Финансов отчет по категории'!I$5,Table217[РП №],'Финансов отчет по категории'!$B$49,Table217[Категория разход],'Финансов отчет по категории'!B52) -> 0 | J52: =SUMIFS(Table217[Общо (EUR)],Table217[Отчетен период],'Финансов отчет по категории'!J$5,Table217[РП №],'Финансов отчет по категории'!$B$49,Table217[Категория разход],'Финансов отчет по категории'!B52) -> 0 | K52: =SUMIFS(Table217[Общо (EUR)],Table217[Отчетен период],'Финансов отчет по категории'!K$5,Table217[РП №],'Финансов отчет по категории'!$B$49,Table217[Категория разход],'Финансов отчет по категории'!B52) -> 0 | L52: =SUMIFS(Table217[Общо (EUR)],Table217[Отчетен период],'Финансов отчет по категории'!L$5,Table217[РП №],'Финансов отчет по категории'!$B$49,Table217[Категория разход],'Финансов отчет по категории'!B52) -> 0 | M52: =SUMIFS(Table217[Общо (EUR)],Table217[Отчетен период],'Финансов отчет по категории'!M$5,Table217[РП №],'Финансов отчет по категории'!$B$49,Table217[Категория разход],'Финансов отчет по категории'!B52) -> 0 | N52: =SUMIFS(Table217[Общо (EUR)],Table217[Отчетен период],'Финансов отчет по категории'!N$5,Table217[РП №],'Финансов отчет по категории'!$B$49,Table217[Категория разход],'Финансов отчет по категории'!B52) -> 0 | O52: =SUMIFS(Table217[Общо (EUR)],Table217[Отчетен период],'Финансов отчет по категории'!O$5,Table217[РП №],'Финансов отчет по категории'!$B$49,Table217[Категория разход],'Финансов отчет по категории'!B52) -> 0
B53: D | C53: =C46 -> Инвестиционни разходи | F53: =SUM(I53:O53) -> 0 | G53: =E53-F53 -> 0 | H53: =F53/E53 -> #DIV/0! | I53: =SUMIFS(Table217[Общо (EUR)],Table217[Отчетен период],'Финансов отчет по категории'!I$5,Table217[РП №],'Финансов отчет по категории'!$B$49,Table217[Категория разход],'Финансов отчет по категории'!B53) -> 0 | J53: =SUMIFS(Table217[Общо (EUR)],Table217[Отчетен период],'Финансов отчет по категории'!J$5,Table217[РП №],'Финансов отчет по категории'!$B$49,Table217[Категория разход],'Финансов отчет по категории'!B53) -> 0 | K53: =SUMIFS(Table217[Общо (EUR)],Table217[Отчетен период],'Финансов отчет по категории'!K$5,Table217[РП №],'Финансов отчет по категории'!$B$49,Table217[Категория разход],'Финансов отчет по категории'!B53) -> 0 | L53: =SUMIFS(Table217[Общо (EUR)],Table217[Отчетен период],'Финансов отчет по категории'!L$5,Table217[РП №],'Финансов отчет по категории'!$B$49,Table217[Категория разход],'Финансов отчет по категории'!B53) -> 0 | M53: =SUMIFS(Table217[Общо (EUR)],Table217[Отчетен период],'Финансов отчет по категории'!M$5,Table217[РП №],'Финансов отчет по категории'!$B$49,Table217[Категория разход],'Финансов отчет по категории'!B53) -> 0 | N53: =SUMIFS(Table217[Общо (EUR)],Table217[Отчетен период],'Финансов отчет по категории'!N$5,Table217[РП №],'Финансов отчет по категории'!$B$49,Table217[Категория разход],'Финансов отчет по категории'!B53) -> 0 | O53: =SUMIFS(Table217[Общо (EUR)],Table217[Отчетен период],'Финансов отчет по категории'!O$5,Table217[РП №],'Финансов отчет по категории'!$B$49,Table217[Категория разход],'Финансов отчет по категории'!B53) -> 0
B54: E | C54: =C47 -> Разходи за малки строително-ремонтни дейности | F54: =SUM(I54:O54) -> 0 | G54: =E54-F54 -> 0 | H54: =F54/E54 -> #DIV/0! | I54: =SUMIFS(Table217[Общо (EUR)],Table217[Отчетен период],'Финансов отчет по категории'!I$5,Table217[РП №],'Финансов отчет по категории'!$B$49,Table217[Категория разход],'Финансов отчет по категории'!B54) -> 0 | J54: =SUMIFS(Table217[Общо (EUR)],Table217[Отчетен период],'Финансов отчет по категории'!J$5,Table217[РП №],'Финансов отчет по категории'!$B$49,Table217[Категория разход],'Финансов отчет по категории'!B54) -> 0 | K54: =SUMIFS(Table217[Общо (EUR)],Table217[Отчетен период],'Финансов отчет по категории'!K$5,Table217[РП №],'Финансов отчет по категории'!$B$49,Table217[Категория разход],'Финансов отчет по категории'!B54) -> 0 | L54: =SUMIFS(Table217[Общо (EUR)],Table217[Отчетен период],'Финансов отчет по категории'!L$5,Table217[РП №],'Финансов отчет по категории'!$B$49,Table217[Категория разход],'Финансов отчет по категории'!B54) -> 0 | M54: =SUMIFS(Table217[Общо (EUR)],Table217[Отчетен период],'Финансов отчет по категории'!M$5,Table217[РП №],'Финансов отчет по категории'!$B$49,Table217[Категория разход],'Финансов отчет по категории'!B54) -> 0 | N54: =SUMIFS(Table217[Общо (EUR)],Table217[Отчетен период],'Финансов отчет по категории'!N$5,Table217[РП №],'Финансов отчет по категории'!$B$49,Table217[Категория разход],'Финансов отчет по категории'!B54) -> 0 | O54: =SUMIFS(Table217[Общо (EUR)],Table217[Отчетен период],'Финансов отчет по категории'!O$5,Table217[РП №],'Финансов отчет по категории'!$B$49,Table217[Категория разход],'Финансов отчет по категории'!B54) -> 0
B55: F | C55: =C48 -> Разходи за външни услуги и експертиза | F55: =SUM(I55:O55) -> 0 | G55: =E55-F55 -> 0 | H55: =F55/E55 -> #DIV/0! | I55: =SUMIFS(Table217[Общо (EUR)],Table217[Отчетен период],'Финансов отчет по категории'!I$5,Table217[РП №],'Финансов отчет по категории'!$B$49,Table217[Категория разход],'Финансов отчет по категории'!B55) -> 0 | J55: =SUMIFS(Table217[Общо (EUR)],Table217[Отчетен период],'Финансов отчет по категории'!J$5,Table217[РП №],'Финансов отчет по категории'!$B$49,Table217[Категория разход],'Финансов отчет по категории'!B55) -> 0 | K55: =SUMIFS(Table217[Общо (EUR)],Table217[Отчетен период],'Финансов отчет по категории'!K$5,Table217[РП №],'Финансов отчет по категории'!$B$49,Table217[Категория разход],'Финансов отчет по категории'!B55) -> 0 | L55: =SUMIFS(Table217[Общо (EUR)],Table217[Отчетен период],'Финансов отчет по категории'!L$5,Table217[РП №],'Финансов отчет по категории'!$B$49,Table217[Категория разход],'Финансов отчет по категории'!B55) -> 0 | M55: =SUMIFS(Table217[Общо (EUR)],Table217[Отчетен период],'Финансов отчет по категории'!M$5,Table217[РП №],'Финансов отчет по категории'!$B$49,Table217[Категория разход],'Финансов отчет по категории'!B55) -> 0 | N55: =SUMIFS(Table217[Общо (EUR)],Table217[Отчетен период],'Финансов отчет по категории'!N$5,Table217[РП №],'Финансов отчет по категории'!$B$49,Table217[Категория разход],'Финансов отчет по категории'!B55) -> 0 | O55: =SUMIFS(Table217[Общо (EUR)],Table217[Отчетен период],'Финансов отчет по категории'!O$5,Table217[РП №],'Финансов отчет по категории'!$B$49,Table217[Категория разход],'Финансов отчет по категории'!B55) -> 0
B56: WP8 | C56: ='Финансов отчет по партньори'!B15 -> [Въведете име на работен пакет 8 - ако е приложимо] | D56: =SUM(D57:D62) -> 0 | E56: =SUM(E57:E62) -> 0 | F56: =SUM(F57:F62) -> 0 | G56: =E56-F56 -> 0 | H56: =F56/E56 -> #DIV/0! | I56: =SUM(I57:I62) -> 0 | J56: =SUM(J57:J62) -> 0 | K56: =SUM(K57:K62) -> 0 | L56: =SUM(L57:L62) -> 0 | M56: =SUM(M57:M62) -> 0 | N56: =SUM(N57:N62) -> 0 | O56: =SUM(O57:O62) -> 0
B57: A | C57: =C50 -> Разходи за персонал | F57: =SUM(I57:O57) -> 0 | G57: =E57-F57 -> 0 | H57: =F57/E57 -> #DIV/0! | I57: =SUMIFS(Table217[Общо (EUR)],Table217[Отчетен период],'Финансов отчет по категории'!I$5,Table217[РП №],'Финансов отчет по категории'!$B$56,Table217[Категория разход],'Финансов отчет по категории'!B57) -> 0 | J57: =SUMIFS(Table217[Общо (EUR)],Table217[Отчетен период],'Финансов отчет по категории'!J$5,Table217[РП №],'Финансов отчет по категории'!$B$56,Table217[Категория разход],'Финансов отчет по категории'!B57) -> 0 | K57: =SUMIFS(Table217[Общо (EUR)],Table217[Отчетен период],'Финансов отчет по категории'!K$5,Table217[РП №],'Финансов отчет по категории'!$B$56,Table217[Категория разход],'Финансов отчет по категории'!B57) -> 0 | L57: =SUMIFS(Table217[Общо (EUR)],Table217[Отчетен период],'Финансов отчет по категории'!L$5,Table217[РП №],'Финансов отчет по категории'!$B$56,Table217[Категория разход],'Финансов отчет по категории'!B57) -> 0 | M57: =SUMIFS(Table217[Общо (EUR)],Table217[Отчетен период],'Финансов отчет по категории'!M$5,Table217[РП №],'Финансов отчет по категории'!$B$56,Table217[Категория разход],'Финансов отчет по категории'!B57) -> 0 | N57: =SUMIFS(Table217[Общо (EUR)],Table217[Отчетен период],'Финансов отчет по категории'!N$5,Table217[РП №],'Финансов отчет по категории'!$B$56,Table217[Категория разход],'Финансов отчет по категории'!B57) -> 0 | O57: =SUMIFS(Table217[Общо (EUR)],Table217[Отчетен период],'Финансов отчет по категории'!O$5,Table217[РП №],'Финансов отчет по категории'!$B$56,Table217[Категория разход],'Финансов отчет по категории'!B57) -> 0
B58: B | C58: =C51 -> Разходи за пътуване, настаняване и престой | F58: =SUM(I58:O58) -> 0 | G58: =E58-F58 -> 0 | H58: =F58/E58 -> #DIV/0! | I58: =SUMIFS(Table217[Общо (EUR)],Table217[Отчетен период],'Финансов отчет по категории'!I$5,Table217[РП №],'Финансов отчет по категории'!$B$56,Table217[Категория разход],'Финансов отчет по категории'!B58) -> 0 | J58: =SUMIFS(Table217[Общо (EUR)],Table217[Отчетен период],'Финансов отчет по категории'!J$5,Table217[РП №],'Финансов отчет по категории'!$B$56,Table217[Категория разход],'Финансов отчет по категории'!B58) -> 0 | K58: =SUMIFS(Table217[Общо (EUR)],Table217[Отчетен период],'Финансов отчет по категории'!K$5,Table217[РП №],'Финансов отчет по категории'!$B$56,Table217[Категория разход],'Финансов отчет по категории'!B58) -> 0 | L58: =SUMIFS(Table217[Общо (EUR)],Table217[Отчетен период],'Финансов отчет по категории'!L$5,Table217[РП №],'Финансов отчет по категории'!$B$56,Table217[Категория разход],'Финансов отчет по категории'!B58) -> 0 | M58: =SUMIFS(Table217[Общо (EUR)],Table217[Отчетен период],'Финансов отчет по категории'!M$5,Table217[РП №],'Финансов отчет по категории'!$B$56,Table217[Категория разход],'Финансов отчет по категории'!B58) -> 0 | N58: =SUMIFS(Table217[Общо (EUR)],Table217[Отчетен период],'Финансов отчет по категории'!N$5,Table217[РП №],'Финансов отчет по категории'!$B$56,Table217[Категория разход],'Финансов отчет по категории'!B58) -> 0 | O58: =SUMIFS(Table217[Общо (EUR)],Table217[Отчетен период],'Финансов отчет по категории'!O$5,Table217[РП №],'Финансов отчет по категории'!$B$56,Table217[Категория разход],'Финансов отчет по категории'!B58) -> 0
B59: C | C59: =C52 -> Разходи за материали и консумативи | F59: =SUM(I59:O59) -> 0 | G59: =E59-F59 -> 0 | H59: =F59/E59 -> #DIV/0! | I59: =SUMIFS(Table217[Общо (EUR)],Table217[Отчетен период],'Финансов отчет по категории'!I$5,Table217[РП №],'Финансов отчет по категории'!$B$56,Table217[Категория разход],'Финансов отчет по категории'!B59) -> 0 | J59: =SUMIFS(Table217[Общо (EUR)],Table217[Отчетен период],'Финансов отчет по категории'!J$5,Table217[РП №],'Финансов отчет по категории'!$B$56,Table217[Категория разход],'Финансов отчет по категории'!B59) -> 0 | K59: =SUMIFS(Table217[Общо (EUR)],Table217[Отчетен период],'Финансов отчет по категории'!K$5,Table217[РП №],'Финансов отчет по категории'!$B$56,Table217[Категория разход],'Финансов отчет по категории'!B59) -> 0 | L59: =SUMIFS(Table217[Общо (EUR)],Table217[Отчетен период],'Финансов отчет по категории'!L$5,Table217[РП №],'Финансов отчет по категории'!$B$56,Table217[Категория разход],'Финансов отчет по категории'!B59) -> 0 | M59: =SUMIFS(Table217[Общо (EUR)],Table217[Отчетен период],'Финансов отчет по категории'!M$5,Table217[РП №],'Финансов отчет по категории'!$B$56,Table217[Категория разход],'Финансов отчет по категории'!B59) -> 0 | N59: =SUMIFS(Table217[Общо (EUR)],Table217[Отчетен период],'Финансов отчет по категории'!N$5,Table217[РП №],'Финансов отчет по категории'!$B$56,Table217[Категория разход],'Финансов отчет по категории'!B59) -> 0 | O59: =SUMIFS(Table217[Общо (EUR)],Table217[Отчетен период],'Финансов отчет по категории'!O$5,Table217[РП №],'Финансов отчет по категории'!$B$56,Table217[Категория разход],'Финансов отчет по категории'!B59) -> 0
B60: D | C60: =C53 -> Инвестиционни разходи | F60: =SUM(I60:O60) -> 0 | G60: =E60-F60 -> 0 | H60: =F60/E60 -> #DIV/0! | I60: =SUMIFS(Table217[Общо (EUR)],Table217[Отчетен период],'Финансов отчет по категории'!I$5,Table217[РП №],'Финансов отчет по категории'!$B$56,Table217[Категория разход],'Финансов отчет по категории'!B60) -> 0 | J60: =SUMIFS(Table217[Общо (EUR)],Table217[Отчетен период],'Финансов отчет по категории'!J$5,Table217[РП №],'Финансов отчет по категории'!$B$56,Table217[Категория разход],'Финансов отчет по категории'!B60) -> 0 | K60: =SUMIFS(Table217[Общо (EUR)],Table217[Отчетен период],'Финансов отчет по категории'!K$5,Table217[РП №],'Финансов отчет по категории'!$B$56,Table217[Категория разход],'Финансов отчет по категории'!B60) -> 0 | L60: =SUMIFS(Table217[Общо (EUR)],Table217[Отчетен период],'Финансов отчет по категории'!L$5,Table217[РП №],'Финансов отчет по категории'!$B$56,Table217[Категория разход],'Финансов отчет по категории'!B60) -> 0 | M60: =SUMIFS(Table217[Общо (EUR)],Table217[Отчетен период],'Финансов отчет по категории'!M$5,Table217[РП №],'Финансов отчет по категории'!$B$56,Table217[Категория разход],'Финансов отчет по категории'!B60) -> 0 | N60: =SUMIFS(Table217[Общо (EUR)],Table217[Отчетен период],'Финансов отчет по категории'!N$5,Table217[РП №],'Финансов отчет по категории'!$B$56,Table217[Категория разход],'Финансов отчет по категории'!B60) -> 0 | O60: =SUMIFS(Table217[Общо (EUR)],Table217[Отчетен период],'Финансов отчет по категории'!O$5,Table217[РП №],'Финансов отчет по категории'!$B$56,Table217[Категория разход],'Финансов отчет по категории'!B60) -> 0
B61: E | C61: =C54 -> Разходи за малки строително-ремонтни дейности | F61: =SUM(I61:O61) -> 0 | G61: =E61-F61 -> 0 | H61: =F61/E61 -> #DIV/0! | I61: =SUMIFS(Table217[Общо (EUR)],Table217[Отчетен период],'Финансов отчет по категории'!I$5,Table217[РП №],'Финансов отчет по категории'!$B$56,Table217[Категория разход],'Финансов отчет по категории'!B61) -> 0 | J61: =SUMIFS(Table217[Общо (EUR)],Table217[Отчетен период],'Финансов отчет по категории'!J$5,Table217[РП №],'Финансов отчет по категории'!$B$56,Table217[Категория разход],'Финансов отчет по категории'!B61) -> 0 | K61: =SUMIFS(Table217[Общо (EUR)],Table217[Отчетен период],'Финансов отчет по категории'!K$5,Table217[РП №],'Финансов отчет по категории'!$B$56,Table217[Категория разход],'Финансов отчет по категории'!B61) -> 0 | L61: =SUMIFS(Table217[Общо (EUR)],Table217[Отчетен период],'Финансов отчет по категории'!L$5,Table217[РП №],'Финансов отчет по категории'!$B$56,Table217[Категория разход],'Финансов отчет по категории'!B61) -> 0 | M61: =SUMIFS(Table217[Общо (EUR)],Table217[Отчетен период],'Финансов отчет по категории'!M$5,Table217[РП №],'Финансов отчет по категории'!$B$56,Table217[Категория разход],'Финансов отчет по категории'!B61) -> 0 | N61: =SUMIFS(Table217[Общо (EUR)],Table217[Отчетен период],'Финансов отчет по категории'!N$5,Table217[РП №],'Финансов отчет по категории'!$B$56,Table217[Категория разход],'Финансов отчет по категории'!B61) -> 0 | O61: =SUMIFS(Table217[Общо (EUR)],Table217[Отчетен период],'Финансов отчет по категории'!O$5,Table217[РП №],'Финансов отчет по категории'!$B$56,Table217[Категория разход],'Финансов отчет по категории'!B61) -> 0
B62: F | C62: =C55 -> Разходи за външни услуги и експертиза | F62: =SUM(I62:O62) -> 0 | G62: =E62-F62 -> 0 | H62: =F62/E62 -> #DIV/0! | I62: =SUMIFS(Table217[Общо (EUR)],Table217[Отчетен период],'Финансов отчет по категории'!I$5,Table217[РП №],'Финансов отчет по категории'!$B$56,Table217[Категория разход],'Финансов отчет по категории'!B62) -> 0 | J62: =SUMIFS(Table217[Общо (EUR)],Table217[Отчетен период],'Финансов отчет по категории'!J$5,Table217[РП №],'Финансов отчет по категории'!$B$56,Table217[Категория разход],'Финансов отчет по категории'!B62) -> 0 | K62: =SUMIFS(Table217[Общо (EUR)],Table217[Отчетен период],'Финансов отчет по категории'!K$5,Table217[РП №],'Финансов отчет по категории'!$B$56,Table217[Категория разход],'Финансов отчет по категории'!B62) -> 0 | L62: =SUMIFS(Table217[Общо (EUR)],Table217[Отчетен период],'Финансов отчет по категории'!L$5,Table217[РП №],'Финансов отчет по категории'!$B$56,Table217[Категория разход],'Финансов отчет по категории'!B62) -> 0 | M62: =SUMIFS(Table217[Общо (EUR)],Table217[Отчетен период],'Финансов отчет по категории'!M$5,Table217[РП №],'Финансов отчет по категории'!$B$56,Table217[Категория разход],'Финансов отчет по категории'!B62) -> 0 | N62: =SUMIFS(Table217[Общо (EUR)],Table217[Отчетен период],'Финансов отчет по категории'!N$5,Table217[РП №],'Финансов отчет по категории'!$B$56,Table217[Категория разход],'Финансов отчет по категории'!B62) -> 0 | O62: =SUMIFS(Table217[Общо (EUR)],Table217[Отчетен период],'Финансов отчет по категории'!O$5,Table217[РП №],'Финансов отчет по категории'!$B$56,Table217[Категория разход],'Финансов отчет по категории'!B62) -> 0
C63: ='Финансов отчет по партньори'!B16 -> ПРЕКИ РАЗХОДИ | D63: =D7+D14+D21+D28+D35+D42+D49+D56 -> 0 | E63: =E7+E14+E21+E28+E35+E42+E49+E56 -> 0 | F63: =F7+F14+F21+F28+F35+F42+F49+F56 -> 0 | G63: =E63-F63 -> 0 | H63: =F63/E63 -> #DIV/0! | I63: =I7+I14+I21+I28+I35+I42+I49+I56 -> 0 | J63: =J7+J14+J21+J28+J35+J42+J49+J56 -> 0 | K63: =K7+K14+K21+K28+K35+K42+K49+K56 -> 0 | L63: =L7+L14+L21+L28+L35+L42+L49+L56 -> 0 | M63: =M7+M14+M21+M28+M35+M42+M49+M56 -> 0 | N63: =N7+N14+N21+N28+N35+N42+N49+N56 -> 0 | O63: =O7+O14+O21+O28+O35+O42+O49+O56 -> 0
B64: G | C64: ='Финансов отчет по партньори'!B17 -> Непреки разходи | D64: =D65+D66 -> 0 | E64: =E65+E66 -> 0 | G64: =E64-F64 -> 0 | H64: =F64/E64 -> #DIV/0! | I64: =I65+I66 -> 0 | J64: =J65+J66 -> 0 | K64: =K65+K66 -> 0 | L64: =L65+L66 -> 0 | M64: =M65+M66 -> 0 | N64: =N65+N66 -> 0 | O64: =O65+O66 -> 0
B65: G1 | C65: ='Финансов отчет по партньори'!B18 -> Административни разходи (10%) | D65: =0.1*D63 -> 0 | E65: =0.1*E63 -> 0 | F65: =SUM(I65:O65) -> 0 | G65: =E65-F65 -> 0 | H65: =F65/E65 -> #DIV/0! | I65: =0.1*I63 -> 0 | J65: =0.1*J63 -> 0 | K65: =0.1*K63 -> 0 | L65: =0.1*L63 -> 0 | M65: =0.1*M63 -> 0 | N65: =0.1*N63 -> 0 | O65: =0.1*O63 -> 0
B66: G2 | C66: ='Финансов отчет по партньори'!B19 -> Разходи за изграждане на организационен капацитет и развитие (до 15%) | F66: =SUM(I66:O66) -> 0 | G66: =E66-F66 -> 0 | H66: =F66/E66 -> #DIV/0! | I66: =SUMIFS(Table217[Общо (EUR)],Table217[Отчетен период],'Финансов отчет по категории'!I$5,Table217[Категория разход],'Финансов отчет по категории'!B66) -> 0 | J66: =SUMIFS(Table217[Общо (EUR)],Table217[Отчетен период],'Финансов отчет по категории'!J$5,Table217[Категория разход],'Финансов отчет по категории'!B66) -> 0 | K66: =SUMIFS(Table217[Общо (EUR)],Table217[Отчетен период],'Финансов отчет по категории'!K$5,Table217[Категория разход],'Финансов отчет по категории'!B66) -> 0 | L66: =SUMIFS(Table217[Общо (EUR)],Table217[Отчетен период],'Финансов отчет по категории'!L$5,Table217[Категория разход],'Финансов отчет по категории'!B66) -> 0 | M66: =SUMIFS(Table217[Общо (EUR)],Table217[Отчетен период],'Финансов отчет по категории'!M$5,Table217[Категория разход],'Финансов отчет по категории'!B66) -> 0 | N66: =SUMIFS(Table217[Общо (EUR)],Table217[Отчетен период],'Финансов отчет по категории'!N$5,Table217[Категория разход],'Финансов отчет по категории'!B66) -> 0 | O66: =SUMIFS(Table217[Общо (EUR)],Table217[Отчетен период],'Финансов отчет по категории'!O$5,Table217[Категория разход],'Финансов отчет по категории'!B66) -> 0
C67: ='Финансов отчет по партньори'!B20 -> Съотношение G2/Преки разходи | D67: =D66/D63 -> #DIV/0! | E67: =E66/E63 -> #DIV/0! | F67: =F66/F63 -> #DIV/0! | G67: =E67-F67 -> #DIV/0! | H67: =F67/E67 -> #DIV/0! | I67: =I66/I63 -> #DIV/0! | J67: =J66/J63 -> #DIV/0! | K67: =K66/K63 -> #DIV/0! | L67: =L66/L63 -> #DIV/0! | M67: =M66/M63 -> #DIV/0! | N67: =N66/N63 -> #DIV/0! | O67: =O66/O63 -> #DIV/0!
C68: ='Финансов отчет по партньори'!B21 -> ОБЩО РАЗХОДИ | D68: =D63+D64 -> 0 | E68: =E63+E64 -> 0 | F68: =F63+F64 -> 0 | G68: =E68-F68 -> 0 | H68: =F68/E68 -> #DIV/0! | I68: =I63+I64 -> 0 | J68: =J63+J64 -> 0 | K68: =K63+K64 -> 0 | L68: =L63+L64 -> 0 | M68: =M63+M64 -> 0 | N68: =N63+N64 -> 0 | O68: =O63+O64 -> 0
C70: РАЗБИВКА | D70: общо разходи (одобрен прогнозен бюджет) | E70: обюо разходи (актуализиран бюджет) | F70: Общо оставащо (с натрупване) | G70: Общо разходи по проекта (с натрупване) | H70: Дял към дата
C71: По вид разход | I71: 0.15
B72: A | C72: =C57 -> Разходи за персонал | D72: =SUMIF($B$7:$B$66,"A",$D$7:$D$66) -> 0 | E72: =SUMIF(B7:B66,"A",E7:E66) -> 0 | F72: =SUMIF(B$7:B$66,"A",F$7:F$66) -> 0 | G72: =E72-F72 -> 0 | H72: =F72/E72 -> #DIV/0! | I72: 1
B73: B | C73: =C58 -> Разходи за пътуване, настаняване и престой | D73: =SUMIF($B$7:$B$66,"B",$D$7:$D$66) -> 0 | E73: =SUMIF(B7:B66,"B",E7:E66) -> 0 | F73: =SUMIF(B$7:B$66,"B",F$7:F$66) -> 0 | G73: =E73-F73 -> 0 | H73: =F73/E73 -> #DIV/0!
B74: C | C74: =C59 -> Разходи за материали и консумативи | D74: =SUMIF($B$7:$B$66,"C",$D$7:$D$66) -> 0 | E74: =SUMIF(B7:B66,"C",E7:E66) -> 0 | F74: =SUMIF(B$7:B$66,"C",F$7:F$66) -> 0 | G74: =E74-F74 -> 0 | H74: =F74/E74 -> #DIV/0!
B75: D | C75: =C60 -> Инвестиционни разходи | D75: =SUMIF($B$7:$B$66,"D",$D$7:$D$66) -> 0 | E75: =SUMIF(B7:B66,"D",E7:E66) -> 0 | F75: =SUMIF(B$7:B$66,"D",F$7:F$66) -> 0 | G75: =E75-F75 -> 0 | H75: =F75/E75 -> #DIV/0!
B76: E | C76: =C61 -> Разходи за малки строително-ремонтни дейности | D76: =SUMIF($B$7:$B$66,"E",$D$7:$D$66) -> 0 | E76: =SUMIF(B7:B66,"E",E7:E66) -> 0 | F76: =SUMIF(B$7:B$66,"E",F$7:F$66) -> 0 | G76: =E76-F76 -> 0 | H76: =F76/E76 -> #DIV/0!
B77: F | C77: =C62 -> Разходи за външни услуги и експертиза | D77: =SUMIF($B$7:$B$66,"F",$D$7:$D$66) -> 0 | E77: =SUMIF(B7:B66,"F",E7:E66) -> 0 | F77: =SUMIF(B$7:B$66,"F",F$7:F$66) -> 0 | G77: =E77-F77 -> 0 | H77: =F77/E77 -> #DIV/0!
B78: G2 | C78: Разходи за изграждане и развитие на организационния капацитет | D78: =D66 -> 0 | E78: =E66 -> 0 | F78: =F66 -> 0 | G78: =E78-F78 -> 0 | H78: =F78/E78 -> #DIV/0!
C79: Комуникация и разпространение | F79: =SUMIF(Table217[РП №],'Финансов отчет по категории'!B79,Table217[Общо (EUR)]) -> 0 | G79: =E79-F79 -> 0 | H79: =F79/E79 -> #DIV/0!
B80: (Write the WP# above)
E82: Проверка на съотношения
C83: A | D83: =D72/D$68 -> #DIV/0! | E83: =E72/E$68 -> #DIV/0! | F83: =F72/F$68 -> #DIV/0!
C84: B | D84: =D73/D$68 -> #DIV/0! | E84: =E73/E$68 -> #DIV/0! | F84: =F73/F$68 -> #DIV/0!
C85: C | D85: =D74/D$68 -> #DIV/0! | E85: =E74/E$68 -> #DIV/0! | F85: =F74/F$68 -> #DIV/0! | H85: 0.15
C86: D & E | D86: =(D75+D76)/D$68 -> #DIV/0! | E86: =(E75+E76)/E$68 -> #DIV/0! | F86: =(F75+F76)/F$68 -> #DIV/0!
C87: F | D87: =D76/D63 -> #DIV/0! | E87: =E77/E63 -> #DIV/0! | F87: =F76/F63 -> #DIV/0! | H87: 0.3
C88: G2 | D88: =D66/D63 -> #DIV/0! | E88: =E66/E63 -> #DIV/0! | F88: =F78/F63 -> #DIV/0!
C89: =B79 -> 0 | D89: =D79/D68 -> #DIV/0! | E89: =E79/E68 -> #DIV/0! | F89: =F79/F68 -> #DIV/0!

Sheet Отчет за разходите
B1: Отчет за разходите
B3: Отчетен период | C3: РП № | D3: Бенефициер (абревиатура) | E3: Категория разход | F3: Вътрешен номер на разхода | G3: Описание на разхода | H3: Име контрагент | I3: Дата на документ | J3: Номер на документ | K3: Дата на плащане | L3: Валута (три-буквен код) | M3: Общо (валута) | N3: Обменен курс към EUR* | O3: Общо (EUR)
O4: =Table217[[#This Row],[Общо (валута)]]/Table217[[#This Row],[Обменен курс към EUR*]] -> #DIV/0!
O5: =Table217[[#This Row],[Общо (валута)]]/Table217[[#This Row],[Обменен курс към EUR*]] -> #DIV/0!
O6: =Table217[[#This Row],[Общо (валута)]]/Table217[[#This Row],[Обменен курс към EUR*]] -> #DIV/0!
O7: =Table217[[#This Row],[Общо (валута)]]/Table217[[#This Row],[Обменен курс към EUR*]] -> #DIV/0!
O8: =Table217[[#This Row],[Общо (валута)]]/Table217[[#This Row],[Обменен курс към EUR*]] -> #DIV/0!
O9: =Table217[[#This Row],[Общо (валута)]]/Table217[[#This Row],[Обменен курс към EUR*]] -> #DIV/0!
O10: =Table217[[#This Row],[Общо (валута)]]/Table217[[#This Row],[Обменен курс към EUR*]] -> #DIV/0!
O11: =Table217[[#This Row],[Общо (валута)]]/Table217[[#This Row],[Обменен курс към EUR*]] -> #DIV/0!
O12: =Table217[[#This Row],[Общо (валута)]]/Table217[[#This Row],[Обменен курс към EUR*]] -> #DIV/0!
O13: =Table217[[#This Row],[Общо (валута)]]/Table217[[#This Row],[Обменен курс към EUR*]] -> #DIV/0!
O14: =Table217[[#This Row],[Общо (валута)]]/Table217[[#This Row],[Обменен курс към EUR*]] -> #DIV/0!
O15: =Table217[[#This Row],[Общо (валута)]]/Table217[[#This Row],[Обменен курс към EUR*]] -> #DIV/0!
... O37: =Table217[[#This Row],[Общо (валута)]]/Table217[[#This Row],[Обменен курс към EUR*]] -> #DIV/0!
C38: добавете редове колкото е необходимо, над този текст.
G39: Общо разходи: | O39: =SUBTOTAL(9,Table217[Общо (EUR)]) -> #DIV/0!
C41: Забележка: Ако отчитате непреки разходи за изграждане и развитие на организационен капацитет, моля, поставете "G2" в колоната „Категория разход“.
B43: * | C43: За конвертиране на чуждестранната валута в евро се използва официалният валутен курс на Българската народна банка в деня на разхода.

Sheet Финансиране
B2: Получено финансиране
B3: Списък на получените плащания от водещия бенефициер | E3: Дата на превод | F3: Сума в EUR
B4: 1во плащане
B5: 2ро плащане
B6: 3то плащане
B7: 4то плащане
B8: 5то плащане
B9: 6то плащане
B10: Общ швейцарски принос | F10: =SUM(F4:F9) -> 0
B13: Общо получено финансиране спрямо действителните разходи
E14: Сума в CHF | F14: % | G14: Пояснение
B15: Получено финансиране | E15: =F10 -> 0 | F15: =E15/'Финансов отчет по партньори'!C40 -> #DIV/0! | G15: % Получено финансиране спрямо общия бюджет
B16: Действителни разходи | E16: ='Финансов отчет по партньори'!C82 -> 0 | F16: =E16/E15 -> #DIV/0! | G16: % Действителни разходи спрямо получено финансиране
B17: Баланс | E17: =E15-E16 -> 0

Sheet Sheet1
A1: РП1
A2: РП2
A3: РП3
A4: РП4
A5: РП5
A6: РП6
A7: РП7
A8: РП8

Sheet Лист
A3: 1
A4: 2
A5: 3
A6: 4
A7: 5
A8: 6
A9: 7
A12: A
A13: B
A14: C
A15: D
A16: E
A17: F
A18: G2
