Workbook

Sheet Финансов отчет по партньори
B2: Бюджетна модификация: | C2: Не | D2: =IF(C2="Да","('Попълнете одобрения актуализиран бюджет на редове 25-40)).","")
B5: Прогнозен одобрен бюджет на проекта по работни пакети (РП) и партньори (в EUR)
A6: ESTIMATED APPROVED INITIAL BUDGET | C6: Общo Консорциум | D6: Абревиатура ВБ | E6: Абревиатура П1 | F6: Абревиатура П2 | G6: Абревиатура П3 | H6: Абревиатура П4 | I6: Абревиатура П5 | J6: Абревиатура П6 | K6: Абревиатура П7 | L6: Абревиатура П8
D7: ВК | E7: П1 | F7: П2 | G7: П3 | H7: П4 | I7: ВК | J7: П5 | K7: П6 | L7: ВК
A8: РП1 | B8: [Въведете име на работен пакет 1] | C8: =SUM(D8:L8) -> 0
A9: РП2 | B9: [Въведете име на работен пакет 2] | C9: =SUM(D9:L9) -> 0
A10: РП3 | B10: [Въведете име на работен пакет 3] | C10: =SUM(D10:L10) -> 0
A11: РП4 | B11: [Въведете име на работен пакет 4] | C11: =SUM(D11:L11) -> 0
A12: РП5 | B12: [Въведете име на работен пакет 5 - ако е приложимо] | C12: =SUM(D12:L12) -> 0
A13: РП6 | B13: [Въведете име на работен пакет 6 - ако е приложимо] | C13: =SUM(D13:L13) -> 0
A14: РП7 | B14: [Въведете име на работен пакет 7 - ако е приложимо] | C14: =SUM(D14:L14) -> 0
A15: РП8 | B15: [Въведете име на работен пакет 8 - ако е приложимо] | C15: =SUM(D15:L15) -> 0
B16: ПРЕКИ РАЗХОДИ | C16: =SUM(D16:L16) -> 0 | D16: =D8+D9+D10+D11+D12+D13+D14+D15 -> 0 | E16: =E8+E9+E10+E11+E12+E13+E14+E15 -> 0 | F16: =F8+F9+F10+F11+F12+F13+F14+F15 -> 0 | G16: =G8+G9+G10+G11+G12+G13+G14+G15 -> 0 | H16: =H8+H9+H10+H11+H12+H13+H14+H15 -> 0 | I16: =I8+I9+I10+I11+I12+I13+I14+I15 -> 0 | J16: =J8+J9+J10+J11+J12+J13+J14+J15 -> 0 | K16: =K8+K9+K10+K11+K12+K13+K14+K15 -> 0 | L16: =L8+L9+L10+L11+L12+L13+L14+L15 -> 0
A17: G | B17: Непреки разходи | C17: =SUM(D17:L17) -> 0 | D17: =D18+D19 -> 0 | E17: =E18+E19 -> 0 | F17: =F18+F19 -> 0 | G17: =G18+G19 -> 0 | H17: =H18+H19 -> 0 | I17: =I18+I19 -> 0 | J17: =J18+J19 -> 0 | K17: =K18+K19 -> 0 | L17: =L18+L19 -> 0
A18: G1 | B18: Административни разходи (10%) | C18: =0.1*C16 -> 0 | D18: =0.1*D16 -> 0 | E18: =0.1*E16 -> 0 | F18: =0.1*F16 -> 0 | G18: =0.1*G16 -> 0 | H18: =0.1*H16 -> 0 | I18: =0.1*I16 -> 0 | J18: =0.1*J16 -> 0 | ... L18: =0.1*L16 -> 0
A19: G2 | B19: Разходи за изграждане на организационен капацитет и развитие (до 15%) | C19: =SUM(D19:L19) -> 0
B20: Съотношение G2/Преки разходи | C20: =C19/C16 -> #DIV/0! | D20: =D19/D16 -> #DIV/0! | E20: =E19/E16 -> #DIV/0! | F20: =F19/F16 -> #DIV/0! | G20: =G19/G16 -> #DIV/0! | H20: =H19/H16 -> #DIV/0! | I20: =I19/I16 -> #DIV/0! | J20: =J19/J16 -> #DIV/0! | ... L20: =L19/L16 -> #DIV/0!
B21: ОБЩО РАЗХОДИ | C21: =C16+C17 -> 0 | D21: =D16+D17 -> 0 | E21: =E16+E17 -> 0 | F21: =F16+F17 -> 0 | G21: =G16+G17 -> 0 | H21: =H16+H17 -> 0 | I21: =I16+I17 -> 0 | J21: =J16+J17 -> 0 | ... L21: =L16+L17 -> 0
A25: ОДОБРЕН АКТУАЛИЗИРАН БЮДЖЕТ (в случай, че има бюджетна модификация, одобрена от ПО) | C25: =C6 -> Общo Консорциум | D25: =D6 -> Абревиатура ВБ | E25: =E6 -> Абревиатура П1 | F25: =F6 -> Абревиатура П2 | G25: =G6 -> Абревиатура П3 | H25: =H6 -> Абревиатура П4 | I25: =I6 -> Абревиатура П5 | J25: =J6 -> Абревиатура П6 | ... L25: =L6 -> Абревиатура П8
D26: ВБ | E26: П1 | F26: П2 | G26: П3 | H26: П4 | I26: П5 | J26: П6 | K26: П7 | L26: П8
A27: =A8 -> РП1 | B27: =B8 -> [Въведете име на работен пакет 1] | C27: =SUM(D27:L27) -> 0 | D27: =D8 -> 0 | E27: =E8 -> 0 | F27: =F8 -> 0 | G27: =G8 -> 0 | H27: =H8 -> 0 | I27: =I8 -> 0 | J27: =J8 -> 0 | K27: =K8 -> 0 | L27: =L8 -> 0
A28: =A9 -> РП2 | B28: =B9 -> [Въведете име на работен пакет 2] | C28: =SUM(D28:L28) -> 0 | D28: =D9 -> 0 | E28: =E9 -> 0 | F28: =F9 -> 0 | G28: =G9 -> 0 | H28: =H9 -> 0 | I28: =I9 -> 0 | J28: =J9 -> 0 | K28: =K9 -> 0 | L28: =L9 -> 0
A29: =A10 -> РП3 | B29: =B10 -> [Въведете име на работен пакет 3] | C29: =SUM(D29:L29) -> 0 | D29: =D10 -> 0 | E29: =E10 -> 0 | F29: =F10 -> 0 | G29: =G10 -> 0 | H29: =H10 -> 0 | I29: =I10 -> 0 | J29: =J10 -> 0 | K29: =K10 -> 0 | L29: =L10 -> 0
A30: =A11 -> РП4 | B30: =B11 -> [Въведете име на работен пакет 4] | C30: =SUM(D30:L30) -> 0 | D30: =D11 -> 0 | E30: =E11 -> 0 | F30: =F11 -> 0 | G30: =G11 -> 0 | H30: =H11 -> 0 | I30: =I11 -> 0 | J30: =J11 -> 0 | K30: =K11 -> 0 | L30: =L11 -> 0
A31: =A12 -> РП5 | B31: =B12 -> [Въведете име на работен пакет 5 - ако е приложимо] | C31: =SUM(D31:L31) -> 0 | D31: =D12 -> 0 | E31: =E12 -> 0 | F31: =F12 -> 0 | G31: =G12 -> 0 | H31: =H12 -> 0 | I31: =I12 -> 0 | J31: =J12 -> 0 | K31: =K12 -> 0 | L31: =L12 -> 0
A32: =A13 -> РП6 | B32: =B13 -> [Въведете име на работен пакет 6 - ако е приложимо] | C32: =SUM(D32:L32) -> 0 | D32: =D13 -> 0 | E32: =E13 -> 0 | F32: =F13 -> 0 | G32: =G13 -> 0 | H32: =H13 -> 0 | I32: =I13 -> 0 | J32: =J13 -> 0 | K32: =K13 -> 0 | L32: =L13 -> 0
A33: =A14 -> РП7 | B33: =B14 -> [Въведете име на работен пакет 7 - ако е приложимо] | C33: =SUM(D33:L33) -> 0 | D33: =D14 -> 0 | E33: =E14 -> 0 | F33: =F14 -> 0 | G33: =G14 -> 0 | H33: =H14 -> 0 | I33: =I14 -> 0 | J33: =J14 -> 0 | K33: =K14 -> 0 | L33: =L14 -> 0
A34: =A15 -> РП8 | B34: =B15 -> [Въведете име на работен пакет 8 - ако е приложимо] | C34: =SUM(D34:L34) -> 0 | D34: =D15 -> 0 | E34: =E15 -> 0 | F34: =F15 -> 0 | G34: =G15 -> 0 | H34: =H15 -> 0 | I34: =I15 -> 0 | J34: =J15 -> 0 | K34: =K15 -> 0 | L34: =L15 -> 0
B35: =B16 -> ПРЕКИ РАЗХОДИ | C35: =SUM(D35:L35) -> 0 | D35: =D27+D28+D29+D30+D31+D32+D33+D34 -> 0 | E35: =E27+E28+E29+E30+E31+E32+E33+E34 -> 0 | F35: =F27+F28+F29+F30+F31+F32+F33+F34 -> 0 | G35: =G27+G28+G29+G30+G31+G32+G33+G34 -> 0 | H35: =H27+H28+H29+H30+H31+H32+H33+H34 -> 0 | I35: =I27+I28+I29+I30+I31+I32+I33+I34 -> 0 | J35: =J27+J28+J29+J30+J31+J32+J33+J34 -> 0 | K35: =K27+K28+K29+K30+K31+K32+K33+K34 -> 0 | L35: =L27+L28+L29+L30+L31+L32+L33+L34 -> 0
A36: G | B36: =B17 -> Непреки разходи | C36: =SUM(D36:L36) -> 0 | D36: =D37+D38 -> 0 | E36: =E37+E38 -> 0 | F36: =F37+F38 -> 0 | G36: =G37+G38 -> 0 | H36: =H37+H38 -> 0 | I36: =I37+I38 -> 0 | J36: =J37+J38 -> 0 | K36: =K37+K38 -> 0 | L36: =L37+L38 -> 0
A37: G1 | B37: =B18 -> Административни разходи (10%) | D37: =0.1*D35 -> 0 | E37: =0.1*E35 -> 0 | F37: =0.1*F35 -> 0 | G37: =0.1*G35 -> 0 | H37: =0.1*H35 -> 0 | I37: =0.1*I35 -> 0 | J37: =0.1*J35 -> 0 | K37: =0.1*K35 -> 0 | L37: =0.1*L35 -> 0
A38: G2 | B38: =B19 -> Разходи за изграждане на организационен капацитет и развитие (до 15%) | C38: =SUM(D38:L38) -> 0 | D38: =D19 -> 0 | E38: =E19 -> 0 | F38: =F19 -> 0 | G38: =G19 -> 0 | H38: =H19 -> 0 | I38: =I19 -> 0 | J38: =J19 -> 0 | K38: =K19 -> 0 | L38: =L19 -> 0
B39: =B20 -> Съотношение G2/Преки разходи | C39: =C38/C35 -> #DIV/0! | D39: =D38/D35 -> #DIV/0! | E39: =E38/E35 -> #DIV/0! | F39: =F38/F35 -> #DIV/0! | G39: =G38/G35 -> #DIV/0! | H39: =H38/H35 -> #DIV/0! | I39: =I38/I35 -> #DIV/0! | J39: =J38/J35 -> #DIV/0! | ... L39: =L38/L35 -> #DIV/0!
B40: =B21 -> ОБЩО РАЗХОДИ | C40: =C35+C36 -> 0 | D40: =D35+D36 -> 0 | E40: =E35+E36 -> 0 | F40: =F35+F36 -> 0 | G40: =G35+G36 -> 0 | H40: =H35+H36 -> 0 | I40: =I35+I36 -> 0 | J40: =J35+J36 -> 0 | ... L40: =L35+L36 -> 0
C44: (Напишете номера на отчетния период!)
B45: Отчет по РП и партньори (за отчетния период, в EUR) | D45: От | F45: (актуална дата!) | G45: от: | I45: до:
C47: =C6 -> Общo Консорциум | D47: =D6 -> Абревиатура ВБ | E47: =E6 -> Абревиатура П1 | F47: =F6 -> Абревиатура П2 | G47: =G6 -> Абревиатура П3 | H47: =H6 -> Абревиатура П4 | I47: =I6 -> Абревиатура П5 | J47: =J6 -> Абревиатура П6 | ... L47: =L6 -> Абревиатура П8
D48: =D26 -> ВБ | E48: =E26 -> П1 | F48: =F26 -> П2 | G48: =G26 -> П3 | H48: =H26 -> П4 | I48: =I26 -> П5 | J48: =J26 -> П6 | K48: =K26 -> П7 | L48: =L26 -> П8
A49: =A8 -> РП1 | B49: =B8 -> [Въведете име на работен пакет 1] | C49: =SUM(D49:L49) -> 0 | D49: =SUMIFS(Table217[Общо (EUR)],Table217[Бенефициер (абревиатура)],'Финансов отчет по партньори'!D$47,Table217[РП №],'Финансов отчет по партньори'!$A49,Table217[Отчетен период],'Финансов отчет по партньори'!$C$45) -> 0 | E49: =SUMIFS(Table217[Общо (EUR)],Table217[Бенефициер (абревиатура)],'Финансов отчет по партньори'!E$47,Table217[РП №],'Финансов отчет по партньори'!$A49,Table217[Отчетен период],'Финансов отчет по партньори'!$C$45) -> 0 | F49: =SUMIFS(Table217[Общо (EUR)],Table217[Бенефициер (абревиатура)],'Финансов отчет по партньори'!F$47,Table217[РП №],'Финансов отчет по партньори'!$A49,Table217[Отчетен период],'Финансов отчет по партньори'!$C$45) -> 0 | G49: =SUMIFS(Table217[Общо (EUR)],Table217[Бенефициер (абревиатура)],'Финансов отчет по партньори'!G$47,Table217[РП №],'Финансов отчет по партньори'!$A49,Table217[Отчетен период],'Финансов отчет по партньори'!$C$45) -> 0 | H49: =SUMIFS(Table217[Общо (EUR)],Table217[Бенефициер (абревиатура)],'Финансов отчет по партньори'!H$47,Table217[РП №],'Финансов отчет по партньори'!$A49,Table217[Отчетен период],'Финансов отчет по партньори'!$C$45) -> 0 | I49: =SUMIFS(Table217[Общо (EUR)],Table217[Бенефициер (абревиатура)],'Финансов отчет по партньори'!I$47,Table217[РП №],'Финансов отчет по партньори'!$A49,Table217[Отчетен период],'Финансов отчет по партньори'!$C$45) -> 0 | J49: =SUMIFS(Table217[Общо (EUR)],Table217[Бенефициер (абревиатура)],'Финансов отчет по партньори'!J$47,Table217[РП №],'Финансов отчет по партньори'!$A49,Table217[Отчетен период],'Финансов отчет по партньори'!$C$45) -> 0 | K49: =SUMIFS(Table217[Общо (EUR)],Table217[Бенефициер (абревиатура)],'Финансов отчет по партньори'!K$47,Table217[РП №],'Финансов отчет по партньори'!$A49,Table217[Отчетен период],'Финансов отчет по партньори'!$C$45) -> 0 | L49: =SUMIFS(Table217[Общо (EUR)],Table217[Бенефициер (абревиатура)],'Финансов отчет по партньори'!L$47,Table217[РП №],'Финансов отчет по партньори'!$A49,Table217[Отчетен период],'Финансов отчет по партньори'!$C$45) -> 0
A50: =A9 -> РП2 | B50: =B9 -> [Въведете име на работен пакет 2] | C50: =SUM(D50:L50) -> 0 | D50: =SUMIFS(Table217[Общо (EUR)],Table217[Бенефициер (абревиатура)],'Финансов отчет по партньори'!D$47,Table217[РП №],'Финансов отчет по партньори'!$A50,Table217[Отчетен период],'Финансов отчет по партньори'!$C$45) -> 0 | E50: =SUMIFS(Table217[Общо (EUR)],Table217[Бенефициер (абревиатура)],'Финансов отчет по партньори'!E$47,Table217[РП №],'Финансов отчет по партньори'!$A50,Table217[Отчетен период],'Финансов отчет по партньори'!$C$45) -> 0 | F50: =SUMIFS(Table217[Общо (EUR)],Table217[Бенефициер (абревиатура)],'Финансов отчет по партньори'!F$47,Table217[РП №],'Финансов отчет по партньори'!$A50,Table217[Отчетен период],'Финансов отчет по партньори'!$C$45) -> 0 | G50: =SUMIFS(Table217[Общо (EUR)],Table217[Бенефициер (абревиатура)],'Финансов отчет по партньори'!G$47,Table217[РП №],'Финансов отчет по партньори'!$A50,Table217[Отчетен период],'Финансов отчет по партньори'!$C$45) -> 0 | H50: =SUMIFS(Table217[Общо (EUR)],Table217[Бенефициер (абревиатура)],'Финансов отчет по партньори'!H$47,Table217[РП №],'Финансов отчет по партньори'!$A50,Table217[Отчетен период],'Финансов отчет по партньори'!$C$45) -> 0 | I50: =SUMIFS(Table217[Общо (EUR)],Table217[Бенефициер (абревиатура)],'Финансов отчет по партньори'!I$47,Table217[РП №],'Финансов отчет по партньори'!$A50,Table217[Отчетен период],'Финансов отчет по партньори'!$C$45) -> 0 | J50: =SUMIFS(Table217[Общо (EUR)],Table217[Бенефициер (абревиатура)],'Финансов отчет по партньори'!J$47,Table217[РП №],'Финансов отчет по партньори'!$A50,Table217[Отчетен период],'Финансов отчет по партньори'!$C$45) -> 0 | K50: =SUMIFS(Table217[Общо (EUR)],Table217[Бенефициер (абревиатура)],'Финансов отчет по партньори'!K$47,Table217[РП №],'Финансов отчет по партньори'!$A50,Table217[Отчетен период],'Финансов отчет по партньори'!$C$45) -> 0 | L50: =SUMIFS(Table217[Общо (EUR)],Table217[Бенефициер (абревиатура)],'Финансов отчет по партньори'!L$47,Table217[РП №],'Финансов отчет по партньори'!$A50,Table217[Отчетен период],'Финансов отчет по партньори'!$C$45) -> 0
...

Sheet Финансов отчет по категории
B2: Отчетени суми по работни пакети и категории разходи (в EUR) | E2: Към дата | F2: ='Финансов отчет по партньори'!E45 -> 0 | H2: Период на отчитане: | I2: от: | J2: ='Финансов отчет по партньори'!H45 -> 0 | K2: до: | L2: ='Финансов отчет по партньори'!J45 -> 0
I4: Отчетни периоди:
D5: Одобрен бюджет към датата на отчета | E5: Актуализиран бюджет (ако няма промяна се копират стойностите от колона D) | F5: Общи разходи по проекта (с натрупване) | G5: Оставащи от бюджета | H5: Дял към дата (%) | I5: 1 | J5: 2 | K5: 3 | L5: 4 | M5: 5 | N5: 6 | O5: 7
I6: С2 2025 | J6: С1 2026 | K6: С2 2026 | L6: С1 2027 | M6: С2 2027 | N6: С1 2028 | O6: С2 2028
B7: ='Финансов отчет по партньори'!A8 -> РП1 | C7: ='Финансов отчет по партньори'!B8 -> [Въведете име на работен пакет 1] | D7: =SUM(D8:D13) -> 0 | E7: =SUM(E8:E13) -> 0 | F7: =SUM(F8:F13) -> 0 | G7: =E7-F7 -> 0 | H7: =F7/E7 -> #DIV/0! | I7: =SUM(I8:I13) -> 0 | J7: =SUM(J8:J13) -> 0 | L7: =SUM(L8:L13) -> 0 | M7: =SUM(M8:M13) -> 0 | O7: =SUM(O8:O13) -> 0
B8: A | C8: Разходи за персонал | F8: =SUM(I8:O8) -> 0 | G8: =E8-F8 -> 0 | H8: =F8/E8 -> #DIV/0! | I8: =SUMIFS(Table217[Общо (EUR)],Table217[Отчетен период],'Финансов отчет по категории'!I$5,Table217[РП №],'Финансов отчет по категории'!$B$7,Table217[Категория разход],'Финансов отчет по категории'!B8) -> 0 | J8: =SUMIFS(Table217[Общо (EUR)],Table217[Отчетен период],'Финансов отчет по категории'!J$5,Table217[РП №],'Финансов отчет по категории'!$B$7,Table217[Категория разход],'Финансов отчет по категории'!B8) -> 0 | K8: =SUMIFS(Table217[Общо (EUR)],Table217[Отчетен период],'Финансов отчет по категории'!K$5,Table217[РП №],'Финансов отчет по категории'!$B$7,Table217[Категория разход],'Финансов отчет по категории'!B8) -> 0 | L8: =SUMIFS(Table217[Общо (EUR)],Table217[Отчетен период],'Финансов отчет по категории'!L$5,Table217[РП №],'Финансов отчет по категории'!$B$7,Table217[Категория разход],'Финансов отчет по категории'!B8) -> 0 | M8: =SUMIFS(Table217[Общо (EUR)],Table217[Отчетен период],'Финансов отчет по категории'!M$5,Table217[РП №],'Финансов отчет по категории'!$B$7,Table217[Категория разход],'Финансов отчет по категории'!B8) -> 0 | N8: =SUMIFS(Table217[Общо (EUR)],Table217[Отчетен период],'Финансов отчет по категории'!N$5,Table217[РП №],'Финансов отчет по категории'!$B$7,Table217[Категория разход],'Финансов отчет по категории'!B8) -> 0 | O8: =SUMIFS(Table217[Общо (EUR)],Table217[Отчетен период],'Финансов отчет по категории'!O$5,Table217[РП №],'Финансов отчет по категории'!$B$7,Table217[Категория разход],'Финансов отчет по категории'!B8) -> 0
B9: B | C9: Разходи за пътуване, настаняване и престой | F9: =SUM(I9:O9) -> 0 | G9: =E9-F9 -> 0 | H9: =F9/E9 -> #DIV/0! | I9: =SUMIFS(Table217[Общо (EUR)],Table217[Отчетен период],'Финансов отчет по категории'!I$5,Table217[РП №],'Финансов отчет по категории'!$B$7,Table217[Категория разход],'Финансов отчет по категории'!B9) -> 0 | J9: =SUMIFS(Table217[Общо (EUR)],Table217[Отчетен период],'Финансов отчет по категории'!J$5,Table217[РП №],'Финансов отчет по категории'!$B$7,Table217[Категория разход],'Финансов отчет по категории'!B9) -> 0 | K9: =SUMIFS(Table217[Общо (EUR)],Table217[Отчетен период],'Финансов отчет по категории'!K$5,Table217[РП №],'Финансов отчет по категории'!$B$7,Table217[Категория разход],'Финансов отчет по категории'!B9) -> 0 | L9: =SUMIFS(Table217[Общо (EUR)],Table217[Отчетен период],'Финансов отчет по категории'!L$5,Table217[РП №],'Финансов отчет по категории'!$B$7,Table217[Категория разход],'Финансов отчет по категории'!B9) -> 0 | M9: =SUMIFS(Table217[Общо (EUR)],Table217[Отчетен период],'Финансов отчет по категории'!M$5,Table217[РП №],'Финансов отчет по категории'!$B$7,Table217[Категория разход],'Финансов отчет по категории'!B9) -> 0 | N9: =SUMIFS(Table217[Общо (EUR)],Table217[Отчетен период],'Финансов отчет по категории'!N$5,Table217[РП №],'Финансов отчет по категории'!$B$7,Table217[Категория разход],'Финансов отчет по категории'!B9) -> 0 | O9: =SUMIFS(Table217[Общо (EUR)],Table217[Отчетен период],'Финансов отчет по категории'!O$5,Table217[РП №],'Финансов отчет по категории'!$B$7,Table217[Категория разход],'Финансов отчет по категории'!B9) -> 0
B10: C | C10: Разходи за материали и консумативи | F10: =SUM(I10:O10) -> 0 | G10: =E10-F10 -> 0 | H10: =F10/E10 -> #DIV/0! | I10: =SUMIFS(Table217[Общо (EUR)],Table217[Отчетен период],'Финансов отчет по категории'!I$5,Table217[РП №],'Финансов отчет по категории'!$B$7,Table217[Категория разход],'Финансов отчет по категории'!B10) -> 0 | J10: =SUMIFS(Table217[Общо (EUR)],Table217[Отчетен период],'Финансов отчет по категории'!J$5,Table217[РП №],'Финансов отчет по категории'!$B$7,Table217[Категория разход],'Финансов отчет по категории'!B10) -> 0 | K10: =SUMIFS(Table217[Общо (EUR)],Table217[Отчетен период],'Финансов отчет по категории'!K$5,Table217[РП №],'Финансов отчет по категории'!$B$7,Table217[Категория разход],'Финансов отчет по категории'!B10) -> 0 | L10: =SUMIFS(Table217[Общо (EUR)],Table217[Отчетен период],'Финансов отчет по категории'!L$5,Table217[РП №],'Финансов отчет по категории'!$B$7,Table217[Категория разход],'Финансов отчет по категории'!B10) -> 0 | M10: =SUMIFS(Table217[Общо (EUR)],Table217[Отчетен период],'Финансов отчет по категории'!M$5,Table217[РП №],'Финансов отчет по категории'!$B$7,Table217[Категория разход],'Финансов отчет по категории'!B10) -> 0 | N10: =SUMIFS(Table217[Общо (EUR)],Table217[Отчетен период],'Финансов отчет по категории'!N$5,Table217[РП №],'Финансов отчет по категории'!$B$7,Table217[Категория разход],'Финансов отчет по категории'!B10) -> 0 | O10: =SUMIFS(Table217[Общо (EUR)],Table217[Отчетен период],'Финансов отчет по категории'!O$5,Table217[РП №],'Финансов отчет по категории'!$B$7,Table217[Категория разход],'Финансов отчет по категории'!B10) -> 0
B11: D | C11: Инвестиционни разходи | F11: =SUM(I11:O11) -> 0 | G11: =E11-F11 -> 0 | H11: =F11/E11 -> #DIV/0! | I11: =SUMIFS(Table217[Общо (EUR)],Table217[Отчетен период],'Финансов отчет по категории'!I$5,Table217[РП №],'Финансов отчет по категории'!$B$7,Table217[Категория разход],'Финансов отчет по категории'!B11) -> 0 | J11: =SUMIFS(Table217[Общо (EUR)],Table217[Отчетен период],'Финансов отчет по категории'!J$5,Table217[РП №],'Финансов отчет по категории'!$B$7,Table217[Категория разход],'Финансов отчет по категории'!B11) -> 0 | K11: =SUMIFS(Table217[Общо (EUR)],Table217[Отчетен период],'Финансов отчет по категории'!K$5,Table217[РП №],'Финансов отчет по категории'!$B$7,Table217[Категория разход],'Финансов отчет по категории'!B11) -> 0 | L11: =SUMIFS(Table217[Общо (EUR)],Table217[Отчетен период],'Финансов отчет по категории'!L$5,Table217[РП №],'Финансов отчет по категории'!$B$7,Table217[Категория разход],'Финансов отчет по категории'!B11) -> 0 | M11: =SUMIFS(Table217[Общо (EUR)],Table217[Отчетен период],'Финансов отчет по категории'!M$5,Table217[РП №],'Финансов отчет по категории'!$B$7,Table217[Категория разход],'Финансов отчет по категории'!B11) -> 0 | N11: =SUMIFS(Table217[Общо (EUR)],Table217[Отчетен период],'Финансов отчет по категории'!N$5,Table217[РП №],'Финансов отчет по категории'!$B$7,Table217[Категория разход],'Финансов отчет по категории'!B11) -> 0 | O11: =SUMIFS(Table217[Общо (EUR)],Table217[Отчетен период],'Финансов отчет по категории'!O$5,Table217[РП №],'Финансов отчет по категории'!$B$7,Table217[Категория разход],'Финансов отчет по категории'!B11) -> 0
B12: E | C12: Разходи за малки строително-ремонтни дейности | F12: =SUM(I12:O12) -> 0 | G12: =E12-F12 -> 0 | H12: =F12/E12 -> #DIV/0! | I12: =SUMIFS(Table217[Общо (EUR)],Table217[Отчетен период],'Финансов отчет по категории'!I$5,Table217[РП №],'Финансов отчет по категории'!$B$7,Table217[Категория разход],'Финансов отчет по категории'!B12) -> 0 | J12: =SUMIFS(Table217[Общо (EUR)],Table217[Отчетен период],'Финансов отчет по категории'!J$5,Table217[РП №],'Финансов отчет по категории'!$B$7,Table217[Категория разход],'Финансов отчет по категории'!B12) -> 0 | K12: =SUMIFS(Table217[Общо (EUR)],Table217[Отчетен период],'Финансов отчет по категории'!K$5,Table217[РП №],'Финансов отчет по категории'!$B$7,Table217[Категория разход],'Финансов отчет по категории'!B12) -> 0 | L12: =SUMIFS(Table217[Общо (EUR)],Table217[Отчетен период],'Финансов отчет по категории'!L$5,Table217[РП №],'Финансов отчет по категории'!$B$7,Table217[Категория разход],'Финансов отчет по категории'!B12) -> 0 | M12: =SUMIFS(Table217[Общо (EUR)],Table217[Отчетен период],'Финансов отчет по категории'!M$5,Table217[РП №],'Финансов отчет по категории'!$B$7,Table217[Категория разход],'Финансов отчет по категории'!B12) -> 0 | N12: =SUMIFS(Table217[Общо (EUR)],Table217[Отчетен период],'Финансов отчет по категории'!N$5,Table217[РП №],'Финансов отчет по категории'!$B$7,Table217[Категория разход],'Финансов отчет по категории'!B12) -> 0 | O12: =SUMIFS(Table217[Общо (EUR)],Table217[Отчетен период],'Финансов отчет по категории'!O$5,Table217[РП №],'Финансов отчет по категории'!$B$7,Table217[Категория разход],'Финансов отчет по категории'!B12) -> 0
B13: F | C13: Разходи за външни услуги и експертиза | F13: =SUM(I13:O13) -> 0 | G13: =E13-F13 -> 0 | H13: =F13/E13 -> #DIV/0! | I13: =SUMIFS(Table217[Общо (EUR)],Table217[Отчетен период],'Финансов отчет по категории'!I$5,Table217[РП №],'Финансов отчет по категории'!$B$7,Table217[Категория разход],'Финансов отчет по категории'!B13) -> 0 | J13: =SUMIFS(Table217[Общо (EUR)],Table217[Отчетен период],'Финансов отчет по категории'!J$5,Table217[РП №],'Финансов отчет по категории'!$B$7,Table217[Категория разход],'Финансов отчет по категории'!B13) -> 0 | K13: =SUMIFS(Table217[Общо (EUR)],Table217[Отчетен период],'Финансов отчет по категории'!K$5,Table217[РП №],'Финансов отчет по категории'!$B$7,Table217[Категория разход],'Финансов отчет по категории'!B13) -> 0 | L13: =SUMIFS(Table217[Общо (EUR)],Table217[Отчетен период],'Финансов отчет по категории'!L$5,Table217[РП №],'Финансов отчет по категории'!$B$7,Table217[Категория разход],'Финансов отчет по категории'!B13) -> 0 | M13: =SUMIFS(Table217[Общо (EUR)],Table217[Отчетен период],'Финансов отчет по категории'!M$5,Table217[РП №],'Финансов отчет по категории'!$B$7,Table217[Категория разход],'Финансов отчет по категории'!B13) -> 0 | N13: =SUMIFS(Table217[Общо (EUR)],Table217[Отчетен период],'Финансов отчет по категории'!N$5,Table217[РП №],'Финансов отчет по категории'!$B$7,Table217[Категория разход],'Финансов отчет по категории'!B13) -> 0 | O13: =SUMIFS(Table217[Общо (EUR)],Table217[Отчетен период],'Финансов отчет по категории'!O$5,Table217[РП №],'Финансов отчет по категории'!$B$7,Table217[Категория разход],'Финансов отчет по категории'!B13) -> 0
B14: ='Финансов отчет по партньори'!A9 -> РП2 | C14: ='Финансов отчет по партньори'!B9 -> [Въведете име на работен пакет 2] | D14: =SUM(D15:D20) -> 0 | E14: =SUM(E15:E20) -> 0 | F14: =SUM(F15:F20) -> 0 | G14: =E14-F14 -> 0 | H14: =F14/E14 -> #DIV/0! | I14: =SUM(I15:I20) -> 0 | J14: =SUM(J15:J20) -> 0 | K14: =SUM(K15:K20) -> 0 | L14: =SUM(L15:L20) -> 0 | M14: =SUM(M15:M20) -> 0 | N14: =SUM(N15:N20) -> 0 | O14: =SUM(O15:O20) -> 0
B15: A | C15: =C8 -> Разходи за персонал | F15: =SUM(I15:O15) -> 0 | G15: =E15-F15 -> 0 | H15: =F15/E15 -> #DIV/0! | I15: =SUMIFS(Table217[Общо (EUR)],Table217[Отчетен период],'Финансов отчет по категории'!I$5,Table217[РП №],'Финансов отчет по категории'!$B$14,Table217[Категория разход],'Финансов отчет по категории'!B15) -> 0 | J15: =SUMIFS(Table217[Общо (EUR)],Table217[Отчетен период],'Финансов отчет по категории'!J$5,Table217[РП №],'Финансов отчет по категории'!$B$14,Table217[Категория разход],'Финансов отчет по категории'!B15) -> 0 | K15: =SUMIFS(Table217[Общо (EUR)],Table217[Отчетен период],'Финансов отчет по категории'!K$5,Table217[РП №],'Финансов отчет по категории'!$B$14,Table217[Категория разход],'Финансов отчет по категории'!B15) -> 0 | L15: =SUMIFS(Table217[Общо (EUR)],Table217[Отчетен период],'Финансов отчет по категории'!L$5,Table217[РП №],'Финансов отчет по категории'!$B$14,Table217[Категория разход],'Финансов отчет по категории'!B15) -> 0 | M15: =SUMIFS(Table217[Общо (EUR)],Table217[Отчетен период],'Финансов отчет по категории'!M$5,Table217[РП №],'Финансов отчет по категории'!$B$14,Table217[Категория разход],'Финансов отчет по категории'!B15) -> 0 | N15: =SUMIFS(Table217[Общо (EUR)],Table217[Отчетен период],'Финансов отчет по категории'!N$5,Table217[РП №],'Финансов отчет по категории'!$B$14,Table217[Категория разход],'Финансов отчет по категории'!B15) -> 0 | O15: =SUMIFS(Table217[Общо (EUR)],Table217[Отчетен период],'Финансов отчет по категории'!O$5,Table217[РП №],'Финансов отчет по категории'!$B$14,Table217[Категория разход],'Финансов отчет по категории'!B15) -> 0
B16: B | C16: =C9 -> Разходи за пътуване, настаняване и престой | F16: =SUM(I16:O16) -> 0 | G16: =E16-F16 -> 0 | H16: =F16/E16 -> #DIV/0! | I16: =SUMIFS(Table217[Общо (EUR)],Table217[Отчетен период],'Финансов отчет по категории'!I$5,Table217[РП №],'Финансов отчет по категории'!$B$14,Table217[Категория разход],'Финансов отчет по категории'!B16) -> 0 | J16: =SUMIFS(Table217[Общо (EUR)],Table217[Отчетен период],'Финансов отчет по категории'!J$5,Table217[РП №],'Финансов отчет по категории'!$B$14,Table217[Категория разход],'Финансов отчет по категории'!B16) -> 0 | K16: =SUMIFS(Table217[Общо (EUR)],Table217[Отчетен период],'Финансов отчет по категории'!K$5,Table217[РП №],'Финансов отчет по категории'!$B$14,Table217[Категория разход],'Финансов отчет по категории'!B16) -> 0 | L16: =SUMIFS(Table217[Общо (EUR)],Table217[Отчетен период],'Финансов отчет по категории'!L$5,Table217[РП №],'Финансов отчет по категории'!$B$14,Table217[Категория разход],'Финансов отчет по категории'!B16) -> 0 | M16: =SUMIFS(Table217[Общо (EUR)],Table217[Отчетен период],'Финансов отчет по категории'!M$5,Table217[РП №],'Финансов отчет по категории'!$B$14,Table217[Категория разход],'Финансов отчет по категории'!B16) -> 0 | N16: =SUMIFS(Table217[Общо (EUR)],Table217[Отчетен период],'Финансов отчет по категории'!N$5,Table217[РП №],'Финансов отчет по категории'!$B$14,Table217[Категория разход],'Финансов отчет по категории'!B16) -> 0 | O16: =SUMIFS(Table217[Общо (EUR)],Table217[Отчетен период],'Финансов отчет по категории'!O$5,Table217[РП №],'Финансов отчет по категории'!$B$14,Table217[Категория разход],'Финансов отчет по категории'!B16) -> 0
B17: C | C17: =C10 -> Разходи за материали и консумативи | F17: =SUM(I17:O17) -> 0 | G17: =E17-F17 -> 0 | H17: =F17/E17 -> #DIV/0! | I17: =SUMIFS(Table217[Общо (EUR)],Table217[Отчетен период],'Финансов отчет по категории'!I$5,Table217[РП №],'Финансов отчет по категории'!$B$14,Table217[Категория разход],'Финансов отчет по категории'!B17) -> 0 | J17: =SUMIFS(Table217[Общо (EUR)],Table217[Отчетен период],'Финансов отчет по категории'!J$5,Table217[РП №],'Финансов отчет по категории'!$B$14,Table217[Категория разход],'Финансов отчет по категории'!B17) -> 0 | K17: =SUMIFS(Table217[Общо (EUR)],Table217[Отчетен период],'Финансов отчет по категории'!K$5,Table217[РП №],'Финансов отчет по категории'!$B$14,Table217[Категория разход],'Финансов отчет по категории'!B17) -> 0 | L17: =SUMIFS(Table217[Общо (EUR)],Table217[Отчетен период],'Финансов отчет по категории'!L$5,Table217[РП №],'Финансов отчет по категории'!$B$14,Table217[Категория разход],'Финансов отчет по категории'!B17) -> 0 | M17: =SUMIFS(Table217[Общо (EUR)],Table217[Отчетен период],'Финансов отчет по категории'!M$5,Table217[РП №],'Финансов отчет по категории'!$B$14,Table217[Категория разход],'Финансов отчет по категории'!B17) -> 0 | N17: =SUMIFS(Table217[Общо (EUR)],Table217[Отчетен период],'Финансов отчет по категории'!N$5,Table217[РП №],'Финансов отчет по категории'!$B$14,Table217[Категория разход],'Финансов отчет по категории'!B17) -> 0 | O17: =SUMIFS(Table217[Общо (EUR)],Table217[Отчетен период],'Финансов отчет по категории'!O$5,Table217[РП №],'Финансов отчет по категории'!$B$14,Table217[Категория разход],'Финансов отчет по категории'!B17) -> 0
B18: D | C18: =C11 -> Инвестиционни разходи | F18: =SUM(I18:O18) -> 0 | G18: =E18-F18 -> 0 | H18: =F18/E18 -> #DIV/0! | I18: =SUMIFS(Table217[Общо (EUR)],Table217[Отчетен период],'Финансов отчет по категории'!I$5,Table217[РП №],'Финансов отчет по категории'!$B$14,Table217[Категория разход],'Финансов отчет по категории'!B18) -> 0 | J18: =SUMIFS(Table217[Общо (EUR)],Table217[Отчетен период],'Финансов отчет по категории'!J$5,Table217[РП №],'Финансов отчет по категории'!$B$14,Table217[Категория разход],'Финансов отчет по категории'!B18) -> 0 | K18: =SUMIFS(Table217[Общо (EUR)],Table217[Отчетен период],'Финансов отчет по категории'!K$5,Table217[РП №],'Финансов отчет по категории'!$B$14,Table217[Категория разход],'Финансов отчет по категории'!B18) -> 0 | L18: =SUMIFS(Table217[Общо (EUR)],Table217[Отчетен период],'Финансов отчет по категории'!L$5,Table217[РП №],'Финансов отчет по категории'!$B$14,Table217[Категория разход],'Финансов отчет по категории'!B18) -> 0 | M18: =SUMIFS(Table217[Общо (EUR)],Table217[Отчетен период],'Финансов отчет по категории'!M$5,Table217[РП №],'Финансов отчет по категории'!$B$14,Table217[Категория разход],'Финансов отчет по категории'!B18) -> 0 | N18: =SUMIFS(Table217[Общо (EUR)],Table217[Отчетен период],'Финансов отчет по категории'!N$5,Table217[РП №],'Финансов отчет по категории'!$B$14,Table217[Категория разход],'Финансов отчет по категории'!B18) -> 0 | O18: =SUMIFS(Table217[Общо (EUR)],Table217[Отчетен период],'Финансов отчет по категории'!O$5,Table217[РП №],'Финансов отчет по категории'!$B$14,Table217[Категория разход],'Финансов отчет по категории'!B18) -> 0
B19: E | C19: =C12 -> Разходи за малки строително-ремонтни дейности | F19: =SUM(I19:O19) -> 0 | G19: =E19-F19 -> 0 | H19: =F19/E19 -> #DIV/0! | I19: =SUMIFS(Table217[Общо (EUR)],Table217[Отчетен период],'Финансов отчет по категории'!I$5,Table217[РП №],'Финансов отчет по категории'!$B$14,Table217[Категория разход],'Финансов отчет по категории'!B19) -> 0 | J19: =SUMIFS(Table217[Общо (EUR)],Table217[Отчетен период],'Финансов отчет по категории'!J$5,Table217[РП №],'Финансов отчет по категории'!$B$14,Table217[Категория разход],'Финансов отчет по категории'!B19) -> 0 | K19: =SUMIFS(Table217[Общо (EUR)],Table217[Отчетен период],'Финансов отчет по категории'!K$5,Table217[РП №],'Финансов отчет по категории'!$B$14,Table217[Категория разход],'Финансов отчет по категории'!B19) -> 0 | L19: =SUMIFS(Table217[Общо (EUR)],Table217[Отчетен период],'Финансов отчет по категории'!L$5,Table217[РП №],'Финансов отчет по категории'!$B$14,Table217[Категория разход],'Финансов отчет по категории'!B19) -> 0 | M19: =SUMIFS(Table217[Общо (EUR)],Table217[Отчетен период],'Финансов отчет по категории'!M$5,Table217[РП №],'Финансов отчет по категории'!$B$14,Table217[Категория разход],'Финансов отчет по категории'!B19) -> 0 | N19: =SUMIFS(Table217[Общо (EUR)],Table217[Отчетен период],'Финансов отчет по категории'!N$5,Table217[РП №],'Финансов отчет по категории'!$B$14,Table217[Категория разход],'Финансов отчет по категории'!B19) -> 0 | O19: =SUMIFS(Table217[Общо (EUR)],Table217[Отчетен период],'Финансов отчет по категории'!O$5,Table217[РП №],'Финансов отчет по категории'!$B$14,Table217[Категория разход],'Финансов отчет по категории'!B19) -> 0
B20: F | C20: =C13 -> Разходи за външни услуги и експертиза | F20: =SUM(I20:O20) -> 0 | G20: =E20-F20 -> 0 | H20: =F20/E20 -> #DIV/0! | I20: =SUMIFS(Table217[Общо (EUR)],Table217[Отчетен период],'Финансов отчет по категории'!I$5,Table217[РП №],'Финансов отчет по категории'!$B$14,Table217[Категория разход],'Финансов отчет по категории'!B20) -> 0 | J20: =SUMIFS(Table217[Общо (EUR)],Table217[Отчетен период],'Финансов отчет по категории'!J$5,Table217[РП №],'Финансов отчет по категории'!$B$14,Table217[Категория разход],'Финансов отчет по категории'!B20) -> 0 | K20: =SUMIFS(Table217[Общо (EUR)],Table217[Отчетен период],'Финансов отчет по категории'!K$5,Table217[РП №],'Финансов отчет по категории'!$B$14,Table217[Категория разход],'Финансов отчет по категории'!B20) -> 0 | L20: =SUMIFS(Table217[Общо (EUR)],Table217[Отчетен период],'Финансов отчет по категории'!L$5,Table217[РП №],'Финансов отчет по категории'!$B$14,Table217[Категория разход],'Финансов отчет по категории'!B20) -> 0 | M20: =SUMIFS(Table217[Общо (EUR)],Table217[Отчетен период],'Финансов отчет по категории'!M$5,Table217[РП №],'Финансов отчет по категории'!$B$14,Table217[Категория разход],'Финансов отчет по категории'!B20) -> 0 | N20: =SUMIFS(Table217[Общо (EUR)],Table217[Отчетен период],'Финансов отчет по категории'!N$5,Table217[РП №],'Финансов отчет по категории'!$B$14,Table217[Категория разход],'Финансов отчет по категории'!B20) -> 0 | O20: =SUMIFS(Table217[Общо (EUR)],Table217[Отчетен период],'Финансов отчет по категории'!O$5,Table217[РП №],'Финансов отчет по категории'!$B$14,Table217[Категория разход],'Финансов отчет по категории'!B20) -> 0
B21: ='Финансов отчет по партньори'!A10 -> РП3 | C21: ='Финансов отчет по партньори'!B10 -> [Въведете име на работен пакет 3] | D21: =SUM(D22:D27) -> 0 | E21: =SUM(E22:E27) -> 0 | F21: =SUM(F22:F27) -> 0 | G21: =E21-F21 -> 0 | H21: =F21/E21 -> #DIV/0! | I21: =SUM(I22:I27) -> 0 | J21: =SUM(J22:J27) -> 0 | K21: =SUM(K22:K27) -> 0 | L21: =SUM(L22:L27) -> 0 | M21: =SUM(M22:M27) -> 0 | N21: =SUM(N22:N27) -> 0 | O21: =SUM(O22:O27) -> 0
B22: A | C22: =C15 -> Разходи за персонал | F22: =SUM(I22:O22) -> 0 | G22: =E22-F22 -> 0 | H22: =F22/E22 -> #DIV/0! | I22: =SUMIFS(Table217[Общо (EUR)],Table217[Отчетен период],'Финансов отчет по категории'!I$5,Table217[РП №],'Финансов отчет по категории'!$B$21,Table217[Категория разход],'Финансов отчет по категории'!B22) -> 0 | J22: =SUMIFS(Table217[Общо (EUR)],Table217[Отчетен период],'Финансов отчет по категории'!J$5,Table217[РП №],'Финансов отчет по категории'!$B$21,Table217[Категория разход],'Финансов отчет по категории'!B22) -> 0 | K22: =SUMIFS(Table217[Общо (EUR)],Table217[Отчетен период],'Финансов отчет по категории'!K$5,Table217[РП №],'Финансов отчет по категории'!$B$21,Table217[Категория разход],'Финансов отчет по категории'!B22) -> 0 | L22: =SUMIFS(Table217[Общо (EUR)],Table217[Отчетен период],'Финансов отчет по категории'!L$5,Table217[РП №],'Финансов отчет по категории'!$B$21,Table217[Категория разход],'Финансов отчет по категории'!B22) -> 0 | M22: =SUMIFS(Table217[Общо (EUR)],Table217[Отчетен период],'Финансов отчет по категории'!M$5,Table217[РП №],'Финансов отчет по категории'!$B$21,Table217[Категория разход],'Финансов отчет по категории'!B22) -> 0 | N22: =SUMIFS(Table217[Общо (EUR)],Table217[Отчетен период],'Финансов отчет по категории'!N$5,Table217[РП №],'Финансов отчет по категории'!$B$21,Table217[Категория разход],'Финансов отчет по категории'!B22) -> 0 | O22: =SUMIFS(Table217[Общо (EUR)],Table217[Отчетен период],'Финансов отчет по категории'!O$5,Table217[РП №],'Финансов отчет по категории'!$B$21,Table217[Категория разход],'Финансов отчет по категории'!B22) -> 0
B23: B | C23: =C16 -> Разходи за пътуване, настаняване и престой | F23: =SUM(I23:O23) -> 0 | G23: =E23-F23 -> 0 | H23: =F23/E23 -> #DIV/0! | I23: =SUMIFS(Table217[Общо (EUR)],Table217[Отчетен период],'Финансов отчет по категории'!I$5,Table217[РП №],'Финансов отчет по категории'!$B$21,Table217[Категория разход],'Финансов отчет по категории'!B23) -> 0 | J23: =SUMIFS(Table217[Общо (EUR)],Table217[Отчетен период],'Финансов отчет по категории'!J$5,Table217[РП №],'Финансов отчет по категории'!$B$21,Table217[Категория разход],'Финансов отчет по категории'!B23) -> 0 | K23: =SUMIFS(Table217[Общо (EUR)],Table217[Отчетен период],'Финансов отчет по категории'!K$5,Table217[РП №],'Финансов отчет по категории'!$B$21,Table217[Категория разход],'Финансов отчет по категории'!B23) -> 0 | L23: =SUMIFS(Table217[Общо (EUR)],Table217[Отчетен период],'Финансов отчет по категории'!L$5,Table217[РП №],'Финансов отчет по категории'!$B$21,Table217[Категория разход],'Финансов отчет по категории'!B23) -> 0 | M23: =SUMIFS(Table217[Общо (EUR)],Table217[Отчетен период],'Финансов отчет по категории'!M$5,Table217[РП №],'Финансов отчет по категории'!$B$21,Table217[Категория разход],'Финансов отчет по категории'!B23) -> 0 | N23: =SUMIFS(Table217[Общо (EUR)],Table217[Отчетен период],'Финансов отчет по категории'!N$5,Table217[РП №],'Финансов отчет по категории'!$B$21,Table217[Категория разход],'Финансов отчет по категории'!B23) -> 0 | O23: =SUMIFS(Table217[Общо (EUR)],Table217[Отчетен период],'Финансов отчет по категории'!O$5,Table217[РП №],'Финансов отчет по категории'!$B$21,Table217[Категория разход],'Финансов отчет по категории'!B23) -> 0
B24: C | C24: =C17 -> Разходи за материали и консумативи | F24: =SUM(I24:O24) -> 0 | G24: =E24-F24 -> 0 | H24: =F24/E24 -> #DIV/0! | I24: =SUMIFS(Table217[Общо (EUR)],Table217[Отчетен период],'Финансов отчет по категории'!I$5,Table217[РП №],'Финансов отчет по категории'!$B$21,Table217[Категория разход],'Финансов отчет по категории'!B24) -> 0 | J24: =SUMIFS(Table217[Общо (EUR)],Table217[Отчетен период],'Финансов отчет по категории'!J$5,Table217[РП №],'Финансов отчет по категории'!$B$21,Table217[Категория разход],'Финансов отчет по категории'!B24) -> 0 | K24: =SUMIFS(Table217[Общо (EUR)],Table217[Отчетен период],'Финансов отчет по категории'!K$5,Table217[РП №],'Финансов отчет по категории'!$B$21,Table217[Категория разход],'Финансов отчет по категории'!B24) -> 0 | L24: =SUMIFS(Table217[Общо (EUR)],Table217[Отчетен период],'Финансов отчет по категории'!L$5,Table217[РП №],'Финансов отчет по категории'!$B$21,Table217[Категория разход],'Финансов отчет по категории'!B24) -> 0 | M24: =SUMIFS(Table217[Общо (EUR)],Table217[Отчетен период],'Финансов отчет по категории'!M$5,Table217[РП №],'Финансов отчет по категории'!$B$21,Table217[Категория разход],'Финансов отчет по категории'!B24) -> 0 | N24: =SUMIFS(Table217[Общо (EUR)],Table217[Отчетен период],'Финансов отчет по категории'!N$5,Table217[РП №],'Финансов отчет по категории'!$B$21,Table217[Категория разход],'Финансов отчет по категории'!B24) -> 0 | O24: =SUMIFS(Table217[Общо (EUR)],Table217[Отчетен период],'Финансов отчет по категории'!O$5,Table217[РП №],'Финансов отчет по категории'!$B$21,Table217[Категория разход],'Финансов отчет по категории'!B24) -> 0
B25: D | C25: =C18 -> Инвестиционни разходи | F25: =SUM(I25:O25) -> 0 | G25: =E25-F25 -> 0 | H25: =F25/E25 -> #DIV/0! | I25: =SUMIFS(Table217[Общо (EUR)],Table217[Отчетен период],'Финансов отчет по категории'!I$5,Table217[РП №],'Финансов отчет по категории'!$B$21,Table217[Категория разход],'Финансов отчет по категории'!B25) -> 0 | J25: =SUMIFS(Table217[Общо (EUR)],Table217[Отчетен период],'Финансов отчет по категории'!J$5,Table217[РП №],'Финансов отчет по категории'!$B$21,Table217[Категория разход],'Финансов отчет по категории'!B25) -> 0 | K25: =SUMIFS(Table217[Общо (EUR)],Table217[Отчетен период],'Финансов отчет по категории'!K$5,Table217[РП №],'Финансов отчет по категории'!$B$21,Table217[Категория разход],'Финансов отчет по категории'!B25) -> 0 | L25: =SUMIFS(Table217[Общо (EUR)],Table217[Отчетен период],'Финансов отчет по категории'!L$5,Table217[РП №],'Финансов отчет по категории'!$B$21,Table217[Категория разход],'Финансов отчет по категории'!B25) -> 0 | M25: =SUMIFS(Table217[Общо (EUR)],Table217[Отчетен период],'Финансов отчет по категории'!M$5,Table217[РП №],'Финансов отчет по категории'!$B$21,Table217[Категория разход],'Финансов отчет по категории'!B25) -> 0 | N25: =SUMIFS(Table217[Общо (EUR)],Table217[Отчетен период],'Финансов отчет по категории'!N$5,Table217[РП №],'Финансов отчет по категории'!$B$21,Table217[Категория разход],'Финансов отчет по категории'!B25) -> 0 | O25: =SUMIFS(Table217[Общо (EUR)],Table217[Отчетен период],'Финансов отчет по категории'!O$5,Table217[РП №],'Финансов отчет по категории'!$B$21,Table217[Категория разход],'Финансов отчет по категории'!B25) -> 0
B26: E | C26: =C19 -> Разходи за малки строително-ремонтни дейности | F26: =SUM(I26:O26) -> 0 | G26: =E26-F26 -> 0 | H26: =F26/E26 -> #DIV/0! | I26: =SUMIFS(Table217[Общо (EUR)],Table217[Отчетен период],'Финансов отчет по категории'!I$5,Table217[РП №],'Финансов отчет по категории'!$B$21,Table217[Категория разход],'Финансов отчет по категории'!B26) -> 0 | J26: =SUMIFS(Table217[Общо (EUR)],Table217[Отчетен период],'Финансов отчет по категории'!J$5,Table217[РП №],'Финансов отчет по категории'!$B$21,Table217[Категория разход],'Финансов отчет по категории'!B26) -> 0 | K26: =SUMIFS(Table217[Общо (EUR)],Table217[Отчетен период],'Финансов отчет по категории'!K$5,Table217[РП №],'Финансов отчет по категории'!$B$21,Table217[Категория разход],'Финансов отчет по категории'!B26) -> 0 | L26: =SUMIFS(Table217[Общо (EUR)],Table217[Отчетен период],'Финансов отчет по категории'!L$5,Table217[РП №],'Финансов отчет по категории'!$B$21,Table217[Категория разход],'Финансов отчет по категории'!B26) -> 0 | M26: =SUMIFS(Table217[Общо (EUR)],Table217[Отчетен период],'Финансов отчет по категории'!M$5,Table217[РП №],'Финансов отчет по категории'!$B$21,Table217[Категория разход],'Финансов отчет по категории'!B26) -> 0 | N26: =SUMIFS(Table217[Общо (EUR)],Table217[Отчетен период],'Финансов отчет по категории'!N$5,Table217[РП №],'Финансов отчет по категории'!$B$21,Table217[Категория разход],'Финансов отчет по категории'!B26) -> 0 | O26: =SUMIFS(Table217[Общо (EUR)],Table217[Отчетен период],'Финансов отчет по категории'!O$5,Table217[РП №],'Финансов отчет по категории'!$B$21,Table217[Категория разход],'Финансов отчет по категории'!B26) -> 0
B27: F | C27: =C20 -> Разходи за външни услуги и експертиза | F27: =SUM(I27:O27) -> 0 | G27: =E27-F27 -> 0 | H27: =F27/E27 -> #DIV/0! | I27: =SUMIFS(Table217[Общо (EUR)],Table217[Отчетен период],'Финансов отчет по категории'!I$5,Table217[РП №],'Финансов отчет по категории'!$B$21,Table217[Категория разход],'Финансов отчет по категории'!B27) -> 0 | J27: =SUMIFS(Table217[Общо (EUR)],Table217[Отчетен период],'Финансов отчет по категории'!J$5,Table217[РП №],'Финансов отчет по категории'!$B$21,Table217[Категория разход],'Финансов отчет по категории'!B27) -> 0 | K27: =SUMIFS(Table217[Общо (EUR)],Table217[Отчетен период],'Финансов отчет по категории'!K$5,Table217[РП №],'Финансов отчет по категории'!$B$21,Table217[Категория разход],'Финансов отчет по категории'!B27) -> 0 | L27: =SUMIFS(Table217[Общо (EUR)],Table217[Отчетен период],'Финансов отчет по категории'!L$5,Table217[РП №],'Финансов отчет по категории'!$B$21,Table217[Категория разход],'Финансов отчет по категории'!B27) -> 0 | M27: =SUMIFS(Table217[Общо (EUR)],Table217[Отчетен период],'Финансов отчет по категории'!M$5,Table217[РП №],'Финансов отчет по категории'!$B$21,Table217[Категория разход],'Финансов отчет по категории'!B27) -> 0 | N27: =SUMIFS(Table217[Общо (EUR)],Table217[Отчетен период],'Финансов отчет по категории'!N$5,Table217[РП №],'Финансов отчет по категории'!$B$21,Table217[Категория разход],'Финансов отчет по категории'!B27) -> 0 | O27: =SUMIFS(Table217[Общо (EUR)],Table217[Отчетен период],'Финансов отчет по категории'!O$5,Table217[РП №],'Финансов отчет по категории'!$B$21,Table217[Категория разход],'Финансов отчет по категории'!B27) -> 0
B28: ='Финансов отчет по партньори'!A11 -> РП4 | C28: ='Финансов отчет по партньори'!B11 -> [Въведете име на работен пакет 4] | D28: =SUM(D29:D34) -> 0 | E28: =SUM(E29:E34) -> 0 | F28: =SUM(F29:F34) -> 0 | G28: =E28-F28 -> 0 | H28: =F28/E28 -> #DIV/0! | I28: =SUM(I29:I34) -> 0 | J28: =SUM(J29:J34) -> 0 | K28: =SUM(K29:K34) -> 0 | L28: =SUM(L29:L34) -> 0 | M28: =SUM(M29:M34) -> 0 | N28: =SUM(N29:N34) -> 0 | O28: =SUM(O29:O34) -> 0
B29: A | C29: =C22 -> Разходи за персонал | F29: =SUM(I29:O29) -> 0 | G29: =E29-F29 -> 0 | H29: =F29/E29 -> #DIV/0! | I29: =SUMIFS(Table217[Общо (EUR)],Table217[Отчетен период],'Финансов отчет по категории'!I$5,Table217[РП №],'Финансов отчет по категории'!$B$28,Table217[Категория разход],'Финансов отчет по категории'!B29) -> 0 | J29: =SUMIFS(Table217[Общо (EUR)],Table217[Отчетен период],'Финансов отчет по категории'!J$5,Table217[РП №],'Финансов отчет по категории'!$B$28,Table217[Категория разход],'Финансов отчет по категории'!B29) -> 0 | K29: =SUMIFS(Table217[Общо (EUR)],Table217[Отчетен период],'Финансов отчет по категории'!K$5,Table217[РП №],'Финансов отчет по категории'!$B$28,Table217[Категория разход],'Финансов отчет по категории'!B29) -> 0 | L29: =SUMIFS(Table217[Общо (EUR)],Table217[Отчетен период],'Финансов отчет по категории'!L$5,Table217[РП №],'Финансов отчет по категории'!$B$28,Table217[Категория разход],'Финансов отчет по категории'!B29) -> 0 | M29: =SUMIFS(Table217[Общо (EUR)],Table217[Отчетен период],'Финансов отчет по категории'!M$5,Table217[РП №],'Финансов отчет по категории'!$B$28,Table217[Категория разход],'Финансов отчет по категории'!B29) -> 0 | N29: =SUMIFS(Table217[Общо (EUR)],Table217[Отчетен период],'Финансов отчет по категории'!N$5,Table217[РП №],'Финансов отчет по категории'!$B$28,Table217[Категория разход],'Финансов отчет по категории'!B29) -> 0 | O29: =SUMIFS(Table217[Общо (EUR)],Table217[Отчетен период],'Финансов отчет по категории'!O$5,Table217[РП №],'Финансов отчет по категории'!$B$28,Table217[Категория разход],'Финансов отчет по категории'!B29) -> 0
B30: B | C30: =C23 -> Разходи за пътуване, настаняване и престой | F30: =SUM(I30:O30) -> 0 | G30: =E30-F30 -> 0 | H30: =F30/E30 -> #DIV/0! | I30: =SUMIFS(Table217[Общо (EUR)],Table217[Отчетен период],'Финансов отчет по категории'!I$5,Table217[РП №],'Финансов отчет по категории'!$B$28,Table217[Категория разход],'Финансов отчет по категории'!B30) -> 0 | J30: =SUMIFS(Table217[Общо (EUR)],Table217[Отчетен период],'Финансов отчет по категории'!J$5,Table217[РП №],'Финансов отчет по категории'!$B$28,Table217[Категория разход],'Финансов отчет по категории'!B30) -> 0 | K30: =SUMIFS(Table217[Общо (EUR)],Table217[Отчетен период],'Финансов отчет по категории'!K$5,Table217[РП №],'Финансов отчет по категории'!$B$28,Table217[Категория разход],'Финансов отчет по категории'!B30) -> 0 | L30: =SUMIFS(Table217[Общо (EUR)],Table217[Отчетен период],'Финансов отчет по категории'!L$5,Table217[РП №],'Финансов отчет по категории'!$B$28,Table217[Категория разход],'Финансов отчет по категории'!B30) -> 0 | M30: =SUMIFS(Table217[Общо (EUR)],Table217[Отчетен период],'Финансов отчет по категории'!M$5,Table217[РП №],'Финансов отчет по категории'!$B$28,Table217[Категория разход],'Финансов отчет по категории'!B30) -> 0 | N30: =SUMIFS(Table217[Общо (EUR)],Table217[Отчетен период],'Финансов отчет по категории'!N$5,Table217[РП №],'Финансов отчет по категории'!$B$28,Table217[Категория разход],'Финансов отчет по категории'!B30) -> 0 | O30: =SUMIFS(Table217[Общо (EUR)],Table217[Отчетен период],'Финансов отчет по категории'!O$5,Table217[РП №],'Финансов отчет по категории'!$B$28,Table217[Категория разход],'Финансов отчет по категории'!B30) -> 0
B31: C | C31: =C24 -> Разходи за материали и консумативи | F31: =SUM(I31:O31) -> 0 | G31: =E31-F31 -> 0 | H31: =F31/E31 -> #DIV/0! | I31: =SUMIFS(Table217[Общо (EUR)],Table217[Отчетен период],'Финансов отчет по категории'!I$5,Table217[РП №],'Финансов отчет по категории'!$B$28,Table217[Категория разход],'Финансов отчет по категории'!B31) -> 0 | J31: =SUMIFS(Table217[Общо (EUR)],Table217[Отчетен период],'Финансов отчет по категории'!J$5,Table217[РП №],'Финансов отчет по категории'!$B$28,Table217[Категория разход],'Финансов отчет по категории'!B31) -> 0 | K31: =SUMIFS(Table217[Общо (EUR)],Table217[Отчетен период],'Финансов отчет по категории'!K$5,Table217[РП №],'Финансов отчет по категории'!$B$28,Table217[Категория разход],'Финансов отчет по категории'!B31) -> 0 | L31: =SUMIFS(Table217[Общо (EUR)],Table217[Отчетен период],'Финансов отчет по категории'!L$5,Table217[РП №],'Финансов отчет по категории'!$B$28,Table217[Категория разход],'Финансов отчет по категории'!B31) -> 0 | M31: =SUMIFS(Table217[Общо (EUR)],Table217[Отчетен период],'Финансов отчет по категории'!M$5,Table217[РП №],'Финансов отчет по категории'!$B$28,Table217[Категория разход],'Финансов отчет по категории'!B31) -> 0 | N31: =SUMIFS(Table217[Общо (EUR)],Table217[Отчетен период],'Финансов отчет по категории'!N$5,Table217[РП №],'Финансов отчет по категории'!$B$28,Table217[Категория разход],'Финансов отчет по категории'!B31) -> 0 | O31: =SUMIFS(Table217[Общо (EUR)],Table217[Отчетен период],'Финансов отчет по категории'!O$5,Table217[РП №],'Финансов отчет по категории'!$B$28,Table217[Категория разход],'Финансов отчет по категории'!B31) -> 0
B32: D | C32: =C25 -> Инвестиционни разходи | F32: =SUM(I32:O32) -> 0 | G32: =E32-F32 -> 0 | H32: =F32/E32 -> #DIV/0! | I32: =SUMIFS(Table217[Общо (EUR)],Table217[Отчетен период],'Финансов отчет по категории'!I$5,Table217[РП №],'Финансов отчет по категории'!$B$28,Table217[Категория разход],'Финансов отчет по категории'!B32) -> 0 | J32: =SUMIFS(Table217[Общо (EUR)],Table217[Отчетен период],'Финансов отчет по категории'!J$5,Table217[РП №],'Финансов отчет по категории'!$B$28,Table217[Категория разход],'Финансов отчет по категории'!B32) -> 0 | K32: =SUMIFS(Table217[Общо (EUR)],Table217[Отчетен период],'Финансов отчет по категории'!K$5,Table217[РП №],'Финансов отчет по категории'!$B$28,Table217[Категория разход],'Финансов отчет по категории'!B32) -> 0 | L32: =SUMIFS(Table217[Общо (EUR)],Table217[Отчетен период],'Финансов отчет по категории'!L$5,Table217[РП №],'Финансов отчет по категории'!$B$28,Table217[Категория разход],'Финансов отчет по категории'!B32) -> 0 | M32: =SUMIFS(Table217[Общо (EUR)],Table217[Отчетен период],'Финансов отчет по категории'!M$5,Table217[РП №],'Финансов отчет по категории'!$B$28,Table217[Категория разход],'Финансов отчет по категории'!B32) -> 0 | N32: =SUMIFS(Table217[Общо (EUR)],Table217[Отчетен период],'Финансов отчет по категории'!N$5,Table217[РП №],'Финансов отчет по категории'!$B$28,Table217[Категория разход],'Финансов отчет по категории'!B32) -> 0 | O32: =SUMIFS(Table217[Общо (EUR)],Table217[Отчетен период],'Финансов отчет по категории'!O$5,Table217[РП №],'Финансов отчет по категории'!$B$28,Table217[Категория разход],'Финансов отчет по категории'!B32) -> 0
B33: E | C33: =C26 -> Разходи за малки строително-ремонтни дейности | F33: =SUM(I33:O33) -> 0 | G33: =E33-F33 -> 0 | H33: =F33/E33 -> #DIV/0! | I33: =SUMIFS(Table217[Общо (EUR)],Table217[Отчетен период],'Финансов отчет по категории'!I$5,Table217[РП №],'Финансов отчет по категории'!$B$28,Table217[Категория разход],'Финансов отчет по категории'!B33) -> 0 | J33: =SUMIFS(Table217[Общо (EUR)],Table217[Отчетен период],'Финансов отчет по категории'!J$5,Table217[РП №],'Финансов отчет по категории'!$B$28,Table217[Категория разход],'Финансов отчет по категории'!B33) -> 0 | K33: =SUMIFS(Table217[Общо (EUR)],Table217[Отчетен период],'Финансов отчет по категории'!K$5,Table217[РП №],'Финансов отчет по категории'!$B$28,Table217[Категория разход],'Финансов отчет по категории'!B33) -> 0 | L33: =SUMIFS(Table217[Общо (EUR)],Table217[Отчетен период],'Финансов отчет по категории'!L$5,Table217[РП №],'Финансов отчет по категории'!$B$28,Table217[Категория разход],'Финансов отчет по категории'!B33) -> 0 | M33: =SUMIFS(Table217[Общо (EUR)],Table217[Отчетен период],'Финансов отчет по категории'!M$5,Table217[РП №],'Финансов отчет по категории'!$B$28,Table217[Категория разход],'Финансов отчет по категории'!B33) -> 0 | N33: =SUMIFS(Table217[Общо (EUR)],Table217[Отчетен период],'Финансов отчет по категории'!N$5,Table217[РП №],'Финансов отчет по категории'!$B$28,Table217[Категория разход],'Финансов отчет по категории'!B33) -> 0 | O33: =SUMIFS(Table217[Общо (EUR)],Table217[Отчетен период],'Финансов отчет по категории'!O$5,Table217[РП №],'Финансов отчет по категории'!$B$28,Table217[Категория разход],'Финансов отчет по категории'!B33) -> 0
B34: F | C34: =C27 -> Разходи за външни услуги и експертиза | F34: =SUM(I34:O34) -> 0 | G34: =E34-F34 -> 0 | H34: =F34/E34 -> #DIV/0! | I34: =SUMIFS(Table217[Общо (EUR)],Table217[Отчетен период],'Финансов отчет по категории'!I$5,Table217[РП №],'Финансов отчет по категории'!$B$28,Table217[Категория разход],'Финансов отчет по категории'!B34) -> 0 | J34: =SUMIFS(Table217[Общо (EUR)],Table217[Отчетен период],'Финансов отчет по категории'!J$5,Table217[РП №],'Финансов отчет по категории'!$B$28,Table217[Категория разход],'Финансов отчет по категории'!B34) -> 0 | K34: =SUMIFS(Table217[Общо (EUR)],Table217[Отчетен период],'Финансов отчет по категории'!K$5,Table217[РП №],'Финансов отчет по категории'!$B$28,Table217[Категория разход],'Финансов отчет по категории'!B34) -> 0 | L34: =SUMIFS(Table217[Общо (EUR)],Table217[Отчетен период],'Финансов отчет по категории'!L$5,Table217[РП №],'Финансов отчет по категории'!$B$28,Table217[Категория разход],'Финансов отчет по категории'!B34) -> 0 | M34: =SUMIFS(Table217[Общо (EUR)],Table217[Отчетен период],'Финансов отчет по категории'!M$5,Table217[РП №],'Финансов отчет по категории'!$B$28,Table217[Категория разход],'Финансов отчет по категории'!B34) -> 0 | N34: =SUMIFS(Table217[Общо (EUR)],Table217[Отчетен период],'Финансов отчет по категории'!N$5,Table217[РП №],'Финансов отчет по категории'!$B$28,Table217[Категория разход],'Финансов отчет по категории'!B34) -> 0 | O34: =SUMIFS(Table217[Общо (EUR)],Table217[Отчетен период],'Финансов отчет по категории'!O$5,Table217[РП №],'Финансов отчет по категории'!$B$28,Table217[Категория разход],'Финансов отчет по категории'!B34) -> 0
B35: ='Финансов отчет по партньори'!A12 -> РП5 | C35: ='Финансов отчет по партньори'!B12 -> [Въведете име на работен пакет 5 - ако е приложимо] | D35: =SUM(D36:D41) -> 0 | E35: =SUM(E36:E41) -> 0 | F35: =SUM(F36:F41) -> 0 | G35: =E35-F35 -> 0 | H35: =F35/E35 -> #DIV/0! | I35: =SUM(I36:I41) -> 0 | J35: =SUM(J36:J41) -> 0 | K35: =SUM(K36:K41) -> 0 | L35: =SUM(L36:L41) -> 0 | M35: =SUM(M36:M41) -> 0 | N35: =SUM(N36:N41) -> 0 | O35: =SUM(O36:O41) -> 0
B36: A | C36: =C29 -> Разходи за персонал | F36: =SUM(I36:O36) -> 0 | G36: =E36-F36 -> 0 | H36: =F36/E36 -> #DIV/0! | I36: =SUMIFS(Table217[Общо (EUR)],Table217[Отчетен период],'Финансов отчет по категории'!I$5,Table217[РП №],'Финансов отчет по категории'!$B$35,Table217[Категория разход],'Финансов отчет по категории'!B36) -> 0 | J36: =SUMIFS(Table217[Общо (EUR)],Table217[Отчетен период],'Финансов отчет по категории'!J$5,Table217[РП №],'Финансов отчет по категории'!$B$35,Table217[Категория разход],'Финансов отчет по категории'!B36) -> 0 | K36: =SUMIFS(Table217[Общо (EUR)],Table217[Отчетен период],'Финансов отчет по категории'!K$5,Table217[РП №],'Финансов отчет по категории'!$B$35,Table217[Категория разход],'Финансов отчет по категории'!B36) -> 0 | L36: =SUMIFS(Table217[Общо (EUR)],Table217[Отчетен период],'Финансов отчет по категории'!L$5,Table217[РП №],'Финансов отчет по категории'!$B$35,Table217[Категория разход],'Финансов отчет по категории'!B36) -> 0 | M36: =SUMIFS(Table217[Общо (EUR)],Table217[Отчетен период],'Финансов отчет по категории'!M$5,Table217[РП №],'Финансов отчет по категории'!$B$35,Table217[Категория разход],'Финансов отчет по категории'!B36) -> 0 | N36: =SUMIFS(Table217[Общо (EUR)],Table217[Отчетен период],'Финансов отчет по категории'!N$5,Table217[РП №],'Финансов отчет по категории'!$B$35,Table217[Категория разход],'Финансов отчет по категории'!B36) -> 0 | O36: =SUMIFS(Table217[Общо (EUR)],Table217[Отчетен период],'Финансов отчет по категории'!O$5,Table217[РП №],'Финансов отчет по категории'!$B$35,Table217[Категория разход],'Финансов отчет по категории'!B36) -> 0
B37: B | C37: =C30 -> Разходи за пътуване, настаняване и престой | F37: =SUM(I37:O37) -> 0 | G37: =E37-F37 -> 0 | H37: =F37/E37 -> #DIV/0! | I37: =SUMIFS(Table217[Общо (EUR)],Table217[Отчетен период],'Финансов отчет по категории'!I$5,Table217[РП №],'Финансов отчет по категории'!$B$35,Table217[Категория разход],'Финансов отчет по категории'!B37) -> 0 | J37: =SUMIFS(Table217[Общо (EUR)],Table217[Отчетен период],'Финансов отчет по категории'!J$5,Table217[РП №],'Финансов отчет по категории'!$B$35,Table217[Категория разход],'Финансов отчет по категории'!B37) -> 0 | K37: =SUMIFS(Table217[Общо (EUR)],Table217[Отчетен период],'Финансов отчет по категории'!K$5,Table217[РП №],'Финансов отчет по категории'!$B$35,Table217[Категория разход],'Финансов отчет по категории'!B37) -> 0 | L37: =SUMIFS(Table217[Общо (EUR)],Table217[Отчетен период],'Финансов отчет по категории'!L$5,Table217[РП №],'Финансов отчет по категории'!$B$35,Table217[Категория разход],'Финансов отчет по категории'!B37) -> 0 | M37: =SUMIFS(Table217[Общо (EUR)],Table217[Отчетен период],'Финансов отчет по категории'!M$5,Table217[РП №],'Финансов отчет по категории'!$B$35,Table217[Категория разход],'Финансов отчет по категории'!B37) -> 0 | N37: =SUMIFS(Table217[Общо (EUR)],Table217[Отчетен период],'Финансов отчет по категории'!N$5,Table217[РП №],'Финансов отчет по категории'!$B$35,Table217[Категория разход],'Финансов отчет по категории'!B37) -> 0 | O37: =SUMIFS(Table217[Общо (EUR)],Table217[Отчетен период],'Финансов отчет по категории'!O$5,Table217[РП №],'Финансов отчет по категории'!$B$35,Table217[Категория разход],'Финансов отчет по категории'!B37) -> 0
B38: C | C38: =C31 -> Разходи за материали и консумативи | F38: =SUM(I38:O38) -> 0 | G38: =E38-F38 -> 0 | H38: =F38/E38 -> #DIV/0! | I38: =SUMIFS(Table217[Общо (EUR)],Table217[Отчетен период],'Финансов отчет по категории'!I$5,Table217[РП №],'Финансов отчет по категории'!$B$35,Table217[Категория разход],'Финансов отчет по категории'!B38) -> 0 | J38: =SUMIFS(Table217[Общо (EUR)],Table217[Отчетен период],'Финансов отчет по категории'!J$5,Table217[РП №],'Финансов отчет по категории'!$B$35,Table217[Категория разход],'Финансов отчет по категории'!B38) -> 0 | K38: =SUMIFS(Table217[Общо (EUR)],Table217[Отчетен период],'Финансов отчет по категории'!K$5,Table217[РП №],'Финансов отчет по категории'!$B$35,Table217[Категория разход],'Финансов отчет по категории'!B38) -> 0 | L38: =SUMIFS(Table217[Общо (EUR)],Table217[Отчетен период],'Финансов отчет по категории'!L$5,Table217[РП №],'Финансов отчет по категории'!$B$35,Table217[Категория разход],'Финансов отчет по категории'!B38) -> 0 | M38: =SUMIFS(Table217[Общо (EUR)],Table217[Отчетен период],'Финансов отчет по категории'!M$5,Table217[РП №],'Финансов отчет по категории'!$B$35,Table217[Категория разход],'Финансов отчет по категории'!B38) -> 0 | N38: =SUMIFS(Table217[Общо (EUR)],Table217[Отчетен период],'Финансов отчет по категории'!N$5,Table217[РП №],'Финансов отчет по категории'!$B$35,Table217[Категория разход],'Финансов отчет по категории'!B38) -> 0 | O38: =SUMIFS(Table217[Общо (EUR)],Table217[Отчетен период],'Финансов отчет по категории'!O$5,Table217[РП №],'Финансов отчет по категории'!$B$35,Table217[Категория разход],'Финансов отчет по категории'!B38) -> 0
B39: D | C39: =C32 -> Инвестиционни разходи | F39: =SUM(I39:O39) -> 0 | G39: =E39-F39 -> 0 | H39: =F39/E39 -> #DIV/0! | I39: =SUMIFS(Table217[Общо (EUR)],Table217[Отчетен период],'Финансов отчет по категории'!I$5,Table217[РП №],'Финансов отчет по категории'!$B$35,Table217[Категория разход],'Финансов отчет по категории'!B39) -> 0 | J39: =SUMIFS(Table217[Общо (EUR)],Table217[Отчетен период],'Финансов отчет по категории'!J$5,Table217[РП №],'Финансов отчет по категории'!$B$35,Table217[Категория разход],'Финансов отчет по категории'!B39) -> 0 | K39: =SUMIFS(Table217[Общо (EUR)],Table217[Отчетен период],'Финансов отчет по категории'!K$5,Table217[РП №],'Финансов отчет по категории'!$B$35,Table217[Категория разход],'Финансов отчет по категории'!B39) -> 0 | L39: =SUMIFS(Table217[Общо (EUR)],Table217[Отчетен период],'Финансов отчет по категории'!L$5,Table217[РП №],'Финансов отчет по категории'!$B$35,Table217[Категория разход],'Финансов отчет по категории'!B39) -> 0 | M39: =SUMIFS(Table217[Общо (EUR)],Table217[Отчетен период],'Финансов отчет по категории'!M$5,Table217[РП №],'Финансов отчет по категории'!$B$35,Table217[Категория разход],'Финансов отчет по категории'!B39) -> 0 | N39: =SUMIFS(Table217[Общо (EUR)],Table217[Отчетен период],'Финансов отчет по категории'!N$5,Table217[РП №],'Финансов отчет по категории'!$B$35,Table217[Категория разход],'Финансов отчет по категории'!B39) -> 0 | O39: =SUMIFS(Table217[Общо (EUR)],Table217[Отчетен период],'Финансов отчет по категории'!O$5,Table217[РП №],'Финансов отчет по категории'!$B$35,Table217[Категория разход],'Финансов отчет по категории'!B39) -> 0
